BEGIN:VCALENDAR
VERSION:2.0
PRODID:-//Explore Washington Park - ECPv6.15.18//NONSGML v1.0//EN
CALSCALE:GREGORIAN
METHOD:PUBLISH
X-WR-CALNAME:Explore Washington Park
X-ORIGINAL-URL:https://explorewashingtonpark.org
X-WR-CALDESC:Events for Explore Washington Park
REFRESH-INTERVAL;VALUE=DURATION:PT1H
X-Robots-Tag:noindex
X-PUBLISHED-TTL:PT1H
BEGIN:VTIMEZONE
TZID:America/Los_Angeles
BEGIN:DAYLIGHT
TZOFFSETFROM:-0800
TZOFFSETTO:-0700
TZNAME:PDT
DTSTART:20240310T100000
END:DAYLIGHT
BEGIN:STANDARD
TZOFFSETFROM:-0700
TZOFFSETTO:-0800
TZNAME:PST
DTSTART:20241103T090000
END:STANDARD
BEGIN:DAYLIGHT
TZOFFSETFROM:-0800
TZOFFSETTO:-0700
TZNAME:PDT
DTSTART:20250309T100000
END:DAYLIGHT
BEGIN:STANDARD
TZOFFSETFROM:-0700
TZOFFSETTO:-0800
TZNAME:PST
DTSTART:20251102T090000
END:STANDARD
BEGIN:DAYLIGHT
TZOFFSETFROM:-0800
TZOFFSETTO:-0700
TZNAME:PDT
DTSTART:20260308T100000
END:DAYLIGHT
BEGIN:STANDARD
TZOFFSETFROM:-0700
TZOFFSETTO:-0800
TZNAME:PST
DTSTART:20261101T090000
END:STANDARD
END:VTIMEZONE
BEGIN:VEVENT
DTSTART;TZID=America/Los_Angeles:20250208T100000
DTEND;TZID=America/Los_Angeles:20250609T153000
DTSTAMP:20260422T144559
CREATED:20250123T010224Z
LAST-MODIFIED:20250210T220115Z
UID:10002169-1739008800-1749483000@explorewashingtonpark.org
SUMMARY:Earthen Elegance: The Ceramic Art of Bizen
DESCRIPTION:This February\, Portland Japanese Garden is pleased to present Earthen Elegance: The Ceramic Art of Bizen in the Pavilion Gallery. On loan from the Collection of David Sneider and Naomi Pollock\, this exhibition celebrates contemporary ceramic art and vessels that preserve a time-honored collaboration of earth\, fire\, and the artist’s hand. Recognized as one of the Rokkoyō (六石窯) Six Ancient Kilns of Japan\, Bizen is a ceramic center that has continued its unique form of pottery for over 900 years. Notable for their rustic\, textured\, and unglazed forms\, the ceramics featured in Earthen Elegance reveal the depths of the Bizen pottery tradition. Today the town of Bizen hosts nearly 300 active kilns with artists continuing to use local materials and an ancient wood-firing process. Featuring work by many of Bizen’s leading potters including Jun Isezaki and Ryuichi Kakurezaki\, the exhibition presents both functional vessels and innovative sculptural forms that expand the frontier of Bizen ware.
URL:https://explorewashingtonpark.org/event/earthen-elegance-the-ceramic-art-of-bizen/
LOCATION:Portland Japanese Garden\, 611 SW Kingston Ave\, Portland\, OR\, 97205\, United States
END:VEVENT
BEGIN:VEVENT
DTSTART;TZID=America/Los_Angeles:20250501T100000
DTEND;TZID=America/Los_Angeles:20250608T160000
DTSTAMP:20260422T144559
CREATED:20250418T183716Z
LAST-MODIFIED:20250505T201100Z
UID:10002318-1746093600-1749398400@explorewashingtonpark.org
SUMMARY:What the Log Saw: Honoring the legacy of Catherine "The Log Lady" Coulson: Pop-Up Exhibit
DESCRIPTION:This pop-up exhibit honors the legacy of Catherine Coulson\, who brought the iconic character of Margaret “The Log Lady” Lanterman to life\, and explores how she took that role beyond the screen to make a real-world impact in her communities. Through this unique exhibit\, you’ll delve into the character and backstory of Margaret\, “The Log Lady\,” and learn how Catherine Coulson\, deeply moved by her character’s trauma\, used it as a platform to advocate for wildfire prevention and educate her community about the importance of protecting the forests she loved. Included with admission or membership to the Discovery Museum.
URL:https://explorewashingtonpark.org/event/what-the-log-saw-honoring-the-legacy-of-catherine-the-log-lady-coulson-pop-up-exhibit/
LOCATION:Discovery Museum\, 4033 SW Canyon Rd\, Portland\, OR\, 97221\, United States
END:VEVENT
BEGIN:VEVENT
DTSTART;TZID=America/Los_Angeles:20250528T131500
DTEND;TZID=America/Los_Angeles:20250528T140000
DTSTAMP:20260422T144559
CREATED:20250404T163901Z
LAST-MODIFIED:20250505T202010Z
UID:10002301-1748438100-1748440800@explorewashingtonpark.org
SUMMARY:Cultural Demonstration: Tea Ceremony
DESCRIPTION:Portland Japanese Garden will offer free public demonstrations of Chadō\, the Way of Tea\, at the Cathy Rudd Cultural Corner in the Jordan Schnitzer Japanese Arts Learning Center at 1:15 and 2:00pm. The Way of Tea is intrinsically linked to Japanese gardens and understanding the kokoro (heart) of Japanese gardening.
URL:https://explorewashingtonpark.org/event/cultural-demonstration-tea-ceremony-118/
LOCATION:Portland Japanese Garden\, 611 SW Kingston Ave\, Portland\, OR\, 97205\, United States
END:VEVENT
BEGIN:VEVENT
DTSTART;TZID=America/Los_Angeles:20250528T140000
DTEND;TZID=America/Los_Angeles:20250528T161500
DTSTAMP:20260422T144559
CREATED:20250404T163902Z
LAST-MODIFIED:20250505T202011Z
UID:10002302-1748440800-1748448900@explorewashingtonpark.org
SUMMARY:Tea Ceremony Workshop: Learn the Role of the Guest with Jan Waldmann
DESCRIPTION:Portland Japanese Garden’s Tea Ceremony Workshop offers a unique opportunity to immerse yourself in the traditional practice of Chanoyu\, or the Way of Tea. Experience the art of tranquility\, mindfulness\, and omotenashi\, whole-hearted hospitality. It is not an exaggeration to say that through tea\, one can understand much of Japanese culture. Tea’s influence can be found in many of the nation’s most beloved artforms\, including  arranging flowers\, calligraphy\, incense\, ceramics and lacquerware. Japanese gardens are also deeply intertwined with tea ceremony. The four principles of tea\, wa (harmony)\, kei (respect)\, sei (purity)\, and jaku (tranquility)\, are explored by the gardeners of Portland Japanese Garden in their work every day.
URL:https://explorewashingtonpark.org/event/tea-ceremony-workshop-learn-the-role-of-the-guest-with-jan-waldmann/
LOCATION:Portland Japanese Garden\, 611 SW Kingston Ave\, Portland\, OR\, 97205\, United States
END:VEVENT
END:VCALENDAR