BEGIN:VCALENDAR
VERSION:2.0
PRODID:-//Explore Washington Park - ECPv6.15.18//NONSGML v1.0//EN
CALSCALE:GREGORIAN
METHOD:PUBLISH
X-WR-CALNAME:Explore Washington Park
X-ORIGINAL-URL:https://explorewashingtonpark.org
X-WR-CALDESC:Events for Explore Washington Park
REFRESH-INTERVAL;VALUE=DURATION:PT1H
X-Robots-Tag:noindex
X-PUBLISHED-TTL:PT1H
BEGIN:VTIMEZONE
TZID:America/Los_Angeles
BEGIN:DAYLIGHT
TZOFFSETFROM:-0800
TZOFFSETTO:-0700
TZNAME:PDT
DTSTART:20240310T100000
END:DAYLIGHT
BEGIN:STANDARD
TZOFFSETFROM:-0700
TZOFFSETTO:-0800
TZNAME:PST
DTSTART:20241103T090000
END:STANDARD
BEGIN:DAYLIGHT
TZOFFSETFROM:-0800
TZOFFSETTO:-0700
TZNAME:PDT
DTSTART:20250309T100000
END:DAYLIGHT
BEGIN:STANDARD
TZOFFSETFROM:-0700
TZOFFSETTO:-0800
TZNAME:PST
DTSTART:20251102T090000
END:STANDARD
BEGIN:DAYLIGHT
TZOFFSETFROM:-0800
TZOFFSETTO:-0700
TZNAME:PDT
DTSTART:20260308T100000
END:DAYLIGHT
BEGIN:STANDARD
TZOFFSETFROM:-0700
TZOFFSETTO:-0800
TZNAME:PST
DTSTART:20261101T090000
END:STANDARD
BEGIN:DAYLIGHT
TZOFFSETFROM:-0800
TZOFFSETTO:-0700
TZNAME:PDT
DTSTART:20270314T100000
END:DAYLIGHT
BEGIN:STANDARD
TZOFFSETFROM:-0700
TZOFFSETTO:-0800
TZNAME:PST
DTSTART:20271107T090000
END:STANDARD
END:VTIMEZONE
BEGIN:VEVENT
DTSTART;TZID=America/Los_Angeles:20250530T100000
DTEND;TZID=America/Los_Angeles:20260104T160000
DTSTAMP:20260422T144431
CREATED:20250418T184125Z
LAST-MODIFIED:20250505T202108Z
UID:10002347-1748599200-1767542400@explorewashingtonpark.org
SUMMARY:Sasquatch: Ancestral Guardians
DESCRIPTION:“We must walk lightly when we are between worlds with this sacred being.”  – Phillip Cash Cash   Indigenous peoples have long been in relationship with and shared stories about sacred forest protectors\, often called Sasquatch and Bigfoot. The works in this exhibition are made by Indigenous artists and honor generations of spiritual practices\, storytelling\, and tradition. Leave your preconceived notions behind and immerse yourself\, not in the question of if Sasquatch exists\, but rather\, how are we existing with and honoring this non-human other.
URL:https://explorewashingtonpark.org/event/sasquatch-ancestral-guardians/
LOCATION:Discovery Museum\, 4033 SW Canyon Rd\, Portland\, OR\, 97221\, United States
CATEGORIES:Family Fun
END:VEVENT
BEGIN:VEVENT
DTSTART;TZID=America/Los_Angeles:20250707T090000
DTEND;TZID=America/Los_Angeles:20250707T110000
DTSTAMP:20260422T144431
CREATED:20250630T174356Z
LAST-MODIFIED:20250721T205700Z
UID:10002416-1751878800-1751886000@explorewashingtonpark.org
SUMMARY:MAC Trail Volunteers
DESCRIPTION:Washington Park offers recreation opportunities for all visitors\, with the MAC Trail running through it to provide access to the park’s many amenities and activities. This event will focus on managing invasive plants along the trail. We will spend the morning removing disruptive plants\, hand-weeding\, and performing other basic land care tasks. Volunteers of all skill levels and abilities are welcome; no previous experience is necessary. Portland Parks & Recreation will provide training\, tools\, gloves\, and parking passes for all participants. These events run rain or shine\, and additional information will be sent out before the event date. Registration is required. Meeting Location: Grass area near the Oregon Holocaust Memorial restroom building. Follow the arrows to the work site.
URL:https://explorewashingtonpark.org/event/mac-trail-volunteers-7/
LOCATION:Washington Park\, 4033 SW Canyon Rd\, Portland\, OR\, 97221\, United States
END:VEVENT
BEGIN:VEVENT
DTSTART;TZID=America/Los_Angeles:20250707T100000
DTEND;TZID=America/Los_Angeles:20250707T111500
DTSTAMP:20260422T144431
CREATED:20250630T174255Z
LAST-MODIFIED:20250721T205600Z
UID:10002412-1751882400-1751886900@explorewashingtonpark.org
SUMMARY:Tree Time! Preschool Walk
DESCRIPTION:Tree Time! preschool walks are a safe and fun way to get outside with your little one. Come join us for a story and guided walk on the trails at Hoyt Arboretum. We will use all of our senses to explore the natural surroundings and maybe even get our hands dirty! Staff and trained Arboretum volunteers will introduce you and your family to the plants\, trees\, insects\, mushrooms\, and more found at Hoyt Arboretum. This event is coordinated by Hoyt Arboretum\, and registration is required through their website.
URL:https://explorewashingtonpark.org/event/tree-time-preschool-walk-265/
LOCATION:Hoyt Arboretum\, 4000 SW Fairview Blvd\, Portland\, OR\, 97221\, United States
CATEGORIES:Outdoors
END:VEVENT
BEGIN:VEVENT
DTSTART;TZID=America/Los_Angeles:20250707T130000
DTEND;TZID=America/Los_Angeles:20250707T150000
DTSTAMP:20260422T144431
CREATED:20250630T174256Z
LAST-MODIFIED:20250721T205600Z
UID:10002413-1751893200-1751900400@explorewashingtonpark.org
SUMMARY:Nature Journaling (outdoors\, 4 week series)
DESCRIPTION:Nature connection and creative expression meet in weekly Nature Journaling experiences led by artist Elizabeth Higgins\, in-person and outdoors. With prompts and gentle guidance\, students will explore a different area of the Arboretum each week\, recording their observations and inspirations through writing and drawing exercises centered on themes of appreciation and curiosity. No experience is necessary. Bring a sketchbook\, writing tools and any other painting or drawing supplies you enjoy using. We will meet in front of the Visitor Center and from there\, hike out to various parts of the park with our materials. If you wish\, please bring something small and lightweight to sit on the ground with\, such as a towel or small blanket. This event is coordinated by Hoyt Arboretum\, and registration is required through their website.
URL:https://explorewashingtonpark.org/event/nature-journaling-outdoors-4-week-series/
LOCATION:Hoyt Arboretum\, 4000 SW Fairview Blvd\, Portland\, OR\, 97221\, United States
END:VEVENT
BEGIN:VEVENT
DTSTART;TZID=America/Los_Angeles:20250707T140000
DTEND;TZID=America/Los_Angeles:20250707T150000
DTSTAMP:20260422T144431
CREATED:20250630T174355Z
LAST-MODIFIED:20250721T205659Z
UID:10002414-1751896800-1751900400@explorewashingtonpark.org
SUMMARY:Tai Chi: Introduction to Better Balance
DESCRIPTION:Many tai chi moves use images from nature—stable as a pine\, flowing like a river\, hands moving as clouds. Enjoying tai chi in the Arboretum allows us to connect deeply to that imagery. Each week we will explore movements which are relaxing\, help improve focus and balance\, and nurture rooted in the moment. This event is coordinated by Hoyt Arboretum\, and registration is required through their website.
URL:https://explorewashingtonpark.org/event/tai-chi-introduction-to-better-balance-3/
LOCATION:Hoyt Arboretum\, 4000 SW Fairview Blvd\, Portland\, OR\, 97221\, United States
END:VEVENT
BEGIN:VEVENT
DTSTART;TZID=America/Los_Angeles:20250707T173000
DTEND;TZID=America/Los_Angeles:20250707T200000
DTSTAMP:20260422T144431
CREATED:20250630T174355Z
LAST-MODIFIED:20250721T205659Z
UID:10002415-1751909400-1751918400@explorewashingtonpark.org
SUMMARY:Extended Member Hours
DESCRIPTION:Members are invited to experience the Garden during special seasonal extended hours. Take advantage of the longer evenings to enjoy the Garden\, without the crowds. Member reservations are not required in advance\, but a ticket is required during Member Hours.* Members are also welcome to enter during regular Garden hours and stay for extended hours.
URL:https://explorewashingtonpark.org/event/extended-member-hours-24/
LOCATION:Portland Japanese Garden\, 611 SW Kingston Ave\, Portland\, OR\, 97205\, United States
END:VEVENT
END:VCALENDAR