BEGIN:VCALENDAR
VERSION:2.0
PRODID:-//Explore Washington Park - ECPv6.15.18//NONSGML v1.0//EN
CALSCALE:GREGORIAN
METHOD:PUBLISH
X-ORIGINAL-URL:https://explorewashingtonpark.org
X-WR-CALDESC:Events for Explore Washington Park
REFRESH-INTERVAL;VALUE=DURATION:PT1H
X-Robots-Tag:noindex
X-PUBLISHED-TTL:PT1H
BEGIN:VTIMEZONE
TZID:America/Los_Angeles
BEGIN:DAYLIGHT
TZOFFSETFROM:-0800
TZOFFSETTO:-0700
TZNAME:PDT
DTSTART:20240310T100000
END:DAYLIGHT
BEGIN:STANDARD
TZOFFSETFROM:-0700
TZOFFSETTO:-0800
TZNAME:PST
DTSTART:20241103T090000
END:STANDARD
BEGIN:DAYLIGHT
TZOFFSETFROM:-0800
TZOFFSETTO:-0700
TZNAME:PDT
DTSTART:20250309T100000
END:DAYLIGHT
BEGIN:STANDARD
TZOFFSETFROM:-0700
TZOFFSETTO:-0800
TZNAME:PST
DTSTART:20251102T090000
END:STANDARD
BEGIN:DAYLIGHT
TZOFFSETFROM:-0800
TZOFFSETTO:-0700
TZNAME:PDT
DTSTART:20260308T100000
END:DAYLIGHT
BEGIN:STANDARD
TZOFFSETFROM:-0700
TZOFFSETTO:-0800
TZNAME:PST
DTSTART:20261101T090000
END:STANDARD
BEGIN:DAYLIGHT
TZOFFSETFROM:-0800
TZOFFSETTO:-0700
TZNAME:PDT
DTSTART:20270314T100000
END:DAYLIGHT
BEGIN:STANDARD
TZOFFSETFROM:-0700
TZOFFSETTO:-0800
TZNAME:PST
DTSTART:20271107T090000
END:STANDARD
END:VTIMEZONE
BEGIN:VEVENT
DTSTART;TZID=America/Los_Angeles:20250530T100000
DTEND;TZID=America/Los_Angeles:20260104T160000
DTSTAMP:20260425T105845
CREATED:20250418T184125Z
LAST-MODIFIED:20250505T202108Z
UID:10002347-1748599200-1767542400@explorewashingtonpark.org
SUMMARY:Sasquatch: Ancestral Guardians
DESCRIPTION:“We must walk lightly when we are between worlds with this sacred being.”  – Phillip Cash Cash   Indigenous peoples have long been in relationship with and shared stories about sacred forest protectors\, often called Sasquatch and Bigfoot. The works in this exhibition are made by Indigenous artists and honor generations of spiritual practices\, storytelling\, and tradition. Leave your preconceived notions behind and immerse yourself\, not in the question of if Sasquatch exists\, but rather\, how are we existing with and honoring this non-human other.
URL:https://explorewashingtonpark.org/event/sasquatch-ancestral-guardians/
LOCATION:Discovery Museum\, 4033 SW Canyon Rd\, Portland\, OR\, 97221\, United States
CATEGORIES:Family Fun
END:VEVENT
BEGIN:VEVENT
DTSTART;TZID=America/Los_Angeles:20250712T090000
DTEND;TZID=America/Los_Angeles:20250712T130000
DTSTAMP:20260425T105845
CREATED:20250630T174700Z
LAST-MODIFIED:20250630T174700Z
UID:10002426-1752310800-1752325200@explorewashingtonpark.org
SUMMARY:Family Forest Day: Trees Are Homes
DESCRIPTION:In our first FREE Family Forest Day of the 2025 season\, we will be gathering under the Stevens Pavilion to celebrate the many ways that trees are homes! Participants of all ages are invited to learn about and connect with nature through playing games\, hands-on activities\, nature crafts\, book readings\, poet-tree\, guided nature walks on the trails\, and so much more! Hoyt Arboretum educators will lead interactive stations focused on forest habitats and hands-on crafts including nature painting and a maraca bar with natural materials. Activities and nature walks will be led in both English and Spanish.
URL:https://explorewashingtonpark.org/event/family-forest-day-trees-are-homes-2/
LOCATION:Hoyt Arboretum\, 4000 SW Fairview Blvd\, Portland\, OR\, 97221\, United States
CATEGORIES:Family Fun
END:VEVENT
BEGIN:VEVENT
DTSTART;TZID=America/Los_Angeles:20250712T100000
DTEND;TZID=America/Los_Angeles:20250712T111500
DTSTAMP:20260425T105845
CREATED:20250630T174900Z
LAST-MODIFIED:20250630T174900Z
UID:10002427-1752314400-1752318900@explorewashingtonpark.org
SUMMARY:Tree Time! Preschool Walk
DESCRIPTION:Tree Time! preschool walks are a safe and fun way to get outside with your little one. Come join us for a story and guided walk on the trails at Hoyt Arboretum. We will use all of our senses to explore the natural surroundings and maybe even get our hands dirty! Staff and trained Arboretum volunteers will introduce you and your family to the plants\, trees\, insects\, mushrooms\, and more found at Hoyt Arboretum. This event is coordinated by Hoyt Arboretum\, and registration is required through their website.
URL:https://explorewashingtonpark.org/event/tree-time-preschool-walk-266/
LOCATION:Hoyt Arboretum\, 4000 SW Fairview Blvd\, Portland\, OR\, 97221\, United States
CATEGORIES:Outdoors
END:VEVENT
BEGIN:VEVENT
DTSTART;TZID=America/Los_Angeles:20250712T100000
DTEND;TZID=America/Los_Angeles:20250712T120000
DTSTAMP:20260425T105845
CREATED:20250630T174900Z
LAST-MODIFIED:20250630T174900Z
UID:10002428-1752314400-1752321600@explorewashingtonpark.org
SUMMARY:Hike with Hoyt
DESCRIPTION:Explore Hoyt Arboretum’s trails on a guided hike! Learn the trails\, see the Arboretum’s highlights\, and meet a new community of outdoor enthusiasts. Reserve your spot in-person the day of the hike at the front desk inside the Visitor Center. Each hike is limited to 15 participants. Hikers should expect to cover up to 4 miles on a mix of packed dirt\, gravel\, and paved trails. The hiking pace will be approximately 2 miles per hour. Hoyt Arboretum’s trails are well-graded but there is some elevation change (and occasionally stairs). Hikes will last 90 minutes to 2 hours and take place rain or shine.
URL:https://explorewashingtonpark.org/event/hike-with-hoyt-63/
LOCATION:Hoyt Arboretum\, 4000 SW Fairview Blvd\, Portland\, OR\, 97221\, United States
END:VEVENT
BEGIN:VEVENT
DTSTART;TZID=America/Los_Angeles:20250712T131500
DTEND;TZID=America/Los_Angeles:20250712T141500
DTSTAMP:20260425T105845
CREATED:20250630T174901Z
LAST-MODIFIED:20250630T174901Z
UID:10002429-1752326100-1752329700@explorewashingtonpark.org
SUMMARY:Cultural Demonstration: Ikebana
DESCRIPTION:Ikebana\, the Japanese art of flower arranging\, has been translated as “living flowers” or “giving life to flowers.” Join us from 1:15-2:15pm for an ikebana presentation by Nana Bellerud from the Sogetsu School of Ikebana in the Jordan Schnitzer Japanese Arts Learning Center.
URL:https://explorewashingtonpark.org/event/cultural-demonstration-ikebana-26/
LOCATION:Portland Japanese Garden\, 611 SW Kingston Ave\, Portland\, OR\, 97205\, United States
END:VEVENT
BEGIN:VEVENT
DTSTART;TZID=America/Los_Angeles:20250712T180000
DTEND;TZID=America/Los_Angeles:20250712T193000
DTSTAMP:20260425T105845
CREATED:20250505T203849Z
LAST-MODIFIED:20250630T174901Z
UID:10002373-1752343200-1752348600@explorewashingtonpark.org
SUMMARY:In A Landscape
DESCRIPTION:For the 10th season\, IN A LANDSCAPE: Classical Music in the Wild tours the American West. Mountain tops\, old-growth forests\, and sunny meadows replace the traditional concert hall in the series featuring pianist Hunter Noack on a 9-foot Steinway concert grand piano. Listen through wireless headphones and wander afield with the music as a soundtrack to your experience in the wild. Join us at Washington Park Rose Garden Amphitheater  where you can wander through the fragrant International Rose Test Garden boasting 610 varieties and 10\,000 rose bushes\, or sit on the grass of the terraced amphitheater shaded by mature Douglas Firs. This event takes place on the traditional territory of the Multnomah\, Clackamas\, Cowlitz\, Kathlamet\, Wasco\, Bands of Chinook\, Tualatin\, Molalla\, Kalapuya and other tribes who lived on this land for over 11\,000 years.
URL:https://explorewashingtonpark.org/event/in-a-landscape-5/
LOCATION:International Rose Test Garden\, 400 SW Kingston Avenue\, Portland\, OR\, 97221\, United States
END:VEVENT
END:VCALENDAR