BEGIN:VCALENDAR
VERSION:2.0
PRODID:-//Explore Washington Park - ECPv6.15.18//NONSGML v1.0//EN
CALSCALE:GREGORIAN
METHOD:PUBLISH
X-ORIGINAL-URL:https://explorewashingtonpark.org
X-WR-CALDESC:Events for Explore Washington Park
REFRESH-INTERVAL;VALUE=DURATION:PT1H
X-Robots-Tag:noindex
X-PUBLISHED-TTL:PT1H
BEGIN:VTIMEZONE
TZID:America/Los_Angeles
BEGIN:DAYLIGHT
TZOFFSETFROM:-0800
TZOFFSETTO:-0700
TZNAME:PDT
DTSTART:20240310T100000
END:DAYLIGHT
BEGIN:STANDARD
TZOFFSETFROM:-0700
TZOFFSETTO:-0800
TZNAME:PST
DTSTART:20241103T090000
END:STANDARD
BEGIN:DAYLIGHT
TZOFFSETFROM:-0800
TZOFFSETTO:-0700
TZNAME:PDT
DTSTART:20250309T100000
END:DAYLIGHT
BEGIN:STANDARD
TZOFFSETFROM:-0700
TZOFFSETTO:-0800
TZNAME:PST
DTSTART:20251102T090000
END:STANDARD
BEGIN:DAYLIGHT
TZOFFSETFROM:-0800
TZOFFSETTO:-0700
TZNAME:PDT
DTSTART:20260308T100000
END:DAYLIGHT
BEGIN:STANDARD
TZOFFSETFROM:-0700
TZOFFSETTO:-0800
TZNAME:PST
DTSTART:20261101T090000
END:STANDARD
BEGIN:DAYLIGHT
TZOFFSETFROM:-0800
TZOFFSETTO:-0700
TZNAME:PDT
DTSTART:20270314T100000
END:DAYLIGHT
BEGIN:STANDARD
TZOFFSETFROM:-0700
TZOFFSETTO:-0800
TZNAME:PST
DTSTART:20271107T090000
END:STANDARD
END:VTIMEZONE
BEGIN:VEVENT
DTSTART;TZID=America/Los_Angeles:20250530T100000
DTEND;TZID=America/Los_Angeles:20260104T160000
DTSTAMP:20260424T030335
CREATED:20250418T184125Z
LAST-MODIFIED:20250505T202108Z
UID:10002347-1748599200-1767542400@explorewashingtonpark.org
SUMMARY:Sasquatch: Ancestral Guardians
DESCRIPTION:“We must walk lightly when we are between worlds with this sacred being.”  – Phillip Cash Cash   Indigenous peoples have long been in relationship with and shared stories about sacred forest protectors\, often called Sasquatch and Bigfoot. The works in this exhibition are made by Indigenous artists and honor generations of spiritual practices\, storytelling\, and tradition. Leave your preconceived notions behind and immerse yourself\, not in the question of if Sasquatch exists\, but rather\, how are we existing with and honoring this non-human other.
URL:https://explorewashingtonpark.org/event/sasquatch-ancestral-guardians/
LOCATION:Discovery Museum\, 4033 SW Canyon Rd\, Portland\, OR\, 97221\, United States
CATEGORIES:Family Fun
END:VEVENT
BEGIN:VEVENT
DTSTART;TZID=America/Los_Angeles:20250724T080000
DTEND;TZID=America/Los_Angeles:20250724T100000
DTSTAMP:20260424T030335
CREATED:20250721T223628Z
LAST-MODIFIED:20250721T223628Z
UID:10002516-1753344000-1753351200@explorewashingtonpark.org
SUMMARY:Forest Bathing
DESCRIPTION:Experience a guided forest bathing walk through Hoyt Arboretum’s unique tree collection and forested areas. Forest Bathing offers many health benefits from stress relief to immune system and mood support. Forest therapy is a research-based framework for supporting healing and wellness through immersion in forests and other natural environments. Forest therapy is inspired by the Japanese practice of Shinrin-Yoku\, which translates to “forest bathing.” Studies have demonstrated a wide array of health benefits\, especially in the cardiovascular and immune systems\, and for stabilizing and improving mood and cognition. We build on those benefits and look beyond\, to what happens when people remember that we are a part of nature\, not separate from it\, and are related to all other beings in fundamental ways. This event is coordinated by Hoyt Arboretum\, and registration is required through their website.
URL:https://explorewashingtonpark.org/event/forest-bathing-37/
LOCATION:Hoyt Arboretum\, 4000 SW Fairview Blvd\, Portland\, OR\, 97221\, United States
END:VEVENT
BEGIN:VEVENT
DTSTART;TZID=America/Los_Angeles:20250724T090000
DTEND;TZID=America/Los_Angeles:20250726T120000
DTSTAMP:20260424T030335
CREATED:20250604T210130Z
LAST-MODIFIED:20250604T210130Z
UID:10002398-1753347600-1753531200@explorewashingtonpark.org
SUMMARY:Pop-Up Nature! Amphibians
DESCRIPTION:Join us for our thrice weekly Pop-Up Nature Stations in the Visitor Center Courtyard. We’ll be sharing and discussing topics like pollinators\, berries\, bird nests\, seeds\, and more! Participants will receive Pop-Up Nature! Passports to collect stamps and to take notes about featured topics week after week. Collect 5 stamps and earn a prize!
URL:https://explorewashingtonpark.org/event/pop-up-nature-amphibians/
LOCATION:Hoyt Arboretum\, 4000 SW Fairview Blvd\, Portland\, OR\, 97221\, United States
CATEGORIES:Family Fun
END:VEVENT
BEGIN:VEVENT
DTSTART;TZID=America/Los_Angeles:20250724T090000
DTEND;TZID=America/Los_Angeles:20250726T120000
DTSTAMP:20260424T030335
CREATED:20250721T223628Z
LAST-MODIFIED:20250721T223628Z
UID:10002517-1753347600-1753531200@explorewashingtonpark.org
SUMMARY:Pop-Up Nature! Ferns
DESCRIPTION:Join us for our thrice weekly Pop-Up Nature Stations in the Visitor Center Courtyard. We’ll be sharing and discussing topics like pollinators\, berries\, bird nests\, seeds\, and more! Participants will receive Pop-Up Nature! Passports to collect stamps and to take notes about featured topics week after week. Collect 5 stamps and earn a prize!
URL:https://explorewashingtonpark.org/event/pop-up-nature-ferns-2/
LOCATION:Hoyt Arboretum\, 4000 SW Fairview Blvd\, Portland\, OR\, 97221\, United States
CATEGORIES:Family Fun
END:VEVENT
BEGIN:VEVENT
DTSTART;TZID=America/Los_Angeles:20250724T150000
DTEND;TZID=America/Los_Angeles:20250724T170000
DTSTAMP:20260424T030335
CREATED:20250721T223727Z
LAST-MODIFIED:20250721T223727Z
UID:10002518-1753369200-1753376400@explorewashingtonpark.org
SUMMARY:Portland Japanese Garden - Estate Planning Workshop
DESCRIPTION:Free with reservation\, this estate planning workshop is open to Portland Japanese Garden members\, volunteers\, and Golden Cranes. A good estate plan ensures your wishes are clear\, saves time and money\, and helps to avoid conflicts between your loved ones. With nearly 25 years of estate planning experience\, attorney Anastasia Yu Meisner has designed this seminar to help you understand the important elements of a good estate plan including: Wills and Trusts\, Probate\, Powers of Attorney\, Estate Taxes\, Charitable Giving\, Selecting Fiduciaries and more. RSVP to Development at developmentrsvp@japanesegarden.org or call (503) 223-1321.
URL:https://explorewashingtonpark.org/event/portland-japanese-garden-estate-planning-workshop/
LOCATION:Portland Japanese Garden\, 611 SW Kingston Ave\, Portland\, OR\, 97205\, United States
END:VEVENT
END:VCALENDAR