BEGIN:VCALENDAR
VERSION:2.0
PRODID:-//Explore Washington Park - ECPv6.15.18//NONSGML v1.0//EN
CALSCALE:GREGORIAN
METHOD:PUBLISH
X-WR-CALNAME:Explore Washington Park
X-ORIGINAL-URL:https://explorewashingtonpark.org
X-WR-CALDESC:Events for Explore Washington Park
REFRESH-INTERVAL;VALUE=DURATION:PT1H
X-Robots-Tag:noindex
X-PUBLISHED-TTL:PT1H
BEGIN:VTIMEZONE
TZID:America/Los_Angeles
BEGIN:DAYLIGHT
TZOFFSETFROM:-0800
TZOFFSETTO:-0700
TZNAME:PDT
DTSTART:20240310T100000
END:DAYLIGHT
BEGIN:STANDARD
TZOFFSETFROM:-0700
TZOFFSETTO:-0800
TZNAME:PST
DTSTART:20241103T090000
END:STANDARD
BEGIN:DAYLIGHT
TZOFFSETFROM:-0800
TZOFFSETTO:-0700
TZNAME:PDT
DTSTART:20250309T100000
END:DAYLIGHT
BEGIN:STANDARD
TZOFFSETFROM:-0700
TZOFFSETTO:-0800
TZNAME:PST
DTSTART:20251102T090000
END:STANDARD
BEGIN:DAYLIGHT
TZOFFSETFROM:-0800
TZOFFSETTO:-0700
TZNAME:PDT
DTSTART:20260308T100000
END:DAYLIGHT
BEGIN:STANDARD
TZOFFSETFROM:-0700
TZOFFSETTO:-0800
TZNAME:PST
DTSTART:20261101T090000
END:STANDARD
BEGIN:DAYLIGHT
TZOFFSETFROM:-0800
TZOFFSETTO:-0700
TZNAME:PDT
DTSTART:20270314T100000
END:DAYLIGHT
BEGIN:STANDARD
TZOFFSETFROM:-0700
TZOFFSETTO:-0800
TZNAME:PST
DTSTART:20271107T090000
END:STANDARD
END:VTIMEZONE
BEGIN:VEVENT
DTSTART;TZID=America/Los_Angeles:20250530T100000
DTEND;TZID=America/Los_Angeles:20260104T160000
DTSTAMP:20260422T125929
CREATED:20250418T184125Z
LAST-MODIFIED:20250505T202108Z
UID:10002347-1748599200-1767542400@explorewashingtonpark.org
SUMMARY:Sasquatch: Ancestral Guardians
DESCRIPTION:“We must walk lightly when we are between worlds with this sacred being.”  – Phillip Cash Cash   Indigenous peoples have long been in relationship with and shared stories about sacred forest protectors\, often called Sasquatch and Bigfoot. The works in this exhibition are made by Indigenous artists and honor generations of spiritual practices\, storytelling\, and tradition. Leave your preconceived notions behind and immerse yourself\, not in the question of if Sasquatch exists\, but rather\, how are we existing with and honoring this non-human other.
URL:https://explorewashingtonpark.org/event/sasquatch-ancestral-guardians/
LOCATION:Discovery Museum\, 4033 SW Canyon Rd\, Portland\, OR\, 97221\, United States
CATEGORIES:Family Fun
END:VEVENT
BEGIN:VEVENT
DTSTART;TZID=America/Los_Angeles:20250731T090000
DTEND;TZID=America/Los_Angeles:20250802T120000
DTSTAMP:20260422T125929
CREATED:20250604T210229Z
LAST-MODIFIED:20250604T210229Z
UID:10002400-1753952400-1754136000@explorewashingtonpark.org
SUMMARY:Pop-Up Nature!
DESCRIPTION:Join us for our thrice weekly Pop-Up Nature Stations in the Visitor Center Courtyard. We’ll be sharing and discussing topics like pollinators\, berries\, bird nests\, seeds\, and more! Participants will receive Pop-Up Nature! Passports to collect stamps and to take notes about featured topics week after week. Collect 5 stamps and earn a prize!
URL:https://explorewashingtonpark.org/event/pop-up-nature-35/
LOCATION:Hoyt Arboretum\, 4000 SW Fairview Blvd\, Portland\, OR\, 97221\, United States
CATEGORIES:Family Fun
END:VEVENT
BEGIN:VEVENT
DTSTART;TZID=America/Los_Angeles:20250731T090000
DTEND;TZID=America/Los_Angeles:20250802T120000
DTSTAMP:20260422T125929
CREATED:20250721T224129Z
LAST-MODIFIED:20250721T224129Z
UID:10002538-1753952400-1754136000@explorewashingtonpark.org
SUMMARY:Pop-Up Nature! Butterflies & Moths
DESCRIPTION:Join us for our thrice weekly Pop-Up Nature Stations in the Visitor Center Courtyard. We’ll be sharing and discussing topics like pollinators\, berries\, bird nests\, seeds\, and more! Participants will receive Pop-Up Nature! Passports to collect stamps and to take notes about featured topics week after week. Collect 5 stamps and earn a prize!
URL:https://explorewashingtonpark.org/event/pop-up-nature-butterflies-moths/
LOCATION:Hoyt Arboretum\, 4000 SW Fairview Blvd\, Portland\, OR\, 97221\, United States
CATEGORIES:Family Fun
END:VEVENT
BEGIN:VEVENT
DTSTART;TZID=America/Los_Angeles:20250801T100000
DTEND;TZID=America/Los_Angeles:20250801T120000
DTSTAMP:20260422T125929
CREATED:20250729T202545Z
LAST-MODIFIED:20250807T171618Z
UID:10002539-1754042400-1754049600@explorewashingtonpark.org
SUMMARY:Cloud Forest Volunteers
DESCRIPTION:Help improve and care for the Cloud Forest in Washington Park! We will spend the morning caring for a special collection of rhododendrons which includes\, hand-weeding\, pruning\, and other gardening tasks. Volunteers of all skills and abilities are welcome. No previous experience is required\, Portland Parks & Recreation will provide training\, tools\, gloves\, and parking passes. These events run rain or shine\, and additional information will be sent out two days before the event date. Registration is required. Meeting Location: Near the “Coming of the White Man” statue and the project site is located right across from here.
URL:https://explorewashingtonpark.org/event/cloud-forest-volunteers-11/
LOCATION:Washington Park\, 4033 SW Canyon Rd\, Portland\, OR\, 97221\, United States
END:VEVENT
BEGIN:VEVENT
DTSTART;TZID=America/Los_Angeles:20250801T131500
DTEND;TZID=America/Los_Angeles:20250801T141500
DTSTAMP:20260422T125929
CREATED:20250716T204230Z
LAST-MODIFIED:20250807T171617Z
UID:10002443-1754054100-1754057700@explorewashingtonpark.org
SUMMARY:Cultural Performance: Koto and Shakuhachi
DESCRIPTION:Enjoy a free koto and shakuhachi performance by Masumi Timson and Dan Bosshardt at 1:15pm at the Cathy Rudd Cultural Corner in the Jordan Schnitzer Japanese Arts Learning Center. Included with garden admission.
URL:https://explorewashingtonpark.org/event/cultural-performance-koto-and-shakuhachi-2/
LOCATION:Portland Japanese Garden\, 611 SW Kingston Ave\, Portland\, OR\, 97205\, United States
END:VEVENT
BEGIN:VEVENT
DTSTART;TZID=America/Los_Angeles:20250801T170000
DTEND;TZID=America/Los_Angeles:20250801T210000
DTSTAMP:20260422T125929
CREATED:20250716T204228Z
LAST-MODIFIED:20250807T171616Z
UID:10002442-1754067600-1754082000@explorewashingtonpark.org
SUMMARY:ZooNights
DESCRIPTION:Celebrate summer at the zoo Fridays* through August 22 at ZooNights! Each evening is filled with live music\, food carts\, keeper chats and activities for all ages. Plus\, animal encounters offer the chance to get to know wildlife up close. Experience the zoo after hours\, with plenty of tasty treats like the zoo’s ever-popular elephant ears\, as well as local beer and wine for adults. There’s no better place to enjoy a summer night in Portland than the zoo’s beautifully forested grounds. Take a stroll or spread out a blanket in the amphitheater and enjoy live music. Every ticket purchased helps the Oregon Zoo protect endangered species at home and around the world. Gather friends\, bring the family or take a date and come together for wildlife this summer at ZooNights!
URL:https://explorewashingtonpark.org/event/zoonights-5/
LOCATION:Oregon Zoo\, 4001 SW Canyon Rd\, Portland\, OR\, 97221\, United States
END:VEVENT
END:VCALENDAR