BEGIN:VCALENDAR
VERSION:2.0
PRODID:-//Explore Washington Park - ECPv6.15.18//NONSGML v1.0//EN
CALSCALE:GREGORIAN
METHOD:PUBLISH
X-WR-CALNAME:Explore Washington Park
X-ORIGINAL-URL:https://explorewashingtonpark.org
X-WR-CALDESC:Events for Explore Washington Park
REFRESH-INTERVAL;VALUE=DURATION:PT1H
X-Robots-Tag:noindex
X-PUBLISHED-TTL:PT1H
BEGIN:VTIMEZONE
TZID:America/Los_Angeles
BEGIN:DAYLIGHT
TZOFFSETFROM:-0800
TZOFFSETTO:-0700
TZNAME:PDT
DTSTART:20240310T100000
END:DAYLIGHT
BEGIN:STANDARD
TZOFFSETFROM:-0700
TZOFFSETTO:-0800
TZNAME:PST
DTSTART:20241103T090000
END:STANDARD
BEGIN:DAYLIGHT
TZOFFSETFROM:-0800
TZOFFSETTO:-0700
TZNAME:PDT
DTSTART:20250309T100000
END:DAYLIGHT
BEGIN:STANDARD
TZOFFSETFROM:-0700
TZOFFSETTO:-0800
TZNAME:PST
DTSTART:20251102T090000
END:STANDARD
BEGIN:DAYLIGHT
TZOFFSETFROM:-0800
TZOFFSETTO:-0700
TZNAME:PDT
DTSTART:20260308T100000
END:DAYLIGHT
BEGIN:STANDARD
TZOFFSETFROM:-0700
TZOFFSETTO:-0800
TZNAME:PST
DTSTART:20261101T090000
END:STANDARD
BEGIN:DAYLIGHT
TZOFFSETFROM:-0800
TZOFFSETTO:-0700
TZNAME:PDT
DTSTART:20270314T100000
END:DAYLIGHT
BEGIN:STANDARD
TZOFFSETFROM:-0700
TZOFFSETTO:-0800
TZNAME:PST
DTSTART:20271107T090000
END:STANDARD
END:VTIMEZONE
BEGIN:VEVENT
DTSTART;TZID=America/Los_Angeles:20250530T100000
DTEND;TZID=America/Los_Angeles:20260104T160000
DTSTAMP:20260424T040430
CREATED:20250418T184125Z
LAST-MODIFIED:20250505T202108Z
UID:10002347-1748599200-1767542400@explorewashingtonpark.org
SUMMARY:Sasquatch: Ancestral Guardians
DESCRIPTION:“We must walk lightly when we are between worlds with this sacred being.”  – Phillip Cash Cash   Indigenous peoples have long been in relationship with and shared stories about sacred forest protectors\, often called Sasquatch and Bigfoot. The works in this exhibition are made by Indigenous artists and honor generations of spiritual practices\, storytelling\, and tradition. Leave your preconceived notions behind and immerse yourself\, not in the question of if Sasquatch exists\, but rather\, how are we existing with and honoring this non-human other.
URL:https://explorewashingtonpark.org/event/sasquatch-ancestral-guardians/
LOCATION:Discovery Museum\, 4033 SW Canyon Rd\, Portland\, OR\, 97221\, United States
CATEGORIES:Family Fun
END:VEVENT
BEGIN:VEVENT
DTSTART;TZID=America/Los_Angeles:20250804T100000
DTEND;TZID=America/Los_Angeles:20250810T173000
DTSTAMP:20260424T040430
CREATED:20250807T171727Z
LAST-MODIFIED:20250807T171727Z
UID:10002557-1754301600-1754847000@explorewashingtonpark.org
SUMMARY:Forest Bathing Week
DESCRIPTION:Forest bathing\, or shinrin yoku\, is the intentional practice of slowing down\, surrounding oneself in nature\, and being mindful of each sense. Join us in celebrating a week of self-care inspired by this practice. We’ll have prompts throughout our garden spaces that will take you on a self-guided journey so you can leave here feeling refreshed and energized. Keep an eye out for signs as you enter the Garden! Included with garden admission.
URL:https://explorewashingtonpark.org/event/forest-bathing-week/
LOCATION:Portland Japanese Garden\, 611 SW Kingston Ave\, Portland\, OR\, 97205\, United States
END:VEVENT
BEGIN:VEVENT
DTSTART;TZID=America/Los_Angeles:20250806T093000
DTEND;TZID=America/Los_Angeles:20250806T103000
DTSTAMP:20260424T040430
CREATED:20250716T204238Z
LAST-MODIFIED:20250807T171730Z
UID:10002451-1754472600-1754476200@explorewashingtonpark.org
SUMMARY:Qigong
DESCRIPTION:Looking to slow down\, breathe deeper\, and move with intention? Join instructor Steven for a calming Qigong session beneath the canopy of the Hoyt Arboretum. Qigong (pronounced “chee-gong”) is an ancient practice from Chinese medicine that combines gentle movements\, breathwork\, and mindful posture to cultivate a deep sense of inner peace. The low-impact meditative nature makes it great for all levels whether you’re looking to reduce stress\, improve balance\, or feel a little more grounded. Come move with the rhythm of nature and leave feeling refreshed—body and mind. This event is coordinated by Hoyt Arboretum\, and registration is required through their website.
URL:https://explorewashingtonpark.org/event/qigong-34/
LOCATION:Hoyt Arboretum\, 4000 SW Fairview Blvd\, Portland\, OR\, 97221\, United States
END:VEVENT
BEGIN:VEVENT
DTSTART;TZID=America/Los_Angeles:20250806T100000
DTEND;TZID=America/Los_Angeles:20250806T120000
DTSTAMP:20260424T040430
CREATED:20250716T204336Z
LAST-MODIFIED:20250807T171927Z
UID:10002452-1754474400-1754481600@explorewashingtonpark.org
SUMMARY:Hike with Hoyt
DESCRIPTION:Explore Hoyt Arboretum’s trails on a guided hike! Learn the trails\, see the Arboretum’s highlights\, and meet a new community of outdoor enthusiasts. Reserve your spot in-person the day of the hike at the front desk inside the Visitor Center. Each hike is limited to 15 participants. Hikers should expect to cover up to 4 miles on a mix of packed dirt\, gravel\, and paved trails. The hiking pace will be approximately 2 miles per hour. Hoyt Arboretum’s trails are well-graded but there is some elevation change (and occasionally stairs). Hikes will last 90 minutes to 2 hours and take place rain or shine.
URL:https://explorewashingtonpark.org/event/hike-with-hoyt-66/
LOCATION:Hoyt Arboretum\, 4000 SW Fairview Blvd\, Portland\, OR\, 97221\, United States
END:VEVENT
BEGIN:VEVENT
DTSTART;TZID=America/Los_Angeles:20250806T113000
DTEND;TZID=America/Los_Angeles:20250806T120000
DTSTAMP:20260424T040430
CREATED:20250716T204237Z
LAST-MODIFIED:20250807T171729Z
UID:10002450-1754479800-1754481600@explorewashingtonpark.org
SUMMARY:Forest Storytime
DESCRIPTION:On the first Wednesday of the month\, join us in the Discovery Museum’s reading nook for Forest Storytime. A storytime dedicated to forests and forest-themed books that connect adults and children and engage the imagination. Coloring pages are also available. Included with museum admission.
URL:https://explorewashingtonpark.org/event/forest-storytime-11/
LOCATION:Discovery Museum\, 4033 SW Canyon Rd\, Portland\, OR\, 97221\, United States
CATEGORIES:For Children
END:VEVENT
BEGIN:VEVENT
DTSTART;TZID=America/Los_Angeles:20250806T131500
DTEND;TZID=America/Los_Angeles:20250806T141500
DTSTAMP:20260424T040430
CREATED:20250729T202855Z
LAST-MODIFIED:20250807T171928Z
UID:10002541-1754486100-1754489700@explorewashingtonpark.org
SUMMARY:Cultural Demonstration: Ikebana
DESCRIPTION:Ikebana\, the Japanese art of flower arranging\, has been translated as “living flowers” or “giving life to flowers.” Join us from 1:15 PM – 2:15 PM for an Ikebana presentation by Jeffrey Robson in the Jordan Schnitzer Japanese Arts Learning Center. Included with garden admission.
URL:https://explorewashingtonpark.org/event/cultural-demonstration-ikebana-27/
LOCATION:Portland Japanese Garden\, 611 SW Kingston Ave\, Portland\, OR\, 97205\, United States
END:VEVENT
BEGIN:VEVENT
DTSTART;TZID=America/Los_Angeles:20250806T140000
DTEND;TZID=America/Los_Angeles:20250806T150000
DTSTAMP:20260424T040430
CREATED:20250716T204337Z
LAST-MODIFIED:20250807T171927Z
UID:10002453-1754488800-1754492400@explorewashingtonpark.org
SUMMARY:Basic Principles: Tai Chi & Qigong
DESCRIPTION:Join Jim Dalton Wednesday afternoons to continue your practice and advance your movements as you build the foundations of mind and body. Learn weight-bearing and non-weight-bearing stances\, correct body alignment and posture\, and follow coordinated movements. Slow\, continuous\, circular and flowing positions have been proven to improve mental well-being\, balance\, self-confidence\, independence and overall health. This event is coordinated by Hoyt Arboretum\, and registration is required through their website.
URL:https://explorewashingtonpark.org/event/basic-principles-tai-chi-qigong-5/
LOCATION:Hoyt Arboretum\, 4000 SW Fairview Blvd\, Portland\, OR\, 97221\, United States
END:VEVENT
BEGIN:VEVENT
DTSTART;TZID=America/Los_Angeles:20250806T183000
DTEND;TZID=America/Los_Angeles:20250806T203000
DTSTAMP:20260424T040430
CREATED:20250716T204338Z
LAST-MODIFIED:20250807T171928Z
UID:10002454-1754505000-1754512200@explorewashingtonpark.org
SUMMARY:Healing Herbs of the Arboretum
DESCRIPTION:The plants that surround us are full of healing and nourishing properties\, if we know where to look! Join community herbalist Missy Rohs for a stroll around the Arboretum to explore the medicinal trees\, weeds\, and native plants we encounter. You will talk about which parts to use and which plants to avoid. You may even discover a new use for a plant you thought you knew well! This event is coordinated by Hoyt Arboretum\, and registration is required through their website.
URL:https://explorewashingtonpark.org/event/healing-herbs-of-the-arboretum-26/
LOCATION:Hoyt Arboretum\, 4000 SW Fairview Blvd\, Portland\, OR\, 97221\, United States
END:VEVENT
BEGIN:VEVENT
DTSTART;TZID=America/Los_Angeles:20250806T190000
DTEND;TZID=America/Los_Angeles:20250806T200000
DTSTAMP:20260424T040430
CREATED:20250729T202854Z
LAST-MODIFIED:20250807T171928Z
UID:10002540-1754506800-1754510400@explorewashingtonpark.org
SUMMARY:All Levels Hatha Yoga
DESCRIPTION:Take a midweek pause to ground\, breathe\, and move with intention among the trees. This all levels Hatha yoga class invites you to reconnect with your body\, your breath\, and the beauty of the natural world. Through mindful movement\, breath awareness\, and strength building postures\, you will cultivate inner calm and balance no matter where you are starting from. Variations are offered throughout the practice to support and challenge you at your own pace. Whether you are new to yoga or have an established practice\, you are welcome here. Come as you are and move in community\, surrounded by fresh air\, birdsong\, and towering trees. Reconnect with your true inner nature in the heart of Hoyt Arboretum. This event is coordinated by Hoyt Arboretum\, and registration is required through their website.
URL:https://explorewashingtonpark.org/event/all-levels-hatha-yoga/
LOCATION:Hoyt Arboretum\, 4000 SW Fairview Blvd\, Portland\, OR\, 97221\, United States
END:VEVENT
END:VCALENDAR