BEGIN:VCALENDAR
VERSION:2.0
PRODID:-//Explore Washington Park - ECPv6.15.18//NONSGML v1.0//EN
CALSCALE:GREGORIAN
METHOD:PUBLISH
X-ORIGINAL-URL:https://explorewashingtonpark.org
X-WR-CALDESC:Events for Explore Washington Park
REFRESH-INTERVAL;VALUE=DURATION:PT1H
X-Robots-Tag:noindex
X-PUBLISHED-TTL:PT1H
BEGIN:VTIMEZONE
TZID:America/Los_Angeles
BEGIN:DAYLIGHT
TZOFFSETFROM:-0800
TZOFFSETTO:-0700
TZNAME:PDT
DTSTART:20240310T100000
END:DAYLIGHT
BEGIN:STANDARD
TZOFFSETFROM:-0700
TZOFFSETTO:-0800
TZNAME:PST
DTSTART:20241103T090000
END:STANDARD
BEGIN:DAYLIGHT
TZOFFSETFROM:-0800
TZOFFSETTO:-0700
TZNAME:PDT
DTSTART:20250309T100000
END:DAYLIGHT
BEGIN:STANDARD
TZOFFSETFROM:-0700
TZOFFSETTO:-0800
TZNAME:PST
DTSTART:20251102T090000
END:STANDARD
BEGIN:DAYLIGHT
TZOFFSETFROM:-0800
TZOFFSETTO:-0700
TZNAME:PDT
DTSTART:20260308T100000
END:DAYLIGHT
BEGIN:STANDARD
TZOFFSETFROM:-0700
TZOFFSETTO:-0800
TZNAME:PST
DTSTART:20261101T090000
END:STANDARD
BEGIN:DAYLIGHT
TZOFFSETFROM:-0800
TZOFFSETTO:-0700
TZNAME:PDT
DTSTART:20270314T100000
END:DAYLIGHT
BEGIN:STANDARD
TZOFFSETFROM:-0700
TZOFFSETTO:-0800
TZNAME:PST
DTSTART:20271107T090000
END:STANDARD
END:VTIMEZONE
BEGIN:VEVENT
DTSTART;TZID=America/Los_Angeles:20250530T100000
DTEND;TZID=America/Los_Angeles:20260104T160000
DTSTAMP:20260424T063457
CREATED:20250418T184125Z
LAST-MODIFIED:20250505T202108Z
UID:10002347-1748599200-1767542400@explorewashingtonpark.org
SUMMARY:Sasquatch: Ancestral Guardians
DESCRIPTION:“We must walk lightly when we are between worlds with this sacred being.”  – Phillip Cash Cash   Indigenous peoples have long been in relationship with and shared stories about sacred forest protectors\, often called Sasquatch and Bigfoot. The works in this exhibition are made by Indigenous artists and honor generations of spiritual practices\, storytelling\, and tradition. Leave your preconceived notions behind and immerse yourself\, not in the question of if Sasquatch exists\, but rather\, how are we existing with and honoring this non-human other.
URL:https://explorewashingtonpark.org/event/sasquatch-ancestral-guardians/
LOCATION:Discovery Museum\, 4033 SW Canyon Rd\, Portland\, OR\, 97221\, United States
CATEGORIES:Family Fun
END:VEVENT
BEGIN:VEVENT
DTSTART;TZID=America/Los_Angeles:20250804T100000
DTEND;TZID=America/Los_Angeles:20250810T173000
DTSTAMP:20260424T063457
CREATED:20250807T171727Z
LAST-MODIFIED:20250807T171727Z
UID:10002557-1754301600-1754847000@explorewashingtonpark.org
SUMMARY:Forest Bathing Week
DESCRIPTION:Forest bathing\, or shinrin yoku\, is the intentional practice of slowing down\, surrounding oneself in nature\, and being mindful of each sense. Join us in celebrating a week of self-care inspired by this practice. We’ll have prompts throughout our garden spaces that will take you on a self-guided journey so you can leave here feeling refreshed and energized. Keep an eye out for signs as you enter the Garden! Included with garden admission.
URL:https://explorewashingtonpark.org/event/forest-bathing-week/
LOCATION:Portland Japanese Garden\, 611 SW Kingston Ave\, Portland\, OR\, 97205\, United States
END:VEVENT
BEGIN:VEVENT
DTSTART;TZID=America/Los_Angeles:20250807T090000
DTEND;TZID=America/Los_Angeles:20250809T120000
DTSTAMP:20260424T063457
CREATED:20250716T204338Z
LAST-MODIFIED:20250807T172050Z
UID:10002455-1754557200-1754740800@explorewashingtonpark.org
SUMMARY:Pop-Up Nature! Bird Nests
DESCRIPTION:Join us for our thrice weekly Pop-Up Nature Stations in the Visitor Center Courtyard. We’ll be sharing and discussing topics like pollinators\, berries\, bird nests\, seeds\, and more! Participants will receive Pop-Up Nature! Passports to collect stamps and to take notes about featured topics week after week. Collect 5 stamps and earn a prize!
URL:https://explorewashingtonpark.org/event/pop-up-nature-bird-nests-2/
LOCATION:Hoyt Arboretum\, 4000 SW Fairview Blvd\, Portland\, OR\, 97221\, United States
CATEGORIES:Family Fun
END:VEVENT
BEGIN:VEVENT
DTSTART;TZID=America/Los_Angeles:20250808T100000
DTEND;TZID=America/Los_Angeles:20250808T120000
DTSTAMP:20260424T063457
CREATED:20250729T203054Z
LAST-MODIFIED:20250807T172051Z
UID:10002542-1754647200-1754654400@explorewashingtonpark.org
SUMMARY:Cloud Forest Volunteers
DESCRIPTION:Help improve and care for the Cloud Forest in Washington Park! We will spend the morning caring for a special collection of rhododendrons which includes\, hand-weeding\, pruning\, and other gardening tasks. Volunteers of all skills and abilities are welcome. No previous experience is required\, Portland Parks & Recreation will provide training\, tools\, gloves\, and parking passes. These events run rain or shine\, and additional information will be sent out two days before the event date. Registration is required. Meeting Location: Near the “Coming of the White Man” statue and the project site is located right across from here.
URL:https://explorewashingtonpark.org/event/cloud-forest-volunteers-12/
LOCATION:Washington Park\, 4033 SW Canyon Rd\, Portland\, OR\, 97221\, United States
END:VEVENT
BEGIN:VEVENT
DTSTART;TZID=America/Los_Angeles:20250808T131500
DTEND;TZID=America/Los_Angeles:20250808T141500
DTSTAMP:20260424T063457
CREATED:20250721T205944Z
LAST-MODIFIED:20250807T172050Z
UID:10002499-1754658900-1754662500@explorewashingtonpark.org
SUMMARY:Cultural Performance: Shinobue Flute & Piano Performance by Maido Mind
DESCRIPTION:Join us for a free musical performance featuring shinobue flute and a piano performance by Maido Mind. This cultural performance will be held from 1:15 to 2:15pm in the Jordan Schnitzer Japanese Arts Learning Center.
URL:https://explorewashingtonpark.org/event/cultural-performance-shinobue-flute-piano-performance-by-maido-mind-17/
LOCATION:Portland Japanese Garden\, 611 SW Kingston Ave\, Portland\, OR\, 97205\, United States
END:VEVENT
BEGIN:VEVENT
DTSTART;TZID=America/Los_Angeles:20250808T170000
DTEND;TZID=America/Los_Angeles:20250808T210000
DTSTAMP:20260424T063457
CREATED:20250716T204339Z
LAST-MODIFIED:20250807T172050Z
UID:10002456-1754672400-1754686800@explorewashingtonpark.org
SUMMARY:ZooNights
DESCRIPTION:Celebrate summer at the zoo Fridays* through August 22 at ZooNights! Each evening is filled with live music\, food carts\, keeper chats and activities for all ages. Plus\, animal encounters offer the chance to get to know wildlife up close. Experience the zoo after hours\, with plenty of tasty treats like the zoo’s ever-popular elephant ears\, as well as local beer and wine for adults. There’s no better place to enjoy a summer night in Portland than the zoo’s beautifully forested grounds. Take a stroll or spread out a blanket in the amphitheater and enjoy live music. Every ticket purchased helps the Oregon Zoo protect endangered species at home and around the world. Gather friends\, bring the family or take a date and come together for wildlife this summer at ZooNights!
URL:https://explorewashingtonpark.org/event/zoonights-6/
LOCATION:Oregon Zoo\, 4001 SW Canyon Rd\, Portland\, OR\, 97221\, United States
END:VEVENT
END:VCALENDAR