BEGIN:VCALENDAR
VERSION:2.0
PRODID:-//Explore Washington Park - ECPv6.15.18//NONSGML v1.0//EN
CALSCALE:GREGORIAN
METHOD:PUBLISH
X-WR-CALNAME:Explore Washington Park
X-ORIGINAL-URL:https://explorewashingtonpark.org
X-WR-CALDESC:Events for Explore Washington Park
REFRESH-INTERVAL;VALUE=DURATION:PT1H
X-Robots-Tag:noindex
X-PUBLISHED-TTL:PT1H
BEGIN:VTIMEZONE
TZID:America/Los_Angeles
BEGIN:DAYLIGHT
TZOFFSETFROM:-0800
TZOFFSETTO:-0700
TZNAME:PDT
DTSTART:20240310T100000
END:DAYLIGHT
BEGIN:STANDARD
TZOFFSETFROM:-0700
TZOFFSETTO:-0800
TZNAME:PST
DTSTART:20241103T090000
END:STANDARD
BEGIN:DAYLIGHT
TZOFFSETFROM:-0800
TZOFFSETTO:-0700
TZNAME:PDT
DTSTART:20250309T100000
END:DAYLIGHT
BEGIN:STANDARD
TZOFFSETFROM:-0700
TZOFFSETTO:-0800
TZNAME:PST
DTSTART:20251102T090000
END:STANDARD
BEGIN:DAYLIGHT
TZOFFSETFROM:-0800
TZOFFSETTO:-0700
TZNAME:PDT
DTSTART:20260308T100000
END:DAYLIGHT
BEGIN:STANDARD
TZOFFSETFROM:-0700
TZOFFSETTO:-0800
TZNAME:PST
DTSTART:20261101T090000
END:STANDARD
BEGIN:DAYLIGHT
TZOFFSETFROM:-0800
TZOFFSETTO:-0700
TZNAME:PDT
DTSTART:20270314T100000
END:DAYLIGHT
BEGIN:STANDARD
TZOFFSETFROM:-0700
TZOFFSETTO:-0800
TZNAME:PST
DTSTART:20271107T090000
END:STANDARD
END:VTIMEZONE
BEGIN:VEVENT
DTSTART;TZID=America/Los_Angeles:20250530T100000
DTEND;TZID=America/Los_Angeles:20260104T160000
DTSTAMP:20260422T115212
CREATED:20250418T184125Z
LAST-MODIFIED:20250505T202108Z
UID:10002347-1748599200-1767542400@explorewashingtonpark.org
SUMMARY:Sasquatch: Ancestral Guardians
DESCRIPTION:“We must walk lightly when we are between worlds with this sacred being.”  – Phillip Cash Cash   Indigenous peoples have long been in relationship with and shared stories about sacred forest protectors\, often called Sasquatch and Bigfoot. The works in this exhibition are made by Indigenous artists and honor generations of spiritual practices\, storytelling\, and tradition. Leave your preconceived notions behind and immerse yourself\, not in the question of if Sasquatch exists\, but rather\, how are we existing with and honoring this non-human other.
URL:https://explorewashingtonpark.org/event/sasquatch-ancestral-guardians/
LOCATION:Discovery Museum\, 4033 SW Canyon Rd\, Portland\, OR\, 97221\, United States
CATEGORIES:Family Fun
END:VEVENT
BEGIN:VEVENT
DTSTART;TZID=America/Los_Angeles:20250804T100000
DTEND;TZID=America/Los_Angeles:20250810T173000
DTSTAMP:20260422T115212
CREATED:20250807T171727Z
LAST-MODIFIED:20250807T171727Z
UID:10002557-1754301600-1754847000@explorewashingtonpark.org
SUMMARY:Forest Bathing Week
DESCRIPTION:Forest bathing\, or shinrin yoku\, is the intentional practice of slowing down\, surrounding oneself in nature\, and being mindful of each sense. Join us in celebrating a week of self-care inspired by this practice. We’ll have prompts throughout our garden spaces that will take you on a self-guided journey so you can leave here feeling refreshed and energized. Keep an eye out for signs as you enter the Garden! Included with garden admission.
URL:https://explorewashingtonpark.org/event/forest-bathing-week/
LOCATION:Portland Japanese Garden\, 611 SW Kingston Ave\, Portland\, OR\, 97205\, United States
END:VEVENT
BEGIN:VEVENT
DTSTART;TZID=America/Los_Angeles:20250807T090000
DTEND;TZID=America/Los_Angeles:20250809T120000
DTSTAMP:20260422T115212
CREATED:20250716T204338Z
LAST-MODIFIED:20250807T172050Z
UID:10002455-1754557200-1754740800@explorewashingtonpark.org
SUMMARY:Pop-Up Nature! Bird Nests
DESCRIPTION:Join us for our thrice weekly Pop-Up Nature Stations in the Visitor Center Courtyard. We’ll be sharing and discussing topics like pollinators\, berries\, bird nests\, seeds\, and more! Participants will receive Pop-Up Nature! Passports to collect stamps and to take notes about featured topics week after week. Collect 5 stamps and earn a prize!
URL:https://explorewashingtonpark.org/event/pop-up-nature-bird-nests-2/
LOCATION:Hoyt Arboretum\, 4000 SW Fairview Blvd\, Portland\, OR\, 97221\, United States
CATEGORIES:Family Fun
END:VEVENT
BEGIN:VEVENT
DTSTART;TZID=America/Los_Angeles:20250809T100000
DTEND;TZID=America/Los_Angeles:20250809T111500
DTSTAMP:20260422T115212
CREATED:20250716T204436Z
LAST-MODIFIED:20250807T172051Z
UID:10002457-1754733600-1754738100@explorewashingtonpark.org
SUMMARY:Tree Time! Preschool Walk
DESCRIPTION:Tree Time! preschool walks are a safe and fun way to get outside with your little one. Come join us for a story and guided walk on the trails at Hoyt Arboretum. We will use all of our senses to explore the natural surroundings and maybe even get our hands dirty! Staff and trained Arboretum volunteers will introduce you and your family to the plants\, trees\, insects\, mushrooms\, and more found at Hoyt Arboretum. This event is coordinated by Hoyt Arboretum\, and registration is required through their website.
URL:https://explorewashingtonpark.org/event/tree-time-preschool-walk-270/
LOCATION:Hoyt Arboretum\, 4000 SW Fairview Blvd\, Portland\, OR\, 97221\, United States
CATEGORIES:Outdoors
END:VEVENT
BEGIN:VEVENT
DTSTART;TZID=America/Los_Angeles:20250809T100000
DTEND;TZID=America/Los_Angeles:20250809T120000
DTSTAMP:20260422T115212
CREATED:20250716T204437Z
LAST-MODIFIED:20250807T172150Z
UID:10002458-1754733600-1754740800@explorewashingtonpark.org
SUMMARY:Hike with Hoyt
DESCRIPTION:Explore Hoyt Arboretum’s trails on a guided hike! Learn the trails\, see the Arboretum’s highlights\, and meet a new community of outdoor enthusiasts. Reserve your spot in-person the day of the hike at the front desk inside the Visitor Center. Each hike is limited to 15 participants. Hikers should expect to cover up to 4 miles on a mix of packed dirt\, gravel\, and paved trails. The hiking pace will be approximately 2 miles per hour. Hoyt Arboretum’s trails are well-graded but there is some elevation change (and occasionally stairs). Hikes will last 90 minutes to 2 hours and take place rain or shine.
URL:https://explorewashingtonpark.org/event/hike-with-hoyt-67/
LOCATION:Hoyt Arboretum\, 4000 SW Fairview Blvd\, Portland\, OR\, 97221\, United States
END:VEVENT
BEGIN:VEVENT
DTSTART;TZID=America/Los_Angeles:20250809T100000
DTEND;TZID=America/Los_Angeles:20250809T120000
DTSTAMP:20260422T115212
CREATED:20250716T204437Z
LAST-MODIFIED:20250807T172150Z
UID:10002459-1754733600-1754740800@explorewashingtonpark.org
SUMMARY:PNW Conifer Tree ID Walk
DESCRIPTION:The Pacific Northwest is world famous for conifers\, and these unique trees are botanically some of the most unique and ancient of modern plants. Hoyt Arboretum’s conifer collection includes our spectacular native species and many species from all across the world. Join arborist Casey Clapp of podcast Completely Arbortrary to explore our collection\, learn key ways to identify different species\, and spotlight his (unabashed) favorite type of trees. This event is coordinated by Hoyt Arboretum\, and registration is required through their website.
URL:https://explorewashingtonpark.org/event/pnw-conifer-tree-id-walk-2/
LOCATION:Hoyt Arboretum\, 4000 SW Fairview Blvd\, Portland\, OR\, 97221\, United States
END:VEVENT
BEGIN:VEVENT
DTSTART;TZID=America/Los_Angeles:20250809T100000
DTEND;TZID=America/Los_Angeles:20250810T173000
DTSTAMP:20260422T115212
CREATED:20250721T210045Z
LAST-MODIFIED:20250807T172150Z
UID:10002500-1754733600-1754847000@explorewashingtonpark.org
SUMMARY:Family Studio
DESCRIPTION:Perfect for visitors of all ages\, this dedicated space invites families to sit down\, pick an activity\, and linger during their visit to the Garden. Whether you’re folding intricate origami creations or coloring vibrant pages inspired by the beauty of the Garden\, there’s something to spark creativity and joy. This interactive space offers a welcoming environment for all to explore their artistic side\, providing a relaxing and engaging experience for both children and adults alike. Take a moment to unwind\, create\, and connect with nature through these hands-on activities.
URL:https://explorewashingtonpark.org/event/family-studio-10/
LOCATION:Portland Japanese Garden\, 611 SW Kingston Ave\, Portland\, OR\, 97205\, United States
CATEGORIES:Family Fun
END:VEVENT
BEGIN:VEVENT
DTSTART;TZID=America/Los_Angeles:20250809T131500
DTEND;TZID=America/Los_Angeles:20250809T141500
DTSTAMP:20260422T115212
CREATED:20250721T210045Z
LAST-MODIFIED:20250807T172151Z
UID:10002501-1754745300-1754748900@explorewashingtonpark.org
SUMMARY:Cultural Demonstration: Tea Ceremony
DESCRIPTION:Portland Japanese Garden will offer free public demonstrations of Chadō\, the Way of Tea\, at the Cathy Rudd Cultural Corner in the Jordan Schnitzer Japanese Arts Learning Center from 1:15 – 2:15pm. The Way of Tea is intrinsically linked to Japanese gardens and understanding the kokoro (heart) of Japanese gardening.
URL:https://explorewashingtonpark.org/event/cultural-demonstration-tea-ceremony-122/
LOCATION:Portland Japanese Garden\, 611 SW Kingston Ave\, Portland\, OR\, 97205\, United States
END:VEVENT
BEGIN:VEVENT
DTSTART;TZID=America/Los_Angeles:20250809T180000
DTEND;TZID=America/Los_Angeles:20250809T200000
DTSTAMP:20260422T115212
CREATED:20250807T172151Z
LAST-MODIFIED:20250807T172151Z
UID:10002558-1754762400-1754769600@explorewashingtonpark.org
SUMMARY:Washington Park Summer Festival
DESCRIPTION:Day 1: Tempos Contemporary Circus. Prepare to be amazed as Tempos Contemporary Circus stretches the limits of reality. Combining jaw-dropping acrobatics with experimental theater and a dash of quirky humor\, this innovative troupe promises an unforgettable show for all ages. Come ready to be surprised\, delighted\, and completely enthralled.
URL:https://explorewashingtonpark.org/event/washington-park-summer-festival-4/
LOCATION:Washington Park\, 4033 SW Canyon Rd\, Portland\, OR\, 97221\, United States
CATEGORIES:Family Fun
END:VEVENT
END:VCALENDAR