BEGIN:VCALENDAR
VERSION:2.0
PRODID:-//Explore Washington Park - ECPv6.15.18//NONSGML v1.0//EN
CALSCALE:GREGORIAN
METHOD:PUBLISH
X-ORIGINAL-URL:https://explorewashingtonpark.org
X-WR-CALDESC:Events for Explore Washington Park
REFRESH-INTERVAL;VALUE=DURATION:PT1H
X-Robots-Tag:noindex
X-PUBLISHED-TTL:PT1H
BEGIN:VTIMEZONE
TZID:America/Los_Angeles
BEGIN:DAYLIGHT
TZOFFSETFROM:-0800
TZOFFSETTO:-0700
TZNAME:PDT
DTSTART:20240310T100000
END:DAYLIGHT
BEGIN:STANDARD
TZOFFSETFROM:-0700
TZOFFSETTO:-0800
TZNAME:PST
DTSTART:20241103T090000
END:STANDARD
BEGIN:DAYLIGHT
TZOFFSETFROM:-0800
TZOFFSETTO:-0700
TZNAME:PDT
DTSTART:20250309T100000
END:DAYLIGHT
BEGIN:STANDARD
TZOFFSETFROM:-0700
TZOFFSETTO:-0800
TZNAME:PST
DTSTART:20251102T090000
END:STANDARD
BEGIN:DAYLIGHT
TZOFFSETFROM:-0800
TZOFFSETTO:-0700
TZNAME:PDT
DTSTART:20260308T100000
END:DAYLIGHT
BEGIN:STANDARD
TZOFFSETFROM:-0700
TZOFFSETTO:-0800
TZNAME:PST
DTSTART:20261101T090000
END:STANDARD
BEGIN:DAYLIGHT
TZOFFSETFROM:-0800
TZOFFSETTO:-0700
TZNAME:PDT
DTSTART:20270314T100000
END:DAYLIGHT
BEGIN:STANDARD
TZOFFSETFROM:-0700
TZOFFSETTO:-0800
TZNAME:PST
DTSTART:20271107T090000
END:STANDARD
END:VTIMEZONE
BEGIN:VEVENT
DTSTART;TZID=America/Los_Angeles:20250530T100000
DTEND;TZID=America/Los_Angeles:20260104T160000
DTSTAMP:20260424T031403
CREATED:20250418T184125Z
LAST-MODIFIED:20250505T202108Z
UID:10002347-1748599200-1767542400@explorewashingtonpark.org
SUMMARY:Sasquatch: Ancestral Guardians
DESCRIPTION:“We must walk lightly when we are between worlds with this sacred being.”  – Phillip Cash Cash   Indigenous peoples have long been in relationship with and shared stories about sacred forest protectors\, often called Sasquatch and Bigfoot. The works in this exhibition are made by Indigenous artists and honor generations of spiritual practices\, storytelling\, and tradition. Leave your preconceived notions behind and immerse yourself\, not in the question of if Sasquatch exists\, but rather\, how are we existing with and honoring this non-human other.
URL:https://explorewashingtonpark.org/event/sasquatch-ancestral-guardians/
LOCATION:Discovery Museum\, 4033 SW Canyon Rd\, Portland\, OR\, 97221\, United States
CATEGORIES:Family Fun
END:VEVENT
BEGIN:VEVENT
DTSTART;TZID=America/Los_Angeles:20250920T090000
DTEND;TZID=America/Los_Angeles:20250920T120000
DTSTAMP:20260424T031403
CREATED:20250820T192417Z
LAST-MODIFIED:20250909T230553Z
UID:10002611-1758358800-1758369600@explorewashingtonpark.org
SUMMARY:Saturday Crew
DESCRIPTION:Volunteer to care for Hoyt Arboretum’s trees and trails with the Saturday Crew! With 189-acres and more than 6\,000 trees along 12 miles of trails\, volunteers are incredibly important to maintaining Hoyt Arboretum’s tree collection and trail system\, and it’s a unique opportunity for volunteers to learn about and care for rare and unusual trees and plants from around the world. Stewardship crews occur rain or shine; volunteers should come dressed for the weather including long pants and sturdy\, closed-toe shoes. Volunteers should plan to bring water\, snacks\, and any other personal items they need onsite. No previous stewardship crew experience is required; training\, tools\, gloves\, and volunteer parking passes are provided. Registration is required through the Hoyt Arboretum website.
URL:https://explorewashingtonpark.org/event/saturday-crew-30/
LOCATION:Hoyt Arboretum\, 4000 SW Fairview Blvd\, Portland\, OR\, 97221\, United States
END:VEVENT
BEGIN:VEVENT
DTSTART;TZID=America/Los_Angeles:20250920T100000
DTEND;TZID=America/Los_Angeles:20250920T111500
DTSTAMP:20260424T031403
CREATED:20250815T213732Z
LAST-MODIFIED:20250909T230751Z
UID:10002583-1758362400-1758366900@explorewashingtonpark.org
SUMMARY:Tree Time! Preschool Walk
DESCRIPTION:Tree Time! preschool walks are a safe and fun way to get outside with your little one. Come join us for a story and guided walk on the trails at Hoyt Arboretum. We will use all of our senses to explore the natural surroundings and maybe even get our hands dirty! Staff and trained Arboretum volunteers will introduce you and your family to the plants\, trees\, insects\, mushrooms\, and more found at Hoyt Arboretum. This event is coordinated by Hoyt Arboretum\, and registration is required through their website.
URL:https://explorewashingtonpark.org/event/tree-time-preschool-walk-284/
LOCATION:Hoyt Arboretum\, 4000 SW Fairview Blvd\, Portland\, OR\, 97221\, United States
CATEGORIES:Outdoors
END:VEVENT
BEGIN:VEVENT
DTSTART;TZID=America/Los_Angeles:20250920T100000
DTEND;TZID=America/Los_Angeles:20250920T120000
DTSTAMP:20260424T031403
CREATED:20250820T192618Z
LAST-MODIFIED:20250909T230751Z
UID:10002613-1758362400-1758369600@explorewashingtonpark.org
SUMMARY:Hike with Hoyt
DESCRIPTION:Explore Hoyt Arboretum’s trails on a guided hike! Learn the trails\, see the Arboretum’s highlights\, and meet a new community of outdoor enthusiasts. Reserve your spot in-person the day of the hike at the front desk inside the Visitor Center. Each hike is limited to 15 participants. Hikers should expect to cover up to 4 miles on a mix of packed dirt\, gravel\, and paved trails. The hiking pace will be approximately 2 miles per hour. Hoyt Arboretum’s trails are well-graded but there is some elevation change (and occasionally stairs). Hikes will last 90 minutes to 2 hours and take place rain or shine.
URL:https://explorewashingtonpark.org/event/hike-with-hoyt-81/
LOCATION:Hoyt Arboretum\, 4000 SW Fairview Blvd\, Portland\, OR\, 97221\, United States
END:VEVENT
BEGIN:VEVENT
DTSTART;TZID=America/Los_Angeles:20250920T100000
DTEND;TZID=America/Los_Angeles:20250920T130000
DTSTAMP:20260424T031403
CREATED:20250820T192617Z
LAST-MODIFIED:20250909T230750Z
UID:10002612-1758362400-1758373200@explorewashingtonpark.org
SUMMARY:Phone Photography: Make the Ordinary Extraordinary
DESCRIPTION:With skills learned in session one\, you’ll shoot photos and work with them in your camera’s native editing tools. Then we will broaden your horizons with free and simple-to-use powerful mobile editing apps. Learn to adjust many elements that will transform your photos from “snapshots” to “works of art” that you will be proud to share. Color\, composition and lighting are just a few of the basic requirements of a good photo. There are many other features in the editing software I share and demonstrate that will help you gain the ultimate control over your photo and provide a more artistic touch. And a couple of special effects will be demonstrated. All you’ll need to bring is a charged smart phone\, your enthusiasm to learn new techniques and your desire to have fun. This event is coordinated by Hoyt Arboretum\, and registration is required through their website.
URL:https://explorewashingtonpark.org/event/phone-photography-make-the-ordinary-extraordinary/
LOCATION:Hoyt Arboretum\, 4000 SW Fairview Blvd\, Portland\, OR\, 97221\, United States
END:VEVENT
BEGIN:VEVENT
DTSTART;TZID=America/Los_Angeles:20250920T100000
DTEND;TZID=America/Los_Angeles:20250921T173000
DTSTAMP:20260424T031403
CREATED:20250820T192618Z
LAST-MODIFIED:20250909T230751Z
UID:10002614-1758362400-1758475800@explorewashingtonpark.org
SUMMARY:Family Studio
DESCRIPTION:Perfect for visitors of all ages\, this dedicated space invites families to sit down\, pick an activity\, and linger during their visit to the Garden. Whether you’re folding intricate origami creations or coloring vibrant pages inspired by the beauty of the Garden\, there’s something to spark creativity and joy. This interactive space offers a welcoming environment for all to explore their artistic side\, providing a relaxing and engaging experience for both children and adults alike. Take a moment to unwind\, create\, and connect with nature through these hands-on activities.
URL:https://explorewashingtonpark.org/event/family-studio-16/
LOCATION:Portland Japanese Garden\, 611 SW Kingston Ave\, Portland\, OR\, 97205\, United States
CATEGORIES:Family Fun
END:VEVENT
BEGIN:VEVENT
DTSTART;TZID=America/Los_Angeles:20250920T131500
DTEND;TZID=America/Los_Angeles:20250920T141500
DTSTAMP:20260424T031403
CREATED:20250820T192619Z
LAST-MODIFIED:20250909T230751Z
UID:10002615-1758374100-1758377700@explorewashingtonpark.org
SUMMARY:Cultural Demonstration: Tea Ceremony
DESCRIPTION:Portland Japanese Garden will offer a free public demonstration of Chado\, the Way of Tea\, in the Kashintei Tea House (in the Tea Garden) from 1:15 – 2:15pm. The Way of Tea is intrinsically linked to Japanese gardens and understanding the kokoro (heart) of Japanese gardening.
URL:https://explorewashingtonpark.org/event/cultural-demonstration-tea-ceremony-129/
LOCATION:Portland Japanese Garden\, 611 SW Kingston Ave\, Portland\, OR\, 97205\, United States
END:VEVENT
END:VCALENDAR