BEGIN:VCALENDAR
VERSION:2.0
PRODID:-//Explore Washington Park - ECPv6.15.18//NONSGML v1.0//EN
CALSCALE:GREGORIAN
METHOD:PUBLISH
X-ORIGINAL-URL:https://explorewashingtonpark.org
X-WR-CALDESC:Events for Explore Washington Park
REFRESH-INTERVAL;VALUE=DURATION:PT1H
X-Robots-Tag:noindex
X-PUBLISHED-TTL:PT1H
BEGIN:VTIMEZONE
TZID:America/Los_Angeles
BEGIN:DAYLIGHT
TZOFFSETFROM:-0800
TZOFFSETTO:-0700
TZNAME:PDT
DTSTART:20240310T100000
END:DAYLIGHT
BEGIN:STANDARD
TZOFFSETFROM:-0700
TZOFFSETTO:-0800
TZNAME:PST
DTSTART:20241103T090000
END:STANDARD
BEGIN:DAYLIGHT
TZOFFSETFROM:-0800
TZOFFSETTO:-0700
TZNAME:PDT
DTSTART:20250309T100000
END:DAYLIGHT
BEGIN:STANDARD
TZOFFSETFROM:-0700
TZOFFSETTO:-0800
TZNAME:PST
DTSTART:20251102T090000
END:STANDARD
BEGIN:DAYLIGHT
TZOFFSETFROM:-0800
TZOFFSETTO:-0700
TZNAME:PDT
DTSTART:20260308T100000
END:DAYLIGHT
BEGIN:STANDARD
TZOFFSETFROM:-0700
TZOFFSETTO:-0800
TZNAME:PST
DTSTART:20261101T090000
END:STANDARD
BEGIN:DAYLIGHT
TZOFFSETFROM:-0800
TZOFFSETTO:-0700
TZNAME:PDT
DTSTART:20270314T100000
END:DAYLIGHT
BEGIN:STANDARD
TZOFFSETFROM:-0700
TZOFFSETTO:-0800
TZNAME:PST
DTSTART:20271107T090000
END:STANDARD
END:VTIMEZONE
BEGIN:VEVENT
DTSTART;TZID=America/Los_Angeles:20250530T100000
DTEND;TZID=America/Los_Angeles:20260104T160000
DTSTAMP:20260420T103535
CREATED:20250418T184125Z
LAST-MODIFIED:20250505T202108Z
UID:10002347-1748599200-1767542400@explorewashingtonpark.org
SUMMARY:Sasquatch: Ancestral Guardians
DESCRIPTION:“We must walk lightly when we are between worlds with this sacred being.”  – Phillip Cash Cash   Indigenous peoples have long been in relationship with and shared stories about sacred forest protectors\, often called Sasquatch and Bigfoot. The works in this exhibition are made by Indigenous artists and honor generations of spiritual practices\, storytelling\, and tradition. Leave your preconceived notions behind and immerse yourself\, not in the question of if Sasquatch exists\, but rather\, how are we existing with and honoring this non-human other.
URL:https://explorewashingtonpark.org/event/sasquatch-ancestral-guardians/
LOCATION:Discovery Museum\, 4033 SW Canyon Rd\, Portland\, OR\, 97221\, United States
CATEGORIES:Family Fun
END:VEVENT
BEGIN:VEVENT
DTSTART;TZID=America/Los_Angeles:20250922T100000
DTEND;TZID=America/Los_Angeles:20250922T111500
DTSTAMP:20260420T103535
CREATED:20250815T213837Z
LAST-MODIFIED:20250909T230952Z
UID:10002586-1758535200-1758539700@explorewashingtonpark.org
SUMMARY:Tree Time! Preschool Walk
DESCRIPTION:Tree Time! preschool walks are a safe and fun way to get outside with your little one. Come join us for a story and guided walk on the trails at Hoyt Arboretum. We will use all of our senses to explore the natural surroundings and maybe even get our hands dirty! Staff and trained Arboretum volunteers will introduce you and your family to the plants\, trees\, insects\, mushrooms\, and more found at Hoyt Arboretum. This event is coordinated by Hoyt Arboretum\, and registration is required through their website.
URL:https://explorewashingtonpark.org/event/tree-time-preschool-walk-285/
LOCATION:Hoyt Arboretum\, 4000 SW Fairview Blvd\, Portland\, OR\, 97221\, United States
CATEGORIES:Outdoors
END:VEVENT
BEGIN:VEVENT
DTSTART;TZID=America/Los_Angeles:20250922T140000
DTEND;TZID=America/Los_Angeles:20250922T150000
DTSTAMP:20260420T103535
CREATED:20250815T213838Z
LAST-MODIFIED:20250909T230952Z
UID:10002587-1758549600-1758553200@explorewashingtonpark.org
SUMMARY:Tai Chi: Introduction to Better Balance
DESCRIPTION:Many tai chi moves use images from nature—stable as a pine\, flowing like a river\, hands moving as clouds. Enjoying tai chi in the Arboretum allows us to connect deeply to that imagery. Each week we will explore movements which are relaxing\, help improve focus and balance\, and nurture rooted in the moment. This event is coordinated by Hoyt Arboretum\, and registration is required through their website.
URL:https://explorewashingtonpark.org/event/tai-chi-introduction-to-better-balance-14/
LOCATION:Hoyt Arboretum\, 4000 SW Fairview Blvd\, Portland\, OR\, 97221\, United States
END:VEVENT
BEGIN:VEVENT
DTSTART;TZID=America/Los_Angeles:20250922T173000
DTEND;TZID=America/Los_Angeles:20250922T200000
DTSTAMP:20260420T103535
CREATED:20250820T193019Z
LAST-MODIFIED:20250909T231153Z
UID:10002617-1758562200-1758571200@explorewashingtonpark.org
SUMMARY:Extended Member Hours
DESCRIPTION:Members are invited to experience the Garden during special seasonal extended hours. Take advantage of the longer evenings to enjoy the Garden\, without the crowds. Tickets are required for this event. Please present your tickets in place of your member card at check-in. Members can enter as early as 5:30pm. Member Only Hours will begin at 6:30pm.
URL:https://explorewashingtonpark.org/event/extended-member-hours-26/
LOCATION:Portland Japanese Garden\, 611 SW Kingston Ave\, Portland\, OR\, 97205\, United States
END:VEVENT
BEGIN:VEVENT
DTSTART;TZID=America/Los_Angeles:20250922T180000
DTEND;TZID=America/Los_Angeles:20250922T200000
DTSTAMP:20260420T103535
CREATED:20250820T193020Z
LAST-MODIFIED:20250909T231153Z
UID:10002618-1758564000-1758571200@explorewashingtonpark.org
SUMMARY:Sakura Society Reception
DESCRIPTION:Portland Japanese Garden invites Sakura Society to the second annual reception of the year on Monday\, September 22 from 6:00 to 8:00pm.
URL:https://explorewashingtonpark.org/event/sakura-society-reception/
LOCATION:Portland Japanese Garden\, 611 SW Kingston Ave\, Portland\, OR\, 97205\, United States
END:VEVENT
END:VCALENDAR