BEGIN:VCALENDAR
VERSION:2.0
PRODID:-//Explore Washington Park - ECPv6.15.18//NONSGML v1.0//EN
CALSCALE:GREGORIAN
METHOD:PUBLISH
X-WR-CALNAME:Explore Washington Park
X-ORIGINAL-URL:https://explorewashingtonpark.org
X-WR-CALDESC:Events for Explore Washington Park
REFRESH-INTERVAL;VALUE=DURATION:PT1H
X-Robots-Tag:noindex
X-PUBLISHED-TTL:PT1H
BEGIN:VTIMEZONE
TZID:America/Los_Angeles
BEGIN:DAYLIGHT
TZOFFSETFROM:-0800
TZOFFSETTO:-0700
TZNAME:PDT
DTSTART:20240310T100000
END:DAYLIGHT
BEGIN:STANDARD
TZOFFSETFROM:-0700
TZOFFSETTO:-0800
TZNAME:PST
DTSTART:20241103T090000
END:STANDARD
BEGIN:DAYLIGHT
TZOFFSETFROM:-0800
TZOFFSETTO:-0700
TZNAME:PDT
DTSTART:20250309T100000
END:DAYLIGHT
BEGIN:STANDARD
TZOFFSETFROM:-0700
TZOFFSETTO:-0800
TZNAME:PST
DTSTART:20251102T090000
END:STANDARD
BEGIN:DAYLIGHT
TZOFFSETFROM:-0800
TZOFFSETTO:-0700
TZNAME:PDT
DTSTART:20260308T100000
END:DAYLIGHT
BEGIN:STANDARD
TZOFFSETFROM:-0700
TZOFFSETTO:-0800
TZNAME:PST
DTSTART:20261101T090000
END:STANDARD
BEGIN:DAYLIGHT
TZOFFSETFROM:-0800
TZOFFSETTO:-0700
TZNAME:PDT
DTSTART:20270314T100000
END:DAYLIGHT
BEGIN:STANDARD
TZOFFSETFROM:-0700
TZOFFSETTO:-0800
TZNAME:PST
DTSTART:20271107T090000
END:STANDARD
END:VTIMEZONE
BEGIN:VEVENT
DTSTART;TZID=America/Los_Angeles:20250530T100000
DTEND;TZID=America/Los_Angeles:20260104T160000
DTSTAMP:20260421T025111
CREATED:20250418T184125Z
LAST-MODIFIED:20250505T202108Z
UID:10002347-1748599200-1767542400@explorewashingtonpark.org
SUMMARY:Sasquatch: Ancestral Guardians
DESCRIPTION:“We must walk lightly when we are between worlds with this sacred being.”  – Phillip Cash Cash   Indigenous peoples have long been in relationship with and shared stories about sacred forest protectors\, often called Sasquatch and Bigfoot. The works in this exhibition are made by Indigenous artists and honor generations of spiritual practices\, storytelling\, and tradition. Leave your preconceived notions behind and immerse yourself\, not in the question of if Sasquatch exists\, but rather\, how are we existing with and honoring this non-human other.
URL:https://explorewashingtonpark.org/event/sasquatch-ancestral-guardians/
LOCATION:Discovery Museum\, 4033 SW Canyon Rd\, Portland\, OR\, 97221\, United States
CATEGORIES:Family Fun
END:VEVENT
BEGIN:VEVENT
DTSTART;TZID=America/Los_Angeles:20250927T100000
DTEND;TZID=America/Los_Angeles:20250927T100000
DTSTAMP:20260421T025111
CREATED:20250909T231501Z
LAST-MODIFIED:20250909T231501Z
UID:10002667-1758967200-1758967200@explorewashingtonpark.org
SUMMARY:Designing Nature: Elements of Harmony
DESCRIPTION:Japanese gardens are living expressions of harmony—where nature is shaped by human hands and guided by the heart. Designing Nature invites you to explore the history\, traditions\, and philosophies behind this timeless art form—revealing the depth\, intention\, and beauty that define Japanese garden design. Whether you’re seeking a quiet moment of reflection\, a deeper connection to the natural world\, or a spark of creative inspiration\, the Garden welcomes all who enter.
URL:https://explorewashingtonpark.org/event/designing-nature-elements-of-harmony/
LOCATION:Portland Japanese Garden\, 611 SW Kingston Ave\, Portland\, OR\, 97205\, United States
END:VEVENT
BEGIN:VEVENT
DTSTART;TZID=America/Los_Angeles:20250927T100000
DTEND;TZID=America/Los_Angeles:20250927T111500
DTSTAMP:20260421T025111
CREATED:20250815T214039Z
LAST-MODIFIED:20250909T231405Z
UID:10002592-1758967200-1758971700@explorewashingtonpark.org
SUMMARY:Tree Time! Preschool Walk
DESCRIPTION:Tree Time! preschool walks are a safe and fun way to get outside with your little one. Come join us for a story and guided walk on the trails at Hoyt Arboretum. We will use all of our senses to explore the natural surroundings and maybe even get our hands dirty! Staff and trained Arboretum volunteers will introduce you and your family to the plants\, trees\, insects\, mushrooms\, and more found at Hoyt Arboretum. This event is coordinated by Hoyt Arboretum\, and registration is required through their website.
URL:https://explorewashingtonpark.org/event/tree-time-preschool-walk-286/
LOCATION:Hoyt Arboretum\, 4000 SW Fairview Blvd\, Portland\, OR\, 97221\, United States
CATEGORIES:Outdoors
END:VEVENT
BEGIN:VEVENT
DTSTART;TZID=America/Los_Angeles:20250927T100000
DTEND;TZID=America/Los_Angeles:20250927T120000
DTSTAMP:20260421T025111
CREATED:20250820T193222Z
LAST-MODIFIED:20250909T231404Z
UID:10002621-1758967200-1758974400@explorewashingtonpark.org
SUMMARY:Hike with Hoyt
DESCRIPTION:Explore Hoyt Arboretum’s trails on a guided hike! Learn the trails\, see the Arboretum’s highlights\, and meet a new community of outdoor enthusiasts. Reserve your spot in-person the day of the hike at the front desk inside the Visitor Center. Each hike is limited to 15 participants. Hikers should expect to cover up to 4 miles on a mix of packed dirt\, gravel\, and paved trails. The hiking pace will be approximately 2 miles per hour. Hoyt Arboretum’s trails are well-graded but there is some elevation change (and occasionally stairs). Hikes will last 90 minutes to 2 hours and take place rain or shine.
URL:https://explorewashingtonpark.org/event/hike-with-hoyt-82/
LOCATION:Hoyt Arboretum\, 4000 SW Fairview Blvd\, Portland\, OR\, 97221\, United States
END:VEVENT
BEGIN:VEVENT
DTSTART;TZID=America/Los_Angeles:20250927T131500
DTEND;TZID=America/Los_Angeles:20250927T141500
DTSTAMP:20260421T025111
CREATED:20250820T193422Z
LAST-MODIFIED:20250909T231503Z
UID:10002622-1758978900-1758982500@explorewashingtonpark.org
SUMMARY:Cultural Demonstration: Tea Ceremony
DESCRIPTION:Portland Japanese Garden will offer free public demonstrations of Chadō\, the Way of Tea\, at the Cathy Rudd Cultural Corner in the Jordan Schnitzer Japanese Arts Learning Center from 1:15 – 2:15pm. The Way of Tea is intrinsically linked to Japanese gardens and understanding the kokoro (heart) of Japanese gardening.
URL:https://explorewashingtonpark.org/event/cultural-demonstration-tea-ceremony-130/
LOCATION:Portland Japanese Garden\, 611 SW Kingston Ave\, Portland\, OR\, 97205\, United States
END:VEVENT
BEGIN:VEVENT
DTSTART;TZID=America/Los_Angeles:20250927T173000
DTEND;TZID=America/Los_Angeles:20250927T213000
DTSTAMP:20260421T025111
CREATED:20250815T214040Z
LAST-MODIFIED:20250909T231501Z
UID:10002593-1758994200-1759008600@explorewashingtonpark.org
SUMMARY:Zootoberfest
DESCRIPTION:Celebrate Zootoberfest! Fill your stein with offerings from the finest breweries and cideries in the Northwest and enjoy live music\, food carts\, animal encounters\, keeper chats and more. Raise a toast to wildlife in the zoo’s beautiful\, woodsy surroundings — perfect for fall vibes. Zootoberfest is a 21+ event. Every ticket purchased helps the Oregon Zoo protect endangered species at home and around the world. Dress for the occasion in your lederhosen\, dirndl or favorite animal costume! But remember\, no full-face masks\, inflatable costumes\, weapons\, obscenity\, or anything that could cause disturbance to either patrons or animals.
URL:https://explorewashingtonpark.org/event/zootoberfest-4/
LOCATION:Oregon Zoo\, 4001 SW Canyon Rd\, Portland\, OR\, 97221\, United States
END:VEVENT
END:VCALENDAR