BEGIN:VCALENDAR
VERSION:2.0
PRODID:-//Explore Washington Park - ECPv6.15.18//NONSGML v1.0//EN
CALSCALE:GREGORIAN
METHOD:PUBLISH
X-WR-CALNAME:Explore Washington Park
X-ORIGINAL-URL:https://explorewashingtonpark.org
X-WR-CALDESC:Events for Explore Washington Park
REFRESH-INTERVAL;VALUE=DURATION:PT1H
X-Robots-Tag:noindex
X-PUBLISHED-TTL:PT1H
BEGIN:VTIMEZONE
TZID:America/Los_Angeles
BEGIN:DAYLIGHT
TZOFFSETFROM:-0800
TZOFFSETTO:-0700
TZNAME:PDT
DTSTART:20240310T100000
END:DAYLIGHT
BEGIN:STANDARD
TZOFFSETFROM:-0700
TZOFFSETTO:-0800
TZNAME:PST
DTSTART:20241103T090000
END:STANDARD
BEGIN:DAYLIGHT
TZOFFSETFROM:-0800
TZOFFSETTO:-0700
TZNAME:PDT
DTSTART:20250309T100000
END:DAYLIGHT
BEGIN:STANDARD
TZOFFSETFROM:-0700
TZOFFSETTO:-0800
TZNAME:PST
DTSTART:20251102T090000
END:STANDARD
BEGIN:DAYLIGHT
TZOFFSETFROM:-0800
TZOFFSETTO:-0700
TZNAME:PDT
DTSTART:20260308T100000
END:DAYLIGHT
BEGIN:STANDARD
TZOFFSETFROM:-0700
TZOFFSETTO:-0800
TZNAME:PST
DTSTART:20261101T090000
END:STANDARD
BEGIN:DAYLIGHT
TZOFFSETFROM:-0800
TZOFFSETTO:-0700
TZNAME:PDT
DTSTART:20270314T100000
END:DAYLIGHT
BEGIN:STANDARD
TZOFFSETFROM:-0700
TZOFFSETTO:-0800
TZNAME:PST
DTSTART:20271107T090000
END:STANDARD
END:VTIMEZONE
BEGIN:VEVENT
DTSTART;TZID=America/Los_Angeles:20250530T100000
DTEND;TZID=America/Los_Angeles:20260104T160000
DTSTAMP:20260422T220503
CREATED:20250418T184125Z
LAST-MODIFIED:20250505T202108Z
UID:10002347-1748599200-1767542400@explorewashingtonpark.org
SUMMARY:Sasquatch: Ancestral Guardians
DESCRIPTION:“We must walk lightly when we are between worlds with this sacred being.”  – Phillip Cash Cash   Indigenous peoples have long been in relationship with and shared stories about sacred forest protectors\, often called Sasquatch and Bigfoot. The works in this exhibition are made by Indigenous artists and honor generations of spiritual practices\, storytelling\, and tradition. Leave your preconceived notions behind and immerse yourself\, not in the question of if Sasquatch exists\, but rather\, how are we existing with and honoring this non-human other.
URL:https://explorewashingtonpark.org/event/sasquatch-ancestral-guardians/
LOCATION:Discovery Museum\, 4033 SW Canyon Rd\, Portland\, OR\, 97221\, United States
CATEGORIES:Family Fun
END:VEVENT
BEGIN:VEVENT
DTSTART;TZID=America/Los_Angeles:20251005T100000
DTEND;TZID=America/Los_Angeles:20251005T173000
DTSTAMP:20260422T220503
CREATED:20250929T232108Z
LAST-MODIFIED:20251003T232323Z
UID:10002696-1759658400-1759685400@explorewashingtonpark.org
SUMMARY:Family Studio
DESCRIPTION:Perfect for visitors of all ages\, this dedicated space invites families to sit down\, pick an activity\, and linger during their visit to the Garden. Whether you’re folding intricate origami creations or coloring vibrant pages inspired by the beauty of the Garden\, there’s something to spark creativity and joy. This interactive space offers a welcoming environment for all to explore their artistic side\, providing a relaxing and engaging experience for both children and adults alike. Take a moment to unwind\, create\, and connect with nature through these hands-on activities.
URL:https://explorewashingtonpark.org/event/family-studio-18/
LOCATION:Portland Japanese Garden\, 611 SW Kingston Ave\, Portland\, OR\, 97205\, United States
CATEGORIES:Family Fun
END:VEVENT
BEGIN:VEVENT
DTSTART;TZID=America/Los_Angeles:20251005T110000
DTEND;TZID=America/Los_Angeles:20251005T120000
DTSTAMP:20260422T220503
CREATED:20250909T224344Z
LAST-MODIFIED:20251003T232323Z
UID:10002632-1759662000-1759665600@explorewashingtonpark.org
SUMMARY:Trees For All Public Tour
DESCRIPTION:Trees For All Public Tours are held the first Sunday of every month\, May – October. This guided tour will be 1/2 mile along the paved trails around the Visitor Center and to the Viewpoint off Overlook Trail featuring angiosperms\, gymnosperms\, and native plants along the way. This is a free tour. Please sign up at the front desk in the Visitor Center on the day of the tour.
URL:https://explorewashingtonpark.org/event/trees-for-all-public-tour-10/
LOCATION:Hoyt Arboretum\, 4000 SW Fairview Blvd\, Portland\, OR\, 97221\, United States
END:VEVENT
BEGIN:VEVENT
DTSTART;TZID=America/Los_Angeles:20251005T170000
DTEND;TZID=America/Los_Angeles:20251005T193000
DTSTAMP:20260422T220503
CREATED:20250916T223945Z
LAST-MODIFIED:20251003T232323Z
UID:10002671-1759683600-1759692600@explorewashingtonpark.org
SUMMARY:O-Tsukimi\, the Moonviewing Festival
DESCRIPTION:Experience one of our most coveted cultural evenings. Stroll through lantern-lit paths\, gather with tea in hand to await the moonrise\, compose haiku\, and savor a bento-style dinner provided by Obon Shokudo as the sounds of traditional Japanese instruments drift through the air. Moonviewing\, or O-Tsukimi in Japanese\, is the practice of gazing at the full moon and enjoying its sacred beauty. Since 1990\, Portland Japanese Garden has scheduled this beloved annual event to coincide with the harvest moon\, which occurs anytime from September to early October. There is no better place in Portland to share the romance and mystery of this special custom than from the eastern overlook of the Portland Japanese Garden Pavilion with its views of the city skyline and Mount Hood.
URL:https://explorewashingtonpark.org/event/o-tsukimi-the-moonviewing-festival-6/
LOCATION:Portland Japanese Garden\, 611 SW Kingston Ave\, Portland\, OR\, 97205\, United States
END:VEVENT
END:VCALENDAR