BEGIN:VCALENDAR
VERSION:2.0
PRODID:-//Explore Washington Park - ECPv6.15.18//NONSGML v1.0//EN
CALSCALE:GREGORIAN
METHOD:PUBLISH
X-WR-CALNAME:Explore Washington Park
X-ORIGINAL-URL:https://explorewashingtonpark.org
X-WR-CALDESC:Events for Explore Washington Park
REFRESH-INTERVAL;VALUE=DURATION:PT1H
X-Robots-Tag:noindex
X-PUBLISHED-TTL:PT1H
BEGIN:VTIMEZONE
TZID:America/Los_Angeles
BEGIN:DAYLIGHT
TZOFFSETFROM:-0800
TZOFFSETTO:-0700
TZNAME:PDT
DTSTART:20240310T100000
END:DAYLIGHT
BEGIN:STANDARD
TZOFFSETFROM:-0700
TZOFFSETTO:-0800
TZNAME:PST
DTSTART:20241103T090000
END:STANDARD
BEGIN:DAYLIGHT
TZOFFSETFROM:-0800
TZOFFSETTO:-0700
TZNAME:PDT
DTSTART:20250309T100000
END:DAYLIGHT
BEGIN:STANDARD
TZOFFSETFROM:-0700
TZOFFSETTO:-0800
TZNAME:PST
DTSTART:20251102T090000
END:STANDARD
BEGIN:DAYLIGHT
TZOFFSETFROM:-0800
TZOFFSETTO:-0700
TZNAME:PDT
DTSTART:20260308T100000
END:DAYLIGHT
BEGIN:STANDARD
TZOFFSETFROM:-0700
TZOFFSETTO:-0800
TZNAME:PST
DTSTART:20261101T090000
END:STANDARD
BEGIN:DAYLIGHT
TZOFFSETFROM:-0800
TZOFFSETTO:-0700
TZNAME:PDT
DTSTART:20270314T100000
END:DAYLIGHT
BEGIN:STANDARD
TZOFFSETFROM:-0700
TZOFFSETTO:-0800
TZNAME:PST
DTSTART:20271107T090000
END:STANDARD
END:VTIMEZONE
BEGIN:VEVENT
DTSTART;TZID=America/Los_Angeles:20250530T100000
DTEND;TZID=America/Los_Angeles:20260104T160000
DTSTAMP:20260420T063409
CREATED:20250418T184125Z
LAST-MODIFIED:20250505T202108Z
UID:10002347-1748599200-1767542400@explorewashingtonpark.org
SUMMARY:Sasquatch: Ancestral Guardians
DESCRIPTION:“We must walk lightly when we are between worlds with this sacred being.”  – Phillip Cash Cash   Indigenous peoples have long been in relationship with and shared stories about sacred forest protectors\, often called Sasquatch and Bigfoot. The works in this exhibition are made by Indigenous artists and honor generations of spiritual practices\, storytelling\, and tradition. Leave your preconceived notions behind and immerse yourself\, not in the question of if Sasquatch exists\, but rather\, how are we existing with and honoring this non-human other.
URL:https://explorewashingtonpark.org/event/sasquatch-ancestral-guardians/
LOCATION:Discovery Museum\, 4033 SW Canyon Rd\, Portland\, OR\, 97221\, United States
CATEGORIES:Family Fun
END:VEVENT
BEGIN:VEVENT
DTSTART;TZID=America/Los_Angeles:20251101T090000
DTEND;TZID=America/Los_Angeles:20251101T100000
DTSTAMP:20260420T063409
CREATED:20251031T195259Z
LAST-MODIFIED:20251120T222017Z
UID:10002726-1761987600-1761991200@explorewashingtonpark.org
SUMMARY:Member Garden Tour
DESCRIPTION:Join one of our volunteer guides on a free Garden tour for members and their guests only\, during member hours. Our knowledgeable tour guides\, some of whom have been patrons of Portland Japanese Garden for decades\, will provide members with interesting and informative cultural\, historical\, and horticultural information about the Garden. Whether you just joined as a member for the first time\, or have been a long-time supporter\, guided tours can provide new insights into the vision of the Garden and its place in the community.
URL:https://explorewashingtonpark.org/event/member-garden-tour-32/
LOCATION:Portland Japanese Garden\, 611 SW Kingston Ave\, Portland\, OR\, 97205\, United States
CATEGORIES:Members Only
END:VEVENT
BEGIN:VEVENT
DTSTART;TZID=America/Los_Angeles:20251101T100000
DTEND;TZID=America/Los_Angeles:20251101T111500
DTSTAMP:20260420T063409
CREATED:20251031T195257Z
LAST-MODIFIED:20251120T222016Z
UID:10002724-1761991200-1761995700@explorewashingtonpark.org
SUMMARY:Tree Time! Preschool Walk
DESCRIPTION:Tree Time! preschool walks are a safe and fun way to get outside with your little one. Come join us for a story and guided walk on the trails at Hoyt Arboretum. We will use all of our senses to explore the natural surroundings and maybe even get our hands dirty! Staff and trained Arboretum volunteers will introduce you and your family to the plants\, trees\, insects\, mushrooms\, and more found at Hoyt Arboretum. This event is coordinated by Hoyt Arboretum\, and registration is required through their website.
URL:https://explorewashingtonpark.org/event/tree-time-preschool-walk-296/
LOCATION:Hoyt Arboretum\, 4000 SW Fairview Blvd\, Portland\, OR\, 97221\, United States
CATEGORIES:Outdoors
END:VEVENT
BEGIN:VEVENT
DTSTART;TZID=America/Los_Angeles:20251101T100000
DTEND;TZID=America/Los_Angeles:20251101T173000
DTSTAMP:20260420T063409
CREATED:20251031T195300Z
LAST-MODIFIED:20251120T222018Z
UID:10002727-1761991200-1762018200@explorewashingtonpark.org
SUMMARY:Family Studio
DESCRIPTION:Perfect for visitors of all ages\, this dedicated space invites families to sit down\, pick an activity\, and linger during their visit to the Garden. Whether you’re folding intricate origami creations or coloring vibrant pages inspired by the beauty of the Garden\, there’s something to spark creativity and joy. This interactive space offers a welcoming environment for all to explore their artistic side\, providing a relaxing and engaging experience for both children and adults alike. Take a moment to unwind\, create\, and connect with nature through these hands-on activities. Included with garden admission.
URL:https://explorewashingtonpark.org/event/family-studio-25/
LOCATION:Portland Japanese Garden\, 611 SW Kingston Ave\, Portland\, OR\, 97205\, United States
CATEGORIES:Family Fun
END:VEVENT
BEGIN:VEVENT
DTSTART;TZID=America/Los_Angeles:20251101T130000
DTEND;TZID=America/Los_Angeles:20251101T150000
DTSTAMP:20260420T063409
CREATED:20251031T195259Z
LAST-MODIFIED:20251120T222017Z
UID:10002725-1762002000-1762009200@explorewashingtonpark.org
SUMMARY:Moss and Lichens of the PNW
DESCRIPTION:If you’ve explored anywhere in the Portland area\, you’ve probably noted how green it is. The trees and the ferns provide much of the green\, but so do the lichens and moss. Join instructor Ruth Williams as she takes you on a walking exploration of the most common tiny green wonders you will see on local trails. Learn what makes each of them unique and how to identify common species. This event is coordinated by Hoyt Arboretum and registration is required through their website.
URL:https://explorewashingtonpark.org/event/moss-and-lichens-of-the-pnw-2/
LOCATION:Hoyt Arboretum\, 4000 SW Fairview Blvd\, Portland\, OR\, 97221\, United States
END:VEVENT
BEGIN:VEVENT
DTSTART;TZID=America/Los_Angeles:20251101T131500
DTEND;TZID=America/Los_Angeles:20251101T141500
DTSTAMP:20260420T063409
CREATED:20251031T195301Z
LAST-MODIFIED:20251120T222018Z
UID:10002728-1762002900-1762006500@explorewashingtonpark.org
SUMMARY:Cultural Performance: Koto by Curtis Patterson and Mitsuki Dazai
DESCRIPTION:Enjoy a free koto performance by Curtis Patterson and Mitsuki Dazai at 1:15pm at the Cathy Rudd Cultural Corner in the Jordan Schnitzer Japanese Arts Learning Center. Included with garden admission.
URL:https://explorewashingtonpark.org/event/cultural-performance-koto-by-curtis-patterson-and-mitsuki-dazai/
LOCATION:Portland Japanese Garden\, 611 SW Kingston Ave\, Portland\, OR\, 97205\, United States
END:VEVENT
END:VCALENDAR