BEGIN:VCALENDAR
VERSION:2.0
PRODID:-//Explore Washington Park - ECPv6.15.18//NONSGML v1.0//EN
CALSCALE:GREGORIAN
METHOD:PUBLISH
X-WR-CALNAME:Explore Washington Park
X-ORIGINAL-URL:https://explorewashingtonpark.org
X-WR-CALDESC:Events for Explore Washington Park
REFRESH-INTERVAL;VALUE=DURATION:PT1H
X-Robots-Tag:noindex
X-PUBLISHED-TTL:PT1H
BEGIN:VTIMEZONE
TZID:America/Los_Angeles
BEGIN:DAYLIGHT
TZOFFSETFROM:-0800
TZOFFSETTO:-0700
TZNAME:PDT
DTSTART:20250309T100000
END:DAYLIGHT
BEGIN:STANDARD
TZOFFSETFROM:-0700
TZOFFSETTO:-0800
TZNAME:PST
DTSTART:20251102T090000
END:STANDARD
BEGIN:DAYLIGHT
TZOFFSETFROM:-0800
TZOFFSETTO:-0700
TZNAME:PDT
DTSTART:20260308T100000
END:DAYLIGHT
BEGIN:STANDARD
TZOFFSETFROM:-0700
TZOFFSETTO:-0800
TZNAME:PST
DTSTART:20261101T090000
END:STANDARD
BEGIN:DAYLIGHT
TZOFFSETFROM:-0800
TZOFFSETTO:-0700
TZNAME:PDT
DTSTART:20270314T100000
END:DAYLIGHT
BEGIN:STANDARD
TZOFFSETFROM:-0700
TZOFFSETTO:-0800
TZNAME:PST
DTSTART:20271107T090000
END:STANDARD
END:VTIMEZONE
BEGIN:VEVENT
DTSTART;TZID=America/Los_Angeles:20260301T100000
DTEND;TZID=America/Los_Angeles:20260731T160000
DTSTAMP:20260422T073136
CREATED:20260209T191513Z
LAST-MODIFIED:20260305T005048Z
UID:10003056-1772359200-1785513600@explorewashingtonpark.org
SUMMARY:Forest Hope Through Innovation
DESCRIPTION:Forest Hope Through Innovation is an interdisciplinary art-forest-science exhibition at World Forestry Center’s Discovery Museum that explores how creativity\, research\, and community action can shape a sustainable future for the forests we rely on. Featuring work by more than twelve innovators\, the exhibition highlights the aesthetics of emerging forest-based research—from technology and engineering to design and artist-scientist collaborations.  Featuring work by more than twelve innovators\, the exhibition highlights the aesthetics of emerging forest-based research—from technology and engineering to design and artist-scientist collaborations. In this moment of climate uncertainty\, World Forestry Center is leveraging creativity\, art\, and storytelling to spotlight forest-based solutions as an optimistic path forward. Forest Hope Through Innovation is designed to spark climate hope and inspire community-based approaches that support resilient forests for generations to come. Included with museum admission.
URL:https://explorewashingtonpark.org/event/forest-hope-through-innovation/
LOCATION:Discovery Museum\, 4033 SW Canyon Rd\, Portland\, OR\, 97221\, United States
END:VEVENT
BEGIN:VEVENT
DTSTART;TZID=America/Los_Angeles:20260307T100000
DTEND;TZID=America/Los_Angeles:20260615T160000
DTSTAMP:20260422T073136
CREATED:20260127T223907Z
LAST-MODIFIED:20260317T232621Z
UID:10003039-1772877600-1781539200@explorewashingtonpark.org
SUMMARY:Enduring Impressions: Contemporary Woodblock Prints
DESCRIPTION:This March\, step into a world where nature-themed prints meet Portland Japanese Garden’s springtime vibrance in Enduring Impressions: Contemporary Woodblock Prints. Featuring the art of mokuhanga (木版画)\, Japanese-style woodblock printmaking\, this exhibition reveals how a centuries-old tradition is experiencing a contemporary revival among artists around the world\, who use the quiet power and unique characteristics of woodblock printmaking to create captivating works of art. Mokuhanga has been embraced by artists as an environmentally friendly art form that uses wood\, water-based pigments\, and paper made from plant fibers. The exhibition’s featured artists are among the growing international movement where meticulously crafted art prints incorporating these traditional tools and techniques are complemented by alternative printmaking technologies and strategies for contemporary expression. This exhibition marks the Garden’s first collaboration with the Honolulu Museum of Art and is co-curated by Stephen Salel\, the Museum’s Curator of Japanese Art. Across the galleries at Portland Japanese Garden\, Enduring Impressions presents an eclectic range of contemporary prints\, custom-made for the show\,  alongside a behind-the-scenes look at the process\, history and future of this iconic art form.  Included with garden admission.
URL:https://explorewashingtonpark.org/event/enduring-impressions-contemporary-woodblock-prints/
LOCATION:Portland Japanese Garden\, 611 SW Kingston Ave\, Portland\, OR\, 97205\, United States
END:VEVENT
BEGIN:VEVENT
DTSTART;TZID=America/Los_Angeles:20260324T100000
DTEND;TZID=America/Los_Angeles:20260329T160000
DTSTAMP:20260422T073136
CREATED:20260317T233122Z
LAST-MODIFIED:20260317T233122Z
UID:10003153-1774346400-1774800000@explorewashingtonpark.org
SUMMARY:Forest Hope Through Innovation
DESCRIPTION:Forest Hope Through Innovation is an interdisciplinary art-forest-science exhibition at World Forestry Center’s Discovery Museum that explores how creativity\, research\, and community action can shape a sustainable future for the forests we rely on. Featuring work by more than twelve innovators\, the exhibition highlights the aesthetics of emerging forest-based research—from technology and engineering to design and artist-scientist collaborations.  Featuring work by more than twelve innovators\, the exhibition highlights the aesthetics of emerging forest-based research—from technology and engineering to design and artist-scientist collaborations. In this moment of climate uncertainty\, World Forestry Center is leveraging creativity\, art\, and storytelling to spotlight forest-based solutions as an optimistic path forward. Forest Hope Through Innovation is designed to spark climate hope and inspire community-based approaches that support resilient forests for generations to come. Included with museum admission.
URL:https://explorewashingtonpark.org/event/forest-hope-through-innovation-6/
LOCATION:Discovery Museum\, 4033 SW Canyon Rd\, Portland\, OR\, 97221\, United States
END:VEVENT
BEGIN:VEVENT
DTSTART;TZID=America/Los_Angeles:20260329T103000
DTEND;TZID=America/Los_Angeles:20260329T123000
DTSTAMP:20260422T073136
CREATED:20260305T010100Z
LAST-MODIFIED:20260317T233421Z
UID:10003110-1774780200-1774787400@explorewashingtonpark.org
SUMMARY:Ceramic Flower Vase
DESCRIPTION:Join Angela from The Nature Atelier for a ceramic workshop that celebrates the beauty of plants and the coming of Spring. In this workshop we will make a vase infused with nature. You will turn a slab of clay into a usable work of art with the imprints of your favorite flowers and leaves just in time for all the spring flowers to return. Participants will have the opportunity to add pops of color to their creations. All materials are provided\, but feel free to bring plant clippings from your garden to include in your designs. This event is coordinated by Hoyt Arboretum and registration is required through their website.
URL:https://explorewashingtonpark.org/event/ceramic-flower-vase/
LOCATION:Hoyt Arboretum\, 4000 SW Fairview Blvd\, Portland\, OR\, 97221\, United States
END:VEVENT
BEGIN:VEVENT
DTSTART;TZID=America/Los_Angeles:20260329T110000
DTEND;TZID=America/Los_Angeles:20260329T130000
DTSTAMP:20260422T073136
CREATED:20260115T190305Z
LAST-MODIFIED:20260317T233322Z
UID:10003019-1774782000-1774789200@explorewashingtonpark.org
SUMMARY:Forest Crafts w/ RAD Creative Space
DESCRIPTION:Join us once a month and explore your creative nature here at World Forestry Center’s Discovery Museum with our friend at RAD Creative. From Forests in a Bottle to paper snails\, seed shares\, and fairy houses – tap into your creative side and make something memorable. This event is family-friendly\, and crafts are geared toward kids who can independently use scissors\, glue sticks\, and basic school supplies or with parental assistance. All crafts vary in presentation. Adult supervision at all times is required. Craft supplies\, tools\, and guidance are included with museum admission and do not require pre-registration.
URL:https://explorewashingtonpark.org/event/forest-crafts-w-rad-creative-space-3/
LOCATION:Discovery Museum\, 4033 SW Canyon Rd\, Portland\, OR\, 97221\, United States
END:VEVENT
END:VCALENDAR