BEGIN:VCALENDAR
VERSION:2.0
PRODID:-//Explore Washington Park - ECPv6.15.18//NONSGML v1.0//EN
CALSCALE:GREGORIAN
METHOD:PUBLISH
X-WR-CALNAME:Explore Washington Park
X-ORIGINAL-URL:https://explorewashingtonpark.org
X-WR-CALDESC:Events for Explore Washington Park
REFRESH-INTERVAL;VALUE=DURATION:PT1H
X-Robots-Tag:noindex
X-PUBLISHED-TTL:PT1H
BEGIN:VTIMEZONE
TZID:America/Los_Angeles
BEGIN:DAYLIGHT
TZOFFSETFROM:-0800
TZOFFSETTO:-0700
TZNAME:PDT
DTSTART:20250309T100000
END:DAYLIGHT
BEGIN:STANDARD
TZOFFSETFROM:-0700
TZOFFSETTO:-0800
TZNAME:PST
DTSTART:20251102T090000
END:STANDARD
BEGIN:DAYLIGHT
TZOFFSETFROM:-0800
TZOFFSETTO:-0700
TZNAME:PDT
DTSTART:20260308T100000
END:DAYLIGHT
BEGIN:STANDARD
TZOFFSETFROM:-0700
TZOFFSETTO:-0800
TZNAME:PST
DTSTART:20261101T090000
END:STANDARD
BEGIN:DAYLIGHT
TZOFFSETFROM:-0800
TZOFFSETTO:-0700
TZNAME:PDT
DTSTART:20270314T100000
END:DAYLIGHT
BEGIN:STANDARD
TZOFFSETFROM:-0700
TZOFFSETTO:-0800
TZNAME:PST
DTSTART:20271107T090000
END:STANDARD
END:VTIMEZONE
BEGIN:VEVENT
DTSTART;TZID=America/Los_Angeles:20260301T100000
DTEND;TZID=America/Los_Angeles:20260731T160000
DTSTAMP:20260425T054738
CREATED:20260209T191513Z
LAST-MODIFIED:20260305T005048Z
UID:10003056-1772359200-1785513600@explorewashingtonpark.org
SUMMARY:Forest Hope Through Innovation
DESCRIPTION:Forest Hope Through Innovation is an interdisciplinary art-forest-science exhibition at World Forestry Center’s Discovery Museum that explores how creativity\, research\, and community action can shape a sustainable future for the forests we rely on. Featuring work by more than twelve innovators\, the exhibition highlights the aesthetics of emerging forest-based research—from technology and engineering to design and artist-scientist collaborations.  Featuring work by more than twelve innovators\, the exhibition highlights the aesthetics of emerging forest-based research—from technology and engineering to design and artist-scientist collaborations. In this moment of climate uncertainty\, World Forestry Center is leveraging creativity\, art\, and storytelling to spotlight forest-based solutions as an optimistic path forward. Forest Hope Through Innovation is designed to spark climate hope and inspire community-based approaches that support resilient forests for generations to come. Included with museum admission.
URL:https://explorewashingtonpark.org/event/forest-hope-through-innovation/
LOCATION:Discovery Museum\, 4033 SW Canyon Rd\, Portland\, OR\, 97221\, United States
END:VEVENT
BEGIN:VEVENT
DTSTART;TZID=America/Los_Angeles:20260307T100000
DTEND;TZID=America/Los_Angeles:20260615T160000
DTSTAMP:20260425T054738
CREATED:20260127T223907Z
LAST-MODIFIED:20260317T232621Z
UID:10003039-1772877600-1781539200@explorewashingtonpark.org
SUMMARY:Enduring Impressions: Contemporary Woodblock Prints
DESCRIPTION:This March\, step into a world where nature-themed prints meet Portland Japanese Garden’s springtime vibrance in Enduring Impressions: Contemporary Woodblock Prints. Featuring the art of mokuhanga (木版画)\, Japanese-style woodblock printmaking\, this exhibition reveals how a centuries-old tradition is experiencing a contemporary revival among artists around the world\, who use the quiet power and unique characteristics of woodblock printmaking to create captivating works of art. Mokuhanga has been embraced by artists as an environmentally friendly art form that uses wood\, water-based pigments\, and paper made from plant fibers. The exhibition’s featured artists are among the growing international movement where meticulously crafted art prints incorporating these traditional tools and techniques are complemented by alternative printmaking technologies and strategies for contemporary expression. This exhibition marks the Garden’s first collaboration with the Honolulu Museum of Art and is co-curated by Stephen Salel\, the Museum’s Curator of Japanese Art. Across the galleries at Portland Japanese Garden\, Enduring Impressions presents an eclectic range of contemporary prints\, custom-made for the show\,  alongside a behind-the-scenes look at the process\, history and future of this iconic art form.  Included with garden admission.
URL:https://explorewashingtonpark.org/event/enduring-impressions-contemporary-woodblock-prints/
LOCATION:Portland Japanese Garden\, 611 SW Kingston Ave\, Portland\, OR\, 97205\, United States
END:VEVENT
BEGIN:VEVENT
DTSTART;TZID=America/Los_Angeles:20260414T100000
DTEND;TZID=America/Los_Angeles:20260419T160000
DTSTAMP:20260425T054738
CREATED:20260318T210636Z
LAST-MODIFIED:20260415T205749Z
UID:10003161-1776160800-1776614400@explorewashingtonpark.org
SUMMARY:Forest Hope Through Innovation
DESCRIPTION:Forest Hope Through Innovation is an interdisciplinary art-forest-science exhibition at World Forestry Center’s Discovery Museum that explores how creativity\, research\, and community action can shape a sustainable future for the forests we rely on. Featuring work by more than twelve innovators\, the exhibition highlights the aesthetics of emerging forest-based research—from technology and engineering to design and artist-scientist collaborations.  Featuring work by more than twelve innovators\, the exhibition highlights the aesthetics of emerging forest-based research—from technology and engineering to design and artist-scientist collaborations. In this moment of climate uncertainty\, World Forestry Center is leveraging creativity\, art\, and storytelling to spotlight forest-based solutions as an optimistic path forward. Forest Hope Through Innovation is designed to spark climate hope and inspire community-based approaches that support resilient forests for generations to come. Included with museum admission.
URL:https://explorewashingtonpark.org/event/forest-hope-through-innovation-9/
LOCATION:Discovery Museum\, 4033 SW Canyon Rd\, Portland\, OR\, 97221\, United States
END:VEVENT
BEGIN:VEVENT
DTSTART;TZID=America/Los_Angeles:20260419T100000
DTEND;TZID=America/Los_Angeles:20260419T160000
DTSTAMP:20260425T054738
CREATED:20260209T211911Z
LAST-MODIFIED:20260415T210152Z
UID:10003064-1776592800-1776614400@explorewashingtonpark.org
SUMMARY:Free Day at the Discovery Museum
DESCRIPTION:Celebrate the kick off of Earth Week with World Forestry Center! Enjoy the Discovery Museum for free today as part of World Forestry Center’s Free Day Series celebrating our 60th anniversary. Explore interactive exhibits\, take part in family-friendly activities\, and connect with community partners through special programming that highlights forests\, wildfire preparedness\, and sustainability.
URL:https://explorewashingtonpark.org/event/free-day-at-the-discovery-museum-3/
LOCATION:Discovery Museum\, 4033 SW Canyon Rd\, Portland\, OR\, 97221\, United States
END:VEVENT
BEGIN:VEVENT
DTSTART;TZID=America/Los_Angeles:20260419T100000
DTEND;TZID=America/Los_Angeles:20260419T160000
DTSTAMP:20260425T054738
CREATED:20260415T210152Z
LAST-MODIFIED:20260415T210152Z
UID:10003232-1776592800-1776614400@explorewashingtonpark.org
SUMMARY:Celebrate Earth Week in Washington Park
DESCRIPTION:Join World Forestry Center and Washington Park for Earth Week\, a week-long and park-wide celebration inviting visitors to discover the joy of nature here in Portland! From wildlife encounters and world-class gardens to museums\, forest trails\, and playgrounds\, Earth Week is your opportunity to experience Portland’s premier park as one interconnected destination. Throughout Washington Park\, look for special Earth Week signage designed by beloved local cartoonist and public joy creator Mike Bennett\, guiding you to hands-on activities\, conservation moments\, and pop-up experiences that highlight the culture\, diversity\, and wonder of the natural world.
URL:https://explorewashingtonpark.org/event/celebrate-earth-week-in-washington-park/
LOCATION:Discovery Museum\, 4033 SW Canyon Rd\, Portland\, OR\, 97221\, United States
END:VEVENT
BEGIN:VEVENT
DTSTART;TZID=America/Los_Angeles:20260419T103000
DTEND;TZID=America/Los_Angeles:20260419T130000
DTSTAMP:20260425T054738
CREATED:20260127T223510Z
LAST-MODIFIED:20260415T210442Z
UID:10003033-1776594600-1776603600@explorewashingtonpark.org
SUMMARY:Earth Month Eco-Art: Gratitude & Reciprocity
DESCRIPTION:A recycling-inspired collage workshop celebrating creativity and care for the planet! In honor of Earth Month\, this workshop blends sustainability with artistic exploration. Using recycled materials\, natural textures\, and found imagery\, participants craft meaningful eco-art pieces that reflect their relationship with the land. Surrounded by the vibrant expansion of spring\, we explore how art can become a pathway to awareness\, gratitude\, and reciprocity. You will learn: Collage techniques using recycled and repurposed materials – How to integrate nature themes and environmental intentions into artwork – Gentle reflection exercises that honor the land and our shared responsibility as caretakers. You will leave with: A unique eco-art collage created from reclaimed materials – Practical ideas for sustainable art-making at home – A deeper sense of connection\, reciprocity\, and gratitude for the natural world. This event is coordinated by Hoyt Arboretum\, and registration is required through their website.
URL:https://explorewashingtonpark.org/event/earth-month-eco-art-gratitude-reciprocity/
LOCATION:Hoyt Arboretum\, 4000 SW Fairview Blvd\, Portland\, OR\, 97221\, United States
END:VEVENT
BEGIN:VEVENT
DTSTART;TZID=America/Los_Angeles:20260419T110000
DTEND;TZID=America/Los_Angeles:20260419T120000
DTSTAMP:20260425T054738
CREATED:20260318T211037Z
LAST-MODIFIED:20260415T210442Z
UID:10003162-1776596400-1776600000@explorewashingtonpark.org
SUMMARY:Public Tour
DESCRIPTION:Explore one of Hoyt Arboretum’s three nationally-accredited collections with a knowledgeable guide. Public Tours will follow seasonal routes to highlight the flowering trees and the Magnolia Collection in the spring\, the Conifer Collection in the summer\, and fall color and the Maple Collection in the fall. Public tours are free and coordinated by Hoyt Arboretum Friends. There is no fee to attend\, but donations are appreciated and support education programs at Hoyt Arboretum. Sign up in person at the Visitor Center on the day of the tour.
URL:https://explorewashingtonpark.org/event/public-tour-44/
LOCATION:Hoyt Arboretum\, 4000 SW Fairview Blvd\, Portland\, OR\, 97221\, United States
END:VEVENT
BEGIN:VEVENT
DTSTART;TZID=America/Los_Angeles:20260419T113000
DTEND;TZID=America/Los_Angeles:20260419T120000
DTSTAMP:20260425T054738
CREATED:20260415T210442Z
LAST-MODIFIED:20260415T210442Z
UID:10003233-1776598200-1776600000@explorewashingtonpark.org
SUMMARY:Special Forest Stories with Author Silpa Kona
DESCRIPTION:Join World Forestry Center for an engaging Forest Stories event featuring Silpa Kona\, author of the award-winning children’s book “A Monster on My Trail.” This author reading is included with our Free Day at the Discovery Museum\, presented by Hampton Lumber. Silpa Kona will read from “A Monster on My Trail\,” a delightful picture book adventure that follows Meru\, a young explorer who’s nervous about hiking because he’s convinced a monster is lurking on the trail. With humor\, imagination\, and a gentle nod to children’s real-world fears\, the story turns what seems scary into something fun and empowering for curious minds.
URL:https://explorewashingtonpark.org/event/special-forest-stories-with-author-silpa-kona/
LOCATION:Discovery Museum\, 4033 SW Canyon Rd\, Portland\, OR\, 97221\, United States
END:VEVENT
END:VCALENDAR