BEGIN:VCALENDAR
VERSION:2.0
PRODID:-//Explore Washington Park - ECPv6.15.18//NONSGML v1.0//EN
CALSCALE:GREGORIAN
METHOD:PUBLISH
X-ORIGINAL-URL:https://explorewashingtonpark.org
X-WR-CALDESC:Events for Explore Washington Park
REFRESH-INTERVAL;VALUE=DURATION:PT1H
X-Robots-Tag:noindex
X-PUBLISHED-TTL:PT1H
BEGIN:VTIMEZONE
TZID:America/Los_Angeles
BEGIN:DAYLIGHT
TZOFFSETFROM:-0800
TZOFFSETTO:-0700
TZNAME:PDT
DTSTART:20240310T100000
END:DAYLIGHT
BEGIN:STANDARD
TZOFFSETFROM:-0700
TZOFFSETTO:-0800
TZNAME:PST
DTSTART:20241103T090000
END:STANDARD
BEGIN:DAYLIGHT
TZOFFSETFROM:-0800
TZOFFSETTO:-0700
TZNAME:PDT
DTSTART:20250309T100000
END:DAYLIGHT
BEGIN:STANDARD
TZOFFSETFROM:-0700
TZOFFSETTO:-0800
TZNAME:PST
DTSTART:20251102T090000
END:STANDARD
BEGIN:DAYLIGHT
TZOFFSETFROM:-0800
TZOFFSETTO:-0700
TZNAME:PDT
DTSTART:20260308T100000
END:DAYLIGHT
BEGIN:STANDARD
TZOFFSETFROM:-0700
TZOFFSETTO:-0800
TZNAME:PST
DTSTART:20261101T090000
END:STANDARD
END:VTIMEZONE
BEGIN:VEVENT
DTSTART;TZID=America/Los_Angeles:20251111T093000
DTEND;TZID=America/Los_Angeles:20251111T153000
DTSTAMP:20260424T124308
CREATED:20251031T195805Z
LAST-MODIFIED:20251120T222720Z
UID:10002747-1762853400-1762875000@explorewashingtonpark.org
SUMMARY:Veterans Day
DESCRIPTION:The Oregon Zoo is proud to offer FREE admission on Veterans Day for military members\, veterans and their families. Complimentary admission includes up to three tickets per active military personnel/veteran (four tickets total). Families of deployed military personnel will also be given free admission. To receive free admission on November 11\, visitors must reserve tickets in advance online and\, upon entry\, present a military or veteran organization ID\, discharge papers\, or other official military identification. Families of deployed military personnel must also show an active duty ID. The Oregon Zoo thanks you for your service.
URL:https://explorewashingtonpark.org/event/veterans-day-6/
LOCATION:Oregon Zoo\, 4001 SW Canyon Rd\, Portland\, OR\, 97221\, United States
CATEGORIES:Outdoors
END:VEVENT
END:VCALENDAR