BEGIN:VCALENDAR
VERSION:2.0
PRODID:-//Explore Washington Park - ECPv6.15.18//NONSGML v1.0//EN
CALSCALE:GREGORIAN
METHOD:PUBLISH
X-WR-CALNAME:Explore Washington Park
X-ORIGINAL-URL:https://explorewashingtonpark.org
X-WR-CALDESC:Events for Explore Washington Park
REFRESH-INTERVAL;VALUE=DURATION:PT1H
X-Robots-Tag:noindex
X-PUBLISHED-TTL:PT1H
BEGIN:VTIMEZONE
TZID:America/Los_Angeles
BEGIN:DAYLIGHT
TZOFFSETFROM:-0800
TZOFFSETTO:-0700
TZNAME:PDT
DTSTART:20240310T100000
END:DAYLIGHT
BEGIN:STANDARD
TZOFFSETFROM:-0700
TZOFFSETTO:-0800
TZNAME:PST
DTSTART:20241103T090000
END:STANDARD
BEGIN:DAYLIGHT
TZOFFSETFROM:-0800
TZOFFSETTO:-0700
TZNAME:PDT
DTSTART:20250309T100000
END:DAYLIGHT
BEGIN:STANDARD
TZOFFSETFROM:-0700
TZOFFSETTO:-0800
TZNAME:PST
DTSTART:20251102T090000
END:STANDARD
BEGIN:DAYLIGHT
TZOFFSETFROM:-0800
TZOFFSETTO:-0700
TZNAME:PDT
DTSTART:20260308T100000
END:DAYLIGHT
BEGIN:STANDARD
TZOFFSETFROM:-0700
TZOFFSETTO:-0800
TZNAME:PST
DTSTART:20261101T090000
END:STANDARD
END:VTIMEZONE
BEGIN:VEVENT
DTSTART;TZID=America/Los_Angeles:20250615T110000
DTEND;TZID=America/Los_Angeles:20250615T120000
DTSTAMP:20260423T003934
CREATED:20250418T184427Z
LAST-MODIFIED:20250505T203531Z
UID:10002360-1749985200-1749988800@explorewashingtonpark.org
SUMMARY:Public Tour: Magnolia Collection
DESCRIPTION:Explore one of Hoyt Arboretum’s three nationally-accredited collections with a knowledgeable guide. Public Tours will follow routes to highlight the Magnolia Collection in the spring\, the Conifer Collection in the summer\, and the Maple Collection in the fall. Register at the Hoyt Arboretum Visitor Center.
URL:https://explorewashingtonpark.org/event/public-tour-magnolia-collection-9/
LOCATION:Hoyt Arboretum\, 4000 SW Fairview Blvd\, Portland\, OR\, 97221\, United States
END:VEVENT
BEGIN:VEVENT
DTSTART;TZID=America/Los_Angeles:20250615T080000
DTEND;TZID=America/Los_Angeles:20250615T084500
DTSTAMP:20260423T003934
CREATED:20250418T184527Z
LAST-MODIFIED:20250505T203632Z
UID:10002361-1749974400-1749977100@explorewashingtonpark.org
SUMMARY:Early Member Mornings
DESCRIPTION:Enjoy the sights and sounds of the animal kingdom before the zoo opens to the public! This members-only experience is available on select Sundays through August. Early entry ends promptly at 8:45 a.m. so the zoo can prepare to open to the public at 9 a.m. If you arrive after 8:45 a.m.\, please wait until 9 a.m. to enter the zoo.
URL:https://explorewashingtonpark.org/event/early-member-mornings-7/
LOCATION:Oregon Zoo\, 4001 SW Canyon Rd\, Portland\, OR\, 97221\, United States
END:VEVENT
BEGIN:VEVENT
DTSTART;TZID=America/Los_Angeles:20250614T130000
DTEND;TZID=America/Los_Angeles:20250614T150000
DTSTAMP:20260423T003934
CREATED:20250418T184426Z
LAST-MODIFIED:20250505T203531Z
UID:10002359-1749906000-1749913200@explorewashingtonpark.org
SUMMARY:Flower Pressing Workshop
DESCRIPTION:Connect with nature in a new way through flower pressing! In this beginner workshop\, artist\, Bri Rossi\, will guide you through her tips and tricks for creating beautiful pressed plants. Each workshop attendee will receive a handmade reusable flower press and we’ll fill it up with plants! We’ll cover how to use a flower press\, what plants press best\, where to find plants and fun ideas for how to use the plants you preserve. If the weather permits we’ll take a short walk around the arboretum to identify plants that press well.  This event is coordinated by Hoyt Arboretum\, and registration is required through their website.
URL:https://explorewashingtonpark.org/event/flower-pressing-workshop-2/
LOCATION:Hoyt Arboretum\, 4000 SW Fairview Blvd\, Portland\, OR\, 97221\, United States
END:VEVENT
BEGIN:VEVENT
DTSTART;TZID=America/Los_Angeles:20250614T100000
DTEND;TZID=America/Los_Angeles:20250614T160000
DTSTAMP:20260423T003934
CREATED:20250602T214844Z
LAST-MODIFIED:20250602T215829Z
UID:10002377-1749895200-1749916800@explorewashingtonpark.org
SUMMARY:Washington Park Reservoir Grand Opening
DESCRIPTION:For the first time in decades\, the Washington Park Reservoir site is reopening—and we’re celebrating with a day full of fun! Explore brand-new walking paths\, restored historic features\, two stunning reflecting pools\, a dedicated wildlife habitat\, and more in this iconic park space. \n\n\n\n\n\n\n\nFewer cars means more room to celebrate—thanks for considering a car-free trip. Click here to help plan your trip for the smoothest arrival.
URL:https://explorewashingtonpark.org/event/washington-park-reservoir-grand-opening/
LOCATION:Washington Park Reservoir\, 240 SW Wright Ave\, Portland\, Oregon\, 97205\, United States
CATEGORIES:Outdoors
END:VEVENT
BEGIN:VEVENT
DTSTART;TZID=America/Los_Angeles:20250612T130000
DTEND;TZID=America/Los_Angeles:20250612T150000
DTSTAMP:20260423T003934
CREATED:20250418T184426Z
LAST-MODIFIED:20250505T203531Z
UID:10002358-1749733200-1749740400@explorewashingtonpark.org
SUMMARY:Forest Field Day: Fantastic Ferns
DESCRIPTION:Join us in June to learn about the fantastic lives of ferns! Learn about the different types of ferns that can be found all over the Arboretum and across Portland. What is a fern? How are ferns different from other plants? Students will practice their expanded knowledge through games\, journaling\, stories\, and more.  This event is coordinated by Hoyt Arboretum\, and registration is required through their website.
URL:https://explorewashingtonpark.org/event/forest-field-day-fantastic-ferns-4/
LOCATION:Hoyt Arboretum\, 4000 SW Fairview Blvd\, Portland\, OR\, 97221\, United States
CATEGORIES:For Children
END:VEVENT
BEGIN:VEVENT
DTSTART;TZID=America/Los_Angeles:20250611T130000
DTEND;TZID=America/Los_Angeles:20250611T150000
DTSTAMP:20260423T003934
CREATED:20250418T184426Z
LAST-MODIFIED:20250505T203531Z
UID:10002357-1749646800-1749654000@explorewashingtonpark.org
SUMMARY:Forest Field Day: Fantastic Ferns
DESCRIPTION:Join us in June to learn about the fantastic lives of ferns! Learn about the different types of ferns that can be found all over the Arboretum and across Portland. What is a fern? How are ferns different from other plants? Students will practice their expanded knowledge through games\, journaling\, stories\, and more.  This event is coordinated by Hoyt Arboretum\, and registration is required through their website.
URL:https://explorewashingtonpark.org/event/forest-field-day-fantastic-ferns-3/
LOCATION:Hoyt Arboretum\, 4000 SW Fairview Blvd\, Portland\, OR\, 97221\, United States
CATEGORIES:For Children
END:VEVENT
BEGIN:VEVENT
DTSTART;TZID=America/Los_Angeles:20250610T183000
DTEND;TZID=America/Los_Angeles:20250610T203000
DTSTAMP:20260423T003934
CREATED:20250418T184425Z
LAST-MODIFIED:20250604T210118Z
UID:10002356-1749580200-1749587400@explorewashingtonpark.org
SUMMARY:Healing Herbs of the Arboretum
DESCRIPTION:The plants that surround us are full of healing and nourishing properties\, if we know where to look! Join community herbalist Missy Rohs for a stroll around the Arboretum to explore the medicinal trees\, weeds\, and native plants we encounter. You will talk about which parts to use and which plants to avoid. You may even discover a new use for a plant you thought you knew well! This event is coordinated by Hoyt Arboretum\, and registration is required through their website.
URL:https://explorewashingtonpark.org/event/healing-herbs-of-the-arboretum-25/
LOCATION:Hoyt Arboretum\, 4000 SW Fairview Blvd\, Portland\, OR\, 97221\, United States
END:VEVENT
BEGIN:VEVENT
DTSTART;TZID=America/Los_Angeles:20250609T173000
DTEND;TZID=America/Los_Angeles:20250609T200000
DTSTAMP:20260423T003934
CREATED:20250604T210118Z
LAST-MODIFIED:20250604T210118Z
UID:10002391-1749490200-1749499200@explorewashingtonpark.org
SUMMARY:Extended Member Hours
DESCRIPTION:Members are invited to experience the Garden during special seasonal extended hours. Take advantage of the longer evenings to enjoy the Garden\, without the crowds. Member reservations are not required in advance\, but a ticket is required during Member Hours. Members are also welcome to enter during regular Garden hours and stay for extended hours.
URL:https://explorewashingtonpark.org/event/extended-member-hours-23/
LOCATION:Portland Japanese Garden\, 611 SW Kingston Ave\, Portland\, OR\, 97205\, United States
CATEGORIES:Members Only
END:VEVENT
BEGIN:VEVENT
DTSTART;TZID=America/Los_Angeles:20250609T140000
DTEND;TZID=America/Los_Angeles:20250609T150000
DTSTAMP:20260423T003934
CREATED:20250604T210117Z
LAST-MODIFIED:20250604T210117Z
UID:10002390-1749477600-1749481200@explorewashingtonpark.org
SUMMARY:Tai Chi: Introduction to Better Balance
DESCRIPTION:Many tai chi moves use images from nature—stable as a pine\, flowing like a river\, hands moving as clouds. Enjoying tai chi in the Arboretum allows us to connect deeply to that imagery. Each week we will explore movements which are relaxing\, help improve focus and balance\, and nurture rooted in the moment. This event is coordinated by Hoyt Arboretum\, and registration is required through their website.
URL:https://explorewashingtonpark.org/event/tai-chi-introduction-to-better-balance-2/
LOCATION:Hoyt Arboretum\, 4000 SW Fairview Blvd\, Portland\, OR\, 97221\, United States
END:VEVENT
BEGIN:VEVENT
DTSTART;TZID=America/Los_Angeles:20250609T100000
DTEND;TZID=America/Los_Angeles:20250609T111500
DTSTAMP:20260423T003934
CREATED:20250604T210116Z
LAST-MODIFIED:20250604T210116Z
UID:10002389-1749463200-1749467700@explorewashingtonpark.org
SUMMARY:Tree Time! Preschool Walk
DESCRIPTION:Tree Time! preschool walks are a safe and fun way to get outside with your little one. Come join us for a story and guided walk on the trails at Hoyt Arboretum. We will use all of our senses to explore the natural surroundings and maybe even get our hands dirty! Staff and trained Arboretum volunteers will introduce you and your family to the plants\, trees\, insects\, mushrooms\, and more found at Hoyt Arboretum. This event is coordinated by Hoyt Arboretum\, and registration is required through their website.
URL:https://explorewashingtonpark.org/event/tree-time-preschool-walk-263/
LOCATION:Hoyt Arboretum\, 4000 SW Fairview Blvd\, Portland\, OR\, 97221\, United States
CATEGORIES:For Children
END:VEVENT
BEGIN:VEVENT
DTSTART;TZID=America/Los_Angeles:20250608T131500
DTEND;TZID=America/Los_Angeles:20250608T141500
DTSTAMP:20260423T003934
CREATED:20250604T210116Z
LAST-MODIFIED:20250604T210116Z
UID:10002388-1749388500-1749392100@explorewashingtonpark.org
SUMMARY:Cultural Demonstration: Ikebana
DESCRIPTION:Ikebana\, the Japanese art of flower arranging\, has been translated as “living flowers” or “giving life to flowers.” Join us from 1:15-2:15pm for an ikebana presentation by Nana Bellerud from the Sogetsu School of Ikebana in the Jordan Schnitzer Japanese Arts Learning Center.
URL:https://explorewashingtonpark.org/event/cultural-demonstration-ikebana-25/
LOCATION:Portland Japanese Garden\, 611 SW Kingston Ave\, Portland\, OR\, 97205\, United States
END:VEVENT
BEGIN:VEVENT
DTSTART;TZID=America/Los_Angeles:20250608T110000
DTEND;TZID=America/Los_Angeles:20250608T120000
DTSTAMP:20260423T003934
CREATED:20250418T184422Z
LAST-MODIFIED:20250604T210018Z
UID:10002355-1749380400-1749384000@explorewashingtonpark.org
SUMMARY:Public Tour: Magnolia Collection
DESCRIPTION:Explore one of Hoyt Arboretum’s three nationally-accredited collections with a knowledgeable guide. Public Tours will follow routes to highlight the Magnolia Collection in the spring\, the Conifer Collection in the summer\, and the Maple Collection in the fall. Register at the Hoyt Arboretum Visitor Center.
URL:https://explorewashingtonpark.org/event/public-tour-magnolia-collection-8/
LOCATION:Hoyt Arboretum\, 4000 SW Fairview Blvd\, Portland\, OR\, 97221\, United States
END:VEVENT
BEGIN:VEVENT
DTSTART;TZID=America/Los_Angeles:20250607T180000
DTEND;TZID=America/Los_Angeles:20250607T213000
DTSTAMP:20260423T003934
CREATED:20250418T184422Z
LAST-MODIFIED:20250604T210017Z
UID:10002354-1749319200-1749331800@explorewashingtonpark.org
SUMMARY:ZooBrew
DESCRIPTION:ZooBrew\, presented by Alaska Airlines\, returns June 6 and 7! This 21+ festival features more than 50 breweries and cideries\, along with food carts\, lawn games and live music from Beat Division. Plus\, enjoy keeper chats and an after-hours look at the zoo’s amazing wildlife. ZooBrew is a 21+ event — no daytime crowds\, just fun for a great cause! Every ticket purchased helps the Oregon Zoo protect endangered and threatened species at home and around the world. Gather friends or bring a date for a festive summer night and come see what’s brewing at the zoo!
URL:https://explorewashingtonpark.org/event/zoobrew-2/
LOCATION:Oregon Zoo\, 4001 SW Canyon Rd\, Portland\, OR\, 97221\, United States
END:VEVENT
BEGIN:VEVENT
DTSTART;TZID=America/Los_Angeles:20250607T100000
DTEND;TZID=America/Los_Angeles:20250608T160000
DTSTAMP:20260423T003934
CREATED:20250418T184421Z
LAST-MODIFIED:20250604T205918Z
UID:10002353-1749290400-1749398400@explorewashingtonpark.org
SUMMARY:Be Wildfire Aware! Community Preparedness Event
DESCRIPTION:In light of increasing wildfire risks\, it’s more important than ever to understand how we can prepare and protect our communities\, homes\, and loved ones. Be Wildfire Aware is a free\, two-day event designed to help families and individuals of all backgrounds learn practical strategies for wildfire preparedness. Whether you live in an urban\, suburban\, or rural area\, this event is for YOU! This event is an essential resource for anyone seeking to gain the knowledge and tools to face wildfire season confidently. Whether you’re a homeowner\, renter\, or community leader\, Be Wildfire Aware will leave you better equipped to safeguard your property and your family.
URL:https://explorewashingtonpark.org/event/be-wildfire-aware-community-preparedness-event/
LOCATION:Discovery Museum\, 4033 SW Canyon Rd\, Portland\, OR\, 97221\, United States
CATEGORIES:Family Fun
END:VEVENT
BEGIN:VEVENT
DTSTART;TZID=America/Los_Angeles:20250607T100000
DTEND;TZID=America/Los_Angeles:20250607T160000
DTSTAMP:20260423T003934
CREATED:20250604T210017Z
LAST-MODIFIED:20250604T210017Z
UID:10002386-1749290400-1749312000@explorewashingtonpark.org
SUMMARY:Basket Making with Western Redcedar
DESCRIPTION:Stephanie Craig is one of few basket weavers in the Grand Ronde tradition. Join Stephanie and others as you learn about traditional lifeways\, culture\, traditional ecological knowledge\, see samples of traditional foods\, medicine and utilitarian plants. Stephanie will also share family belongings that have been passed down for generations\, as well as traditional tools. You will learn multiple traditional weaving techniques\, including different starts and rims\, and learn proper gathering\, processing\, cleaning\, and storage methods. In addition\, you will learn how to process raw cedar bark\, and complete and take home a finished woven cedar basket by the end of the class. This event is coordinated by Hoyt Arboretum\, and registration is required through their website.
URL:https://explorewashingtonpark.org/event/basket-making-with-western-redcedar/
LOCATION:Hoyt Arboretum\, 4000 SW Fairview Blvd\, Portland\, OR\, 97221\, United States
END:VEVENT
BEGIN:VEVENT
DTSTART;TZID=America/Los_Angeles:20250607T100000
DTEND;TZID=America/Los_Angeles:20250607T111500
DTSTAMP:20260423T003934
CREATED:20250604T210016Z
LAST-MODIFIED:20250604T210016Z
UID:10002385-1749290400-1749294900@explorewashingtonpark.org
SUMMARY:Tree Time! Preschool Walk
DESCRIPTION:Tree Time! preschool walks are a safe and fun way to get outside with your little one. Come join us for a story and guided walk on the trails at Hoyt Arboretum. We will use all of our senses to explore the natural surroundings and maybe even get our hands dirty! Staff and trained Arboretum volunteers will introduce you and your family to the plants\, trees\, insects\, mushrooms\, and more found at Hoyt Arboretum. This event is coordinated by Hoyt Arboretum\, and registration is required through their website.
URL:https://explorewashingtonpark.org/event/tree-time-preschool-walk-262/
LOCATION:Hoyt Arboretum\, 4000 SW Fairview Blvd\, Portland\, OR\, 97221\, United States
CATEGORIES:For Children
END:VEVENT
BEGIN:VEVENT
DTSTART;TZID=America/Los_Angeles:20250607T090000
DTEND;TZID=America/Los_Angeles:20250607T120000
DTSTAMP:20260423T003934
CREATED:20250604T205918Z
LAST-MODIFIED:20250604T205918Z
UID:10002384-1749286800-1749297600@explorewashingtonpark.org
SUMMARY:Saturday Crew
DESCRIPTION:Volunteer to care for Hoyt Arboretum’s trees and trails with the Saturday Crew! With 189-acres and more than 6\,000 trees along 12 miles of trails\, volunteers are incredibly important to maintaining Hoyt Arboretum’s tree collection and trail system\, and it’s a unique opportunity for volunteers to learn about and care for rare and unusual trees and plants from around the world. This event is coordinated by Hoyt Arboretum\, and registration is required through their website.
URL:https://explorewashingtonpark.org/event/saturday-crew-29/
LOCATION:Hoyt Arboretum\, 4000 SW Fairview Blvd\, Portland\, OR\, 97221\, United States
END:VEVENT
BEGIN:VEVENT
DTSTART;TZID=America/Los_Angeles:20250607T090000
DTEND;TZID=America/Los_Angeles:20250607T100000
DTSTAMP:20260423T003934
CREATED:20250604T210018Z
LAST-MODIFIED:20250604T210018Z
UID:10002387-1749286800-1749290400@explorewashingtonpark.org
SUMMARY:Member Garden Tour
DESCRIPTION:Join one of our volunteer guides on a free Garden tour for members and their guests only\, during member hours. Our knowledgeable tour guides\, some of whom have been patrons of Portland Japanese Garden for decades\, will provide members with interesting and informative cultural\, historical\, and horticultural information about the Garden. Whether you just joined as a member for the first time\, or have been a long-time supporter\, guided tours can provide new insights into the vision of the Garden and its place in the community.
URL:https://explorewashingtonpark.org/event/member-garden-tour-27/
LOCATION:Portland Japanese Garden\, 611 SW Kingston Ave\, Portland\, OR\, 97205\, United States
END:VEVENT
BEGIN:VEVENT
DTSTART;TZID=America/Los_Angeles:20250606T180000
DTEND;TZID=America/Los_Angeles:20250606T213000
DTSTAMP:20260423T003934
CREATED:20250418T184421Z
LAST-MODIFIED:20250604T205917Z
UID:10002352-1749232800-1749245400@explorewashingtonpark.org
SUMMARY:ZooBrew
DESCRIPTION:ZooBrew\, presented by Alaska Airlines\, returns June 6 and 7! This 21+ festival features more than 50 breweries and cideries\, along with food carts\, lawn games and live music from Beat Division. Plus\, enjoy keeper chats and an after-hours look at the zoo’s amazing wildlife. ZooBrew is a 21+ event — no daytime crowds\, just fun for a great cause! Every ticket purchased helps the Oregon Zoo protect endangered and threatened species at home and around the world. Gather friends or bring a date for a festive summer night and come see what’s brewing at the zoo!
URL:https://explorewashingtonpark.org/event/zoobrew/
LOCATION:Oregon Zoo\, 4001 SW Canyon Rd\, Portland\, OR\, 97221\, United States
END:VEVENT
BEGIN:VEVENT
DTSTART;TZID=America/Los_Angeles:20250606T131500
DTEND;TZID=America/Los_Angeles:20250606T141500
DTSTAMP:20260423T003934
CREATED:20250604T205917Z
LAST-MODIFIED:20250604T205917Z
UID:10002383-1749215700-1749219300@explorewashingtonpark.org
SUMMARY:Cultural Performance: Shinobue Flute & Piano Performance by Maido Mind
DESCRIPTION:Join us for a free musical performance featuring shinobue flute and a piano performance by Maido Mind. This cultural performance will be held from 1:15 to 2:15pm in the Jordan Schnitzer Japanese Arts Learning Center.
URL:https://explorewashingtonpark.org/event/cultural-performance-shinobue-flute-piano-performance-by-maido-mind-16/
LOCATION:Portland Japanese Garden\, 611 SW Kingston Ave\, Portland\, OR\, 97205\, United States
END:VEVENT
BEGIN:VEVENT
DTSTART;TZID=America/Los_Angeles:20250604T140000
DTEND;TZID=America/Los_Angeles:20250604T150000
DTSTAMP:20260423T003934
CREATED:20250604T205912Z
LAST-MODIFIED:20250604T205912Z
UID:10002381-1749045600-1749049200@explorewashingtonpark.org
SUMMARY:Basic Principles: Tai Chi & Qigong
DESCRIPTION:Join Jim Dalton Wednesday afternoons to continue your practice and advance your movements as you build the foundations of mind and body. Learn weight-bearing and non-weight-bearing stances\, correct body alignment and posture\, and follow coordinated movements. Slow\, continuous\, circular and flowing positions have been proven to improve mental well-being\, balance\, self-confidence\, independence and overall health. This event is coordinated by Hoyt Arboretum\, and registration is required through their website.
URL:https://explorewashingtonpark.org/event/basic-principles-tai-chi-qigong/
LOCATION:Hoyt Arboretum\, 4000 SW Fairview Blvd\, Portland\, OR\, 97221\, United States
END:VEVENT
BEGIN:VEVENT
DTSTART;TZID=America/Los_Angeles:20250604T131500
DTEND;TZID=America/Los_Angeles:20250604T141500
DTSTAMP:20260423T003934
CREATED:20250604T205917Z
LAST-MODIFIED:20250604T205917Z
UID:10002382-1749042900-1749046500@explorewashingtonpark.org
SUMMARY:Cultural Demonstration: Tea Ceremony
DESCRIPTION:Portland Japanese Garden will offer free public demonstrations of Chadō\, the Way of Tea\, at the Cathy Rudd Cultural Corner in the Jordan Schnitzer Japanese Arts Learning Center from 1:15 – 2:15pm. The Way of Tea is intrinsically linked to Japanese gardens and understanding the kokoro (heart) of Japanese gardening.
URL:https://explorewashingtonpark.org/event/cultural-demonstration-tea-ceremony-119/
LOCATION:Portland Japanese Garden\, 611 SW Kingston Ave\, Portland\, OR\, 97205\, United States
END:VEVENT
BEGIN:VEVENT
DTSTART;TZID=America/Los_Angeles:20250604T113000
DTEND;TZID=America/Los_Angeles:20250604T120000
DTSTAMP:20260423T003934
CREATED:20250604T205912Z
LAST-MODIFIED:20250604T205912Z
UID:10002380-1749036600-1749038400@explorewashingtonpark.org
SUMMARY:Forest Storytime
DESCRIPTION:On the first Wednesday of the month\, join us in the Discovery Museum’s reading nook for Forest Storytime. A storytime dedicated to forests and forest-themed books that connect adults and children and engage the imagination. Coloring pages are also available.
URL:https://explorewashingtonpark.org/event/forest-storytime-9/
LOCATION:Discovery Museum\, 4033 SW Canyon Rd\, Portland\, OR\, 97221\, United States
CATEGORIES:For Children
END:VEVENT
BEGIN:VEVENT
DTSTART;TZID=America/Los_Angeles:20250602T140000
DTEND;TZID=America/Los_Angeles:20250602T150000
DTSTAMP:20260423T003934
CREATED:20250604T205911Z
LAST-MODIFIED:20250604T205911Z
UID:10002379-1748872800-1748876400@explorewashingtonpark.org
SUMMARY:Tai Chi: Introduction to Better Balance
DESCRIPTION:Many tai chi moves use images from nature—stable as a pine\, flowing like a river\, hands moving as clouds. Enjoying tai chi in the Arboretum allows us to connect deeply to that imagery. Each week we will explore movements which are relaxing\, help improve focus and balance\, and nurture rooted in the moment. This event is coordinated by Hoyt Arboretum\, and registration is required through their website.
URL:https://explorewashingtonpark.org/event/tai-chi-introduction-to-better-balance/
LOCATION:Hoyt Arboretum\, 4000 SW Fairview Blvd\, Portland\, OR\, 97221\, United States
END:VEVENT
BEGIN:VEVENT
DTSTART;TZID=America/Los_Angeles:20250602T100000
DTEND;TZID=America/Los_Angeles:20250602T111500
DTSTAMP:20260423T003934
CREATED:20250604T205910Z
LAST-MODIFIED:20250604T205910Z
UID:10002378-1748858400-1748862900@explorewashingtonpark.org
SUMMARY:Tree Time! Preschool Walk
DESCRIPTION:Tree Time! preschool walks are a safe and fun way to get outside with your little one. Come join us for a story and guided walk on the trails at Hoyt Arboretum. We will use all of our senses to explore the natural surroundings and maybe even get our hands dirty! Staff and trained Arboretum volunteers will introduce you and your family to the plants\, trees\, insects\, mushrooms\, and more found at Hoyt Arboretum. This event is coordinated by Hoyt Arboretum\, and registration is required through their website.
URL:https://explorewashingtonpark.org/event/tree-time-preschool-walk-261/
LOCATION:Hoyt Arboretum\, 4000 SW Fairview Blvd\, Portland\, OR\, 97221\, United States
CATEGORIES:For Children
END:VEVENT
BEGIN:VEVENT
DTSTART;TZID=America/Los_Angeles:20250601T110000
DTEND;TZID=America/Los_Angeles:20250601T120000
DTSTAMP:20260423T003934
CREATED:20250418T184420Z
LAST-MODIFIED:20250604T205909Z
UID:10002351-1748775600-1748779200@explorewashingtonpark.org
SUMMARY:Trees For All Public Tour
DESCRIPTION:Trees For All Public Tours are held the first Sunday of every month\, May – October. This guided tour will be 1/2 mile along the paved trails around the Visitor Center and to the Viewpoint off Overlook Trail featuring angiosperms\, gymnosperms\, and native plants along the way. This is a free tour. Please sign up at the front desk in the Visitor Center (10am-4pm daily)\, on the day of the tour.
URL:https://explorewashingtonpark.org/event/trees-for-all-public-tour-7/
LOCATION:Hoyt Arboretum\, 4000 SW Fairview Blvd\, Portland\, OR\, 97221\, United States
END:VEVENT
BEGIN:VEVENT
DTSTART;TZID=America/Los_Angeles:20250531T190000
DTEND;TZID=America/Los_Angeles:20250531T203000
DTSTAMP:20260423T003934
CREATED:20250404T163958Z
LAST-MODIFIED:20250505T202208Z
UID:10002303-1748718000-1748723400@explorewashingtonpark.org
SUMMARY:Lost Freedom: A Memory with George Takei
DESCRIPTION:Inspired by autobiographical accounts of the incarceration of Japanese-American citizens in World War II\, Lost Freedom: A Memory weaves together music and spoken word in a profound exploration of a chilling time in American history. Actor\, author\, and activist\, George Takei (Star Trek)\, narrates his own story as one of the citizens forced from their homes and made to live in desolate camps thousands of miles away. Set to music by Oregon composer Kenji Bunch\, this poignant program will also include music by Oregon’s Japanese-American composer/percussionist Andy Akiho.
URL:https://explorewashingtonpark.org/event/lost-freedom-a-memory-with-george-takei/
LOCATION:Portland Japanese Garden\, 611 SW Kingston Ave\, Portland\, OR\, 97205\, United States
END:VEVENT
BEGIN:VEVENT
DTSTART;TZID=America/Los_Angeles:20250531T103000
DTEND;TZID=America/Los_Angeles:20250531T120000
DTSTAMP:20260423T003934
CREATED:20250418T184126Z
LAST-MODIFIED:20250505T202109Z
UID:10002350-1748687400-1748692800@explorewashingtonpark.org
SUMMARY:Trees of South America
DESCRIPTION:Curious about the trees of South America? Join Hoyt volunteer guide Jim Gersbach as he shares images and impressions from his recent trip to the monkey puzzle forests of Chile and the Chilean Andes. Class will begin indoors with a 45-minute presentation. Afterwards\, Jim will lead a 45-minute walk on the trails to visit some of the South American trees in Hoyt Arboretum’s collection. Learn about characteristics\, adaptations\, cultural significance\, life-cycles and more!  This event is coordinated by Hoyt Arboretum\, and registration is required through their website.
URL:https://explorewashingtonpark.org/event/trees-of-south-america/
LOCATION:Hoyt Arboretum\, 4000 SW Fairview Blvd\, Portland\, OR\, 97221\, United States
END:VEVENT
BEGIN:VEVENT
DTSTART;TZID=America/Los_Angeles:20250531T100000
DTEND;TZID=America/Los_Angeles:20250531T111500
DTSTAMP:20260423T003934
CREATED:20250418T184126Z
LAST-MODIFIED:20250505T202109Z
UID:10002349-1748685600-1748690100@explorewashingtonpark.org
SUMMARY:Tree Time! Preschool Walk
DESCRIPTION:Tree Time! preschool walks are a safe and fun way to get outside with your little one. Come join us for a story and guided walk on the trails at Hoyt Arboretum. We will use all of our senses to explore the natural surroundings and maybe even get our hands dirty! Staff and trained Arboretum volunteers will introduce you and your family to the plants\, trees\, insects\, mushrooms\, and more found at Hoyt Arboretum. This event is coordinated by Hoyt Arboretum\, and registration is required through their website.
URL:https://explorewashingtonpark.org/event/tree-time-preschool-walk-260/
LOCATION:Hoyt Arboretum\, 4000 SW Fairview Blvd\, Portland\, OR\, 97221\, United States
CATEGORIES:For Children
END:VEVENT
BEGIN:VEVENT
DTSTART;TZID=America/Los_Angeles:20250530T131500
DTEND;TZID=America/Los_Angeles:20250530T141500
DTSTAMP:20260423T003934
CREATED:20250418T184126Z
LAST-MODIFIED:20250505T202109Z
UID:10002348-1748610900-1748614500@explorewashingtonpark.org
SUMMARY:Cultural Performance: Shinobue Flute and Piano Performance by Maido Mind
DESCRIPTION:Join us for a free musical performance featuring shinobue flute and a piano performance by Maido Mind. This cultural performance will be held from 1:15 to 2:15pm in the Jordan Schnitzer Japanese Arts Learning Center. Included with garden admission.
URL:https://explorewashingtonpark.org/event/cultural-performance-shinobue-flute-and-piano-performance-by-maido-mind-14/
LOCATION:Portland Japanese Garden\, 611 SW Kingston Ave\, Portland\, OR\, 97205\, United States
END:VEVENT
END:VCALENDAR