BEGIN:VCALENDAR
VERSION:2.0
PRODID:-//Explore Washington Park - ECPv6.15.18//NONSGML v1.0//EN
CALSCALE:GREGORIAN
METHOD:PUBLISH
X-WR-CALNAME:Explore Washington Park
X-ORIGINAL-URL:https://explorewashingtonpark.org
X-WR-CALDESC:Events for Explore Washington Park
REFRESH-INTERVAL;VALUE=DURATION:PT1H
X-Robots-Tag:noindex
X-PUBLISHED-TTL:PT1H
BEGIN:VTIMEZONE
TZID:America/Los_Angeles
BEGIN:DAYLIGHT
TZOFFSETFROM:-0800
TZOFFSETTO:-0700
TZNAME:PDT
DTSTART:20210314T100000
END:DAYLIGHT
BEGIN:STANDARD
TZOFFSETFROM:-0700
TZOFFSETTO:-0800
TZNAME:PST
DTSTART:20211107T090000
END:STANDARD
BEGIN:DAYLIGHT
TZOFFSETFROM:-0800
TZOFFSETTO:-0700
TZNAME:PDT
DTSTART:20220313T100000
END:DAYLIGHT
BEGIN:STANDARD
TZOFFSETFROM:-0700
TZOFFSETTO:-0800
TZNAME:PST
DTSTART:20221106T090000
END:STANDARD
BEGIN:DAYLIGHT
TZOFFSETFROM:-0800
TZOFFSETTO:-0700
TZNAME:PDT
DTSTART:20230312T100000
END:DAYLIGHT
BEGIN:STANDARD
TZOFFSETFROM:-0700
TZOFFSETTO:-0800
TZNAME:PST
DTSTART:20231105T090000
END:STANDARD
END:VTIMEZONE
BEGIN:VEVENT
DTSTART;TZID=America/Los_Angeles:20221203T163000
DTEND;TZID=America/Los_Angeles:20221203T213000
DTSTAMP:20260421T053845
CREATED:20221011T164520Z
LAST-MODIFIED:20221101T181022Z
UID:10000429-1670085000-1670103000@explorewashingtonpark.org
SUMMARY:ZooLights
DESCRIPTION:ZooLights Walk Night
URL:https://explorewashingtonpark.org/event/zoolights-6/
LOCATION:Oregon Zoo\, 4001 SW Canyon Rd\, Portland\, OR\, 97221\, United States
CATEGORIES:Outdoors
ATTACH;FMTTYPE=image/jpeg:https://explorewashingtonpark.org/wp-content/uploads/2022/10/H_Oregon-Zoo-ZooLight.jpg
END:VEVENT
BEGIN:VEVENT
DTSTART;TZID=America/Los_Angeles:20221204T110000
DTEND;TZID=America/Los_Angeles:20221204T160000
DTSTAMP:20260421T053845
CREATED:20221122T191529Z
LAST-MODIFIED:20221209T181607Z
UID:10000550-1670151600-1670169600@explorewashingtonpark.org
SUMMARY:Free Sundays at the Discovery Museum
DESCRIPTION:World Forestry Center is offering free admission to its Discovery Museum on Sundays from November 13\, 2022\, through January 29\, 2023 (excluding Sunday\, December 25\, and Sunday\, January 1 when the Museum will be closed).
URL:https://explorewashingtonpark.org/event/free-sundays-at-the-discovery-museum-3/
LOCATION:World Forestry Center\, 4033 SW Canyon Rd.\, Portland\, OR\, 97221\, United States
CATEGORIES:Indoors
ATTACH;FMTTYPE=image/png:https://explorewashingtonpark.org/wp-content/uploads/2022/05/WFC20Opening-wFCytx.tmp_-e1654025985994.png
END:VEVENT
BEGIN:VEVENT
DTSTART;TZID=America/Los_Angeles:20221204T163000
DTEND;TZID=America/Los_Angeles:20221204T213000
DTSTAMP:20260421T053845
CREATED:20221011T164521Z
LAST-MODIFIED:20221011T190502Z
UID:10000430-1670171400-1670189400@explorewashingtonpark.org
SUMMARY:ZooLights
DESCRIPTION:ZooLights Walk Night
URL:https://explorewashingtonpark.org/event/zoolights-7/
LOCATION:Oregon Zoo\, 4001 SW Canyon Rd\, Portland\, OR\, 97221\, United States
CATEGORIES:Outdoors
ATTACH;FMTTYPE=image/jpeg:https://explorewashingtonpark.org/wp-content/uploads/2022/10/ZooLights-Family1.jpeg
END:VEVENT
BEGIN:VEVENT
DTSTART;TZID=America/Los_Angeles:20221205T163000
DTEND;TZID=America/Los_Angeles:20221205T213000
DTSTAMP:20260421T053845
CREATED:20221011T164521Z
LAST-MODIFIED:20221011T190631Z
UID:10000431-1670257800-1670275800@explorewashingtonpark.org
SUMMARY:ZooLights
DESCRIPTION:ZooLights Walk Night
URL:https://explorewashingtonpark.org/event/zoolights-8/
LOCATION:Oregon Zoo\, 4001 SW Canyon Rd\, Portland\, OR\, 97221\, United States
CATEGORIES:Outdoors
ATTACH;FMTTYPE=image/jpeg:https://explorewashingtonpark.org/wp-content/uploads/2022/10/ZooLights-Train2.jpeg
END:VEVENT
BEGIN:VEVENT
DTSTART;TZID=America/Los_Angeles:20221206T170000
DTEND;TZID=America/Los_Angeles:20221206T220000
DTSTAMP:20260421T053845
CREATED:20221011T164524Z
LAST-MODIFIED:20221011T190755Z
UID:10000432-1670346000-1670364000@explorewashingtonpark.org
SUMMARY:ZooLights Drive
DESCRIPTION:ZooLights Drive Night
URL:https://explorewashingtonpark.org/event/zoolights-drive-6/
LOCATION:Oregon Zoo\, 4001 SW Canyon Rd\, Portland\, OR\, 97221\, United States
CATEGORIES:Outdoors
ATTACH;FMTTYPE=image/jpeg:https://explorewashingtonpark.org/wp-content/uploads/2022/10/F8D80BAC-BCB4-47B5-AEE3-22454B9882DA_1_105_c2.jpeg
END:VEVENT
BEGIN:VEVENT
DTSTART;TZID=America/Los_Angeles:20221207T170000
DTEND;TZID=America/Los_Angeles:20221207T220000
DTSTAMP:20260421T053845
CREATED:20221011T164525Z
LAST-MODIFIED:20221011T190817Z
UID:10000433-1670432400-1670450400@explorewashingtonpark.org
SUMMARY:ZooLights Drive
DESCRIPTION:ZooLights Drive Night
URL:https://explorewashingtonpark.org/event/zoolights-drive-7/
LOCATION:Oregon Zoo\, 4001 SW Canyon Rd\, Portland\, OR\, 97221\, United States
CATEGORIES:Outdoors
ATTACH;FMTTYPE=image/jpeg:https://explorewashingtonpark.org/wp-content/uploads/2022/10/F8D80BAC-BCB4-47B5-AEE3-22454B9882DA_1_105_c2.jpeg
END:VEVENT
BEGIN:VEVENT
DTSTART;TZID=America/Los_Angeles:20221208T170000
DTEND;TZID=America/Los_Angeles:20221208T220000
DTSTAMP:20260421T053845
CREATED:20221011T164525Z
LAST-MODIFIED:20221011T190944Z
UID:10000434-1670518800-1670536800@explorewashingtonpark.org
SUMMARY:ZooLights Drive
DESCRIPTION:ZooLights Drive Night
URL:https://explorewashingtonpark.org/event/zoolights-drive-8/
LOCATION:Oregon Zoo\, 4001 SW Canyon Rd\, Portland\, OR\, 97221\, United States
CATEGORIES:Outdoors
ATTACH;FMTTYPE=image/jpeg:https://explorewashingtonpark.org/wp-content/uploads/2022/10/F8D80BAC-BCB4-47B5-AEE3-22454B9882DA_1_105_c2.jpeg
END:VEVENT
BEGIN:VEVENT
DTSTART;TZID=America/Los_Angeles:20221209T163000
DTEND;TZID=America/Los_Angeles:20221209T213000
DTSTAMP:20260421T053845
CREATED:20221011T164526Z
LAST-MODIFIED:20221011T191010Z
UID:10000435-1670603400-1670621400@explorewashingtonpark.org
SUMMARY:ZooLights
DESCRIPTION:ZooLights Walk Night
URL:https://explorewashingtonpark.org/event/zoolights-9/
LOCATION:Oregon Zoo\, 4001 SW Canyon Rd\, Portland\, OR\, 97221\, United States
CATEGORIES:Outdoors
ATTACH;FMTTYPE=image/jpeg:https://explorewashingtonpark.org/wp-content/uploads/2022/10/3DB511CD-F785-40F4-AF43-15D6471F981A_1_105_c2.jpeg
END:VEVENT
BEGIN:VEVENT
DTSTART;TZID=America/Los_Angeles:20221210T100000
DTEND;TZID=America/Los_Angeles:20221210T110000
DTSTAMP:20260421T053845
CREATED:20221101T181055Z
LAST-MODIFIED:20221101T192155Z
UID:10000526-1670666400-1670670000@explorewashingtonpark.org
SUMMARY:Natural Artists: Winter Garland (Ages 5-8)
DESCRIPTION:Winter is approaching and thoughts of snow and cheer are entering our heads. Join our third Natural Artists class to design and create a winter-themed garland. Use painted wood slices\, fragrant botanicals\, hand-felted wool balls\, clay beads and more! This class is for children ages 5-8 (optional drop-off).
URL:https://explorewashingtonpark.org/event/natural-artists-winter-garland-ages-5-8/
LOCATION:Hoyt Arboretum\, 4000 SW Fairview Blvd\, Portland\, OR\, 97221\, United States
CATEGORIES:Indoors
ATTACH;FMTTYPE=image/png:https://explorewashingtonpark.org/wp-content/uploads/2022/05/PJG20Iris-9UMS4k.tmp_-e1654026034196.png
END:VEVENT
BEGIN:VEVENT
DTSTART;TZID=America/Los_Angeles:20221210T163000
DTEND;TZID=America/Los_Angeles:20221210T213000
DTSTAMP:20260421T053845
CREATED:20221011T164526Z
LAST-MODIFIED:20221011T191239Z
UID:10000436-1670689800-1670707800@explorewashingtonpark.org
SUMMARY:ZooLights
DESCRIPTION:ZooLights Walk Night
URL:https://explorewashingtonpark.org/event/zoolights-10/
LOCATION:Oregon Zoo\, 4001 SW Canyon Rd\, Portland\, OR\, 97221\, United States
CATEGORIES:Outdoors
ATTACH;FMTTYPE=image/jpeg:https://explorewashingtonpark.org/wp-content/uploads/2022/10/H_Oregon-Zoo-ZooLight.jpg
END:VEVENT
BEGIN:VEVENT
DTSTART;TZID=America/Los_Angeles:20221211T110000
DTEND;TZID=America/Los_Angeles:20221211T160000
DTSTAMP:20260421T053845
CREATED:20221122T191530Z
LAST-MODIFIED:20221209T181608Z
UID:10000551-1670756400-1670774400@explorewashingtonpark.org
SUMMARY:Free Sundays at the Discovery Museum
DESCRIPTION:World Forestry Center is offering free admission to its Discovery Museum on Sundays from November 13\, 2022\, through January 29\, 2023 (excluding Sunday\, December 25\, and Sunday\, January 1 when the Museum will be closed).
URL:https://explorewashingtonpark.org/event/free-sundays-at-the-discovery-museum-4/
LOCATION:World Forestry Center\, 4033 SW Canyon Rd.\, Portland\, OR\, 97221\, United States
CATEGORIES:Indoors
ATTACH;FMTTYPE=image/png:https://explorewashingtonpark.org/wp-content/uploads/2022/05/WFC20Opening-wFCytx.tmp_-e1654025985994.png
END:VEVENT
BEGIN:VEVENT
DTSTART;TZID=America/Los_Angeles:20221211T163000
DTEND;TZID=America/Los_Angeles:20221211T213000
DTSTAMP:20260421T053845
CREATED:20221101T181056Z
LAST-MODIFIED:20221101T192316Z
UID:10000528-1670776200-1670794200@explorewashingtonpark.org
SUMMARY:ZooLights
DESCRIPTION:ZooLights Walk Night
URL:https://explorewashingtonpark.org/event/zoolights-40/
LOCATION:Oregon Zoo\, 4001 SW Canyon Rd\, Portland\, OR\, 97221\, United States
CATEGORIES:Outdoors
ATTACH;FMTTYPE=image/jpeg:https://explorewashingtonpark.org/wp-content/uploads/2022/10/ZooLights-Family1.jpeg
END:VEVENT
BEGIN:VEVENT
DTSTART;TZID=America/Los_Angeles:20221212T163000
DTEND;TZID=America/Los_Angeles:20221212T213000
DTSTAMP:20260421T053845
CREATED:20221011T164542Z
LAST-MODIFIED:20221011T191130Z
UID:10000438-1670862600-1670880600@explorewashingtonpark.org
SUMMARY:ZooLights
DESCRIPTION:ZooLights Walk Night
URL:https://explorewashingtonpark.org/event/zoolights-12/
LOCATION:Oregon Zoo\, 4001 SW Canyon Rd\, Portland\, OR\, 97221\, United States
CATEGORIES:Outdoors
ATTACH;FMTTYPE=image/jpeg:https://explorewashingtonpark.org/wp-content/uploads/2022/10/ZooLights-Train2.jpeg
END:VEVENT
BEGIN:VEVENT
DTSTART;TZID=America/Los_Angeles:20221213T170000
DTEND;TZID=America/Los_Angeles:20221213T220000
DTSTAMP:20260421T053845
CREATED:20221011T164543Z
LAST-MODIFIED:20221011T191509Z
UID:10000439-1670950800-1670968800@explorewashingtonpark.org
SUMMARY:ZooLights Drive
DESCRIPTION:ZooLights Drive Night
URL:https://explorewashingtonpark.org/event/zoolights-drive-9/
LOCATION:Oregon Zoo\, 4001 SW Canyon Rd\, Portland\, OR\, 97221\, United States
CATEGORIES:Outdoors
ATTACH;FMTTYPE=image/jpeg:https://explorewashingtonpark.org/wp-content/uploads/2022/10/F8D80BAC-BCB4-47B5-AEE3-22454B9882DA_1_105_c2.jpeg
END:VEVENT
BEGIN:VEVENT
DTSTART;TZID=America/Los_Angeles:20221214T170000
DTEND;TZID=America/Los_Angeles:20221214T220000
DTSTAMP:20260421T053845
CREATED:20221011T164543Z
LAST-MODIFIED:20221214T213013Z
UID:10000440-1671037200-1671055200@explorewashingtonpark.org
SUMMARY:ZooLights
DESCRIPTION:ZooLights
URL:https://explorewashingtonpark.org/event/zoolights-drive-10/
LOCATION:Oregon Zoo\, 4001 SW Canyon Rd\, Portland\, OR\, 97221\, United States
CATEGORIES:Outdoors
ATTACH;FMTTYPE=image/jpeg:https://explorewashingtonpark.org/wp-content/uploads/2022/10/12914zl-123-scaled.jpg
END:VEVENT
BEGIN:VEVENT
DTSTART;TZID=America/Los_Angeles:20221215T170000
DTEND;TZID=America/Los_Angeles:20221215T220000
DTSTAMP:20260421T053845
CREATED:20221011T164544Z
LAST-MODIFIED:20221214T212757Z
UID:10000441-1671123600-1671141600@explorewashingtonpark.org
SUMMARY:ZooLights
DESCRIPTION:ZooLights Night
URL:https://explorewashingtonpark.org/event/zoolights-drive-11/
LOCATION:Oregon Zoo\, 4001 SW Canyon Rd\, Portland\, OR\, 97221\, United States
CATEGORIES:Outdoors
ATTACH;FMTTYPE=image/jpeg:https://explorewashingtonpark.org/wp-content/uploads/2022/10/112816zz-179-scaled.jpg
END:VEVENT
BEGIN:VEVENT
DTSTART;TZID=America/Los_Angeles:20221216T163000
DTEND;TZID=America/Los_Angeles:20221216T213000
DTSTAMP:20260421T053845
CREATED:20221011T164633Z
LAST-MODIFIED:20221011T191634Z
UID:10000442-1671208200-1671226200@explorewashingtonpark.org
SUMMARY:ZooLights
DESCRIPTION:ZooLights Walk Night
URL:https://explorewashingtonpark.org/event/zoolights-13/
LOCATION:Oregon Zoo\, 4001 SW Canyon Rd\, Portland\, OR\, 97221\, United States
CATEGORIES:Outdoors
ATTACH;FMTTYPE=image/jpeg:https://explorewashingtonpark.org/wp-content/uploads/2022/10/3DB511CD-F785-40F4-AF43-15D6471F981A_1_105_c2.jpeg
END:VEVENT
BEGIN:VEVENT
DTSTART;TZID=America/Los_Angeles:20221217T163000
DTEND;TZID=America/Los_Angeles:20221217T213000
DTSTAMP:20260421T053845
CREATED:20221011T164633Z
LAST-MODIFIED:20221011T191654Z
UID:10000443-1671294600-1671312600@explorewashingtonpark.org
SUMMARY:ZooLights
DESCRIPTION:ZooLights Walk Night
URL:https://explorewashingtonpark.org/event/zoolights-14/
LOCATION:Oregon Zoo\, 4001 SW Canyon Rd\, Portland\, OR\, 97221\, United States
CATEGORIES:Outdoors
ATTACH;FMTTYPE=image/jpeg:https://explorewashingtonpark.org/wp-content/uploads/2022/10/H_Oregon-Zoo-ZooLight.jpg
END:VEVENT
BEGIN:VEVENT
DTSTART;TZID=America/Los_Angeles:20221218T110000
DTEND;TZID=America/Los_Angeles:20221218T160000
DTSTAMP:20260421T053845
CREATED:20221122T191530Z
LAST-MODIFIED:20221209T181609Z
UID:10000552-1671361200-1671379200@explorewashingtonpark.org
SUMMARY:Free Sundays at the Discovery Museum
DESCRIPTION:World Forestry Center is offering free admission to its Discovery Museum on Sundays from November 13\, 2022\, through January 29\, 2023 (excluding Sunday\, December 25\, and Sunday\, January 1 when the Museum will be closed).
URL:https://explorewashingtonpark.org/event/free-sundays-at-the-discovery-museum-5/
LOCATION:World Forestry Center\, 4033 SW Canyon Rd.\, Portland\, OR\, 97221\, United States
CATEGORIES:Indoors
ATTACH;FMTTYPE=image/png:https://explorewashingtonpark.org/wp-content/uploads/2022/05/WFC20Opening-wFCytx.tmp_-e1654025985994.png
END:VEVENT
BEGIN:VEVENT
DTSTART;TZID=America/Los_Angeles:20221218T163000
DTEND;TZID=America/Los_Angeles:20221218T213000
DTSTAMP:20260421T053845
CREATED:20221011T164633Z
LAST-MODIFIED:20221011T191716Z
UID:10000444-1671381000-1671399000@explorewashingtonpark.org
SUMMARY:ZooLights
DESCRIPTION:ZooLights Walk Night
URL:https://explorewashingtonpark.org/event/zoolights-15/
LOCATION:Oregon Zoo\, 4001 SW Canyon Rd\, Portland\, OR\, 97221\, United States
CATEGORIES:Outdoors
ATTACH;FMTTYPE=image/jpeg:https://explorewashingtonpark.org/wp-content/uploads/2022/10/ZooLights-Family1.jpeg
END:VEVENT
BEGIN:VEVENT
DTSTART;TZID=America/Los_Angeles:20221219T163000
DTEND;TZID=America/Los_Angeles:20221219T213000
DTSTAMP:20260421T053845
CREATED:20221011T164634Z
LAST-MODIFIED:20221011T191810Z
UID:10000445-1671467400-1671485400@explorewashingtonpark.org
SUMMARY:ZooLights
DESCRIPTION:ZooLights Walk Night
URL:https://explorewashingtonpark.org/event/zoolights-16/
LOCATION:Oregon Zoo\, 4001 SW Canyon Rd\, Portland\, OR\, 97221\, United States
CATEGORIES:Outdoors
ATTACH;FMTTYPE=image/jpeg:https://explorewashingtonpark.org/wp-content/uploads/2022/10/ZooLights-Train2.jpeg
END:VEVENT
BEGIN:VEVENT
DTSTART;TZID=America/Los_Angeles:20221220T163000
DTEND;TZID=America/Los_Angeles:20221220T213000
DTSTAMP:20260421T053845
CREATED:20221011T164634Z
LAST-MODIFIED:20221011T191833Z
UID:10000446-1671553800-1671571800@explorewashingtonpark.org
SUMMARY:ZooLights
DESCRIPTION:ZooLights Walk Night
URL:https://explorewashingtonpark.org/event/zoolights-17/
LOCATION:Oregon Zoo\, 4001 SW Canyon Rd\, Portland\, OR\, 97221\, United States
CATEGORIES:Outdoors
ATTACH;FMTTYPE=image/jpeg:https://explorewashingtonpark.org/wp-content/uploads/2022/10/3DB511CD-F785-40F4-AF43-15D6471F981A_1_105_c2.jpeg
END:VEVENT
BEGIN:VEVENT
DTSTART;TZID=America/Los_Angeles:20221221T163000
DTEND;TZID=America/Los_Angeles:20221221T213000
DTSTAMP:20260421T053845
CREATED:20221011T164651Z
LAST-MODIFIED:20221011T191855Z
UID:10000447-1671640200-1671658200@explorewashingtonpark.org
SUMMARY:ZooLights
DESCRIPTION:ZooLights Walk Night
URL:https://explorewashingtonpark.org/event/zoolights-18/
LOCATION:Oregon Zoo\, 4001 SW Canyon Rd\, Portland\, OR\, 97221\, United States
CATEGORIES:Outdoors
ATTACH;FMTTYPE=image/jpeg:https://explorewashingtonpark.org/wp-content/uploads/2022/10/H_Oregon-Zoo-ZooLight.jpg
END:VEVENT
BEGIN:VEVENT
DTSTART;TZID=America/Los_Angeles:20221222T163000
DTEND;TZID=America/Los_Angeles:20221222T213000
DTSTAMP:20260421T053845
CREATED:20221011T164651Z
LAST-MODIFIED:20221011T191951Z
UID:10000448-1671726600-1671744600@explorewashingtonpark.org
SUMMARY:ZooLights
DESCRIPTION:ZooLights Walk Night
URL:https://explorewashingtonpark.org/event/zoolights-19/
LOCATION:Oregon Zoo\, 4001 SW Canyon Rd\, Portland\, OR\, 97221\, United States
CATEGORIES:Outdoors
ATTACH;FMTTYPE=image/jpeg:https://explorewashingtonpark.org/wp-content/uploads/2022/10/ZooLights-Family1.jpeg
END:VEVENT
BEGIN:VEVENT
DTSTART;TZID=America/Los_Angeles:20221223T163000
DTEND;TZID=America/Los_Angeles:20221223T213000
DTSTAMP:20260421T053845
CREATED:20221011T164652Z
LAST-MODIFIED:20221011T192021Z
UID:10000449-1671813000-1671831000@explorewashingtonpark.org
SUMMARY:ZooLights
DESCRIPTION:ZooLights Walk Night
URL:https://explorewashingtonpark.org/event/zoolights-20/
LOCATION:Oregon Zoo\, 4001 SW Canyon Rd\, Portland\, OR\, 97221\, United States
CATEGORIES:Outdoors
ATTACH;FMTTYPE=image/jpeg:https://explorewashingtonpark.org/wp-content/uploads/2022/10/ZooLights-Train2.jpeg
END:VEVENT
BEGIN:VEVENT
DTSTART;TZID=America/Los_Angeles:20221224T163000
DTEND;TZID=America/Los_Angeles:20221224T213000
DTSTAMP:20260421T053845
CREATED:20221011T164652Z
LAST-MODIFIED:20221011T192047Z
UID:10000450-1671899400-1671917400@explorewashingtonpark.org
SUMMARY:ZooLights
DESCRIPTION:ZooLights Walk Night
URL:https://explorewashingtonpark.org/event/zoolights-21/
LOCATION:Oregon Zoo\, 4001 SW Canyon Rd\, Portland\, OR\, 97221\, United States
CATEGORIES:Outdoors
ATTACH;FMTTYPE=image/jpeg:https://explorewashingtonpark.org/wp-content/uploads/2022/10/3DB511CD-F785-40F4-AF43-15D6471F981A_1_105_c2.jpeg
END:VEVENT
BEGIN:VEVENT
DTSTART;TZID=America/Los_Angeles:20221226T163000
DTEND;TZID=America/Los_Angeles:20221226T213000
DTSTAMP:20260421T053845
CREATED:20221011T164652Z
LAST-MODIFIED:20221011T192131Z
UID:10000451-1672072200-1672090200@explorewashingtonpark.org
SUMMARY:ZooLights
DESCRIPTION:ZooLights Walk Night
URL:https://explorewashingtonpark.org/event/zoolights-22/
LOCATION:Oregon Zoo\, 4001 SW Canyon Rd\, Portland\, OR\, 97221\, United States
CATEGORIES:Outdoors
ATTACH;FMTTYPE=image/jpeg:https://explorewashingtonpark.org/wp-content/uploads/2022/10/H_Oregon-Zoo-ZooLight.jpg
END:VEVENT
BEGIN:VEVENT
DTSTART;TZID=America/Los_Angeles:20221227T163000
DTEND;TZID=America/Los_Angeles:20221227T213000
DTSTAMP:20260421T053845
CREATED:20221011T164709Z
LAST-MODIFIED:20221011T192203Z
UID:10000452-1672158600-1672176600@explorewashingtonpark.org
SUMMARY:ZooLights
DESCRIPTION:ZooLights Walk Night
URL:https://explorewashingtonpark.org/event/zoolights-23/
LOCATION:Oregon Zoo\, 4001 SW Canyon Rd\, Portland\, OR\, 97221\, United States
CATEGORIES:Outdoors
ATTACH;FMTTYPE=image/jpeg:https://explorewashingtonpark.org/wp-content/uploads/2022/10/ZooLights-Family1.jpeg
END:VEVENT
BEGIN:VEVENT
DTSTART;TZID=America/Los_Angeles:20221228T163000
DTEND;TZID=America/Los_Angeles:20221228T213000
DTSTAMP:20260421T053845
CREATED:20221011T164710Z
LAST-MODIFIED:20221011T192236Z
UID:10000453-1672245000-1672263000@explorewashingtonpark.org
SUMMARY:ZooLights
DESCRIPTION:ZooLights Walk Night
URL:https://explorewashingtonpark.org/event/zoolights-24/
LOCATION:Oregon Zoo\, 4001 SW Canyon Rd\, Portland\, OR\, 97221\, United States
CATEGORIES:Outdoors
ATTACH;FMTTYPE=image/jpeg:https://explorewashingtonpark.org/wp-content/uploads/2022/10/ZooLights-Train2.jpeg
END:VEVENT
BEGIN:VEVENT
DTSTART;TZID=America/Los_Angeles:20221229T163000
DTEND;TZID=America/Los_Angeles:20221229T213000
DTSTAMP:20260421T053845
CREATED:20221011T164710Z
LAST-MODIFIED:20221011T192257Z
UID:10000454-1672331400-1672349400@explorewashingtonpark.org
SUMMARY:ZooLights
DESCRIPTION:ZooLights Walk Night
URL:https://explorewashingtonpark.org/event/zoolights-25/
LOCATION:Oregon Zoo\, 4001 SW Canyon Rd\, Portland\, OR\, 97221\, United States
CATEGORIES:Outdoors
ATTACH;FMTTYPE=image/jpeg:https://explorewashingtonpark.org/wp-content/uploads/2022/10/3DB511CD-F785-40F4-AF43-15D6471F981A_1_105_c2.jpeg
END:VEVENT
END:VCALENDAR