BEGIN:VCALENDAR
VERSION:2.0
PRODID:-//Explore Washington Park - ECPv6.15.18//NONSGML v1.0//EN
CALSCALE:GREGORIAN
METHOD:PUBLISH
X-WR-CALNAME:Explore Washington Park
X-ORIGINAL-URL:https://explorewashingtonpark.org
X-WR-CALDESC:Events for Explore Washington Park
REFRESH-INTERVAL;VALUE=DURATION:PT1H
X-Robots-Tag:noindex
X-PUBLISHED-TTL:PT1H
BEGIN:VTIMEZONE
TZID:America/Los_Angeles
BEGIN:DAYLIGHT
TZOFFSETFROM:-0800
TZOFFSETTO:-0700
TZNAME:PDT
DTSTART:20220313T100000
END:DAYLIGHT
BEGIN:STANDARD
TZOFFSETFROM:-0700
TZOFFSETTO:-0800
TZNAME:PST
DTSTART:20221106T090000
END:STANDARD
BEGIN:DAYLIGHT
TZOFFSETFROM:-0800
TZOFFSETTO:-0700
TZNAME:PDT
DTSTART:20230312T100000
END:DAYLIGHT
BEGIN:STANDARD
TZOFFSETFROM:-0700
TZOFFSETTO:-0800
TZNAME:PST
DTSTART:20231105T090000
END:STANDARD
BEGIN:DAYLIGHT
TZOFFSETFROM:-0800
TZOFFSETTO:-0700
TZNAME:PDT
DTSTART:20240310T100000
END:DAYLIGHT
BEGIN:STANDARD
TZOFFSETFROM:-0700
TZOFFSETTO:-0800
TZNAME:PST
DTSTART:20241103T090000
END:STANDARD
END:VTIMEZONE
BEGIN:VEVENT
DTSTART;TZID=America/Los_Angeles:20230604T131500
DTEND;TZID=America/Los_Angeles:20230604T141500
DTSTAMP:20260421T202057
CREATED:20230601T205806Z
LAST-MODIFIED:20230601T210846Z
UID:10000775-1685884500-1685888100@explorewashingtonpark.org
SUMMARY:Cultural Performance: Koto Harp
DESCRIPTION:Enjoy a free koto harp performance by Oregon Koto-Kai at 1:15pm at the Cathy Rudd Cultural Corner in the Jordan Schnitzer Japanese Arts Learning Center.
URL:https://explorewashingtonpark.org/event/cultural-performance-koto-harp-21/
LOCATION:Portland Japanese Garden\, 611 SW Kingston Ave\, Portland\, OR\, 97205\, United States
ATTACH;FMTTYPE=image/png:https://explorewashingtonpark.org/wp-content/uploads/2022/05/KotoHarp-e1654025675120.png
END:VEVENT
BEGIN:VEVENT
DTSTART;TZID=America/Los_Angeles:20230604T130000
DTEND;TZID=America/Los_Angeles:20230604T140000
DTSTAMP:20260421T202057
CREATED:20230601T205806Z
LAST-MODIFIED:20230601T210818Z
UID:10000774-1685883600-1685887200@explorewashingtonpark.org
SUMMARY:Public Tour
DESCRIPTION:Do you want to know more about the global collection of trees that winds its way along 12 miles of hiking trails in Portland? Then join us for a free Public Tour!
URL:https://explorewashingtonpark.org/event/public-tour-5/
LOCATION:Hoyt Arboretum\, 4000 SW Fairview Blvd\, Portland\, OR\, 97221\, United States
ATTACH;FMTTYPE=image/png:https://explorewashingtonpark.org/wp-content/uploads/2022/05/Hoyt20Event-01-nX2zBe.tmp_-e1654025358763.png
END:VEVENT
BEGIN:VEVENT
DTSTART;TZID=America/Los_Angeles:20230603T131500
DTEND;TZID=America/Los_Angeles:20230603T141500
DTSTAMP:20260421T202057
CREATED:20230601T205805Z
LAST-MODIFIED:20230601T210725Z
UID:10000773-1685798100-1685801700@explorewashingtonpark.org
SUMMARY:Cultural Demonstration: Ikebana
DESCRIPTION:Ikebana\, the Japanese art of flower arranging\, has been translated as “living flowers” or “giving life to flowers.” Join us from 1:15-2:15pm for an Ikebana presentation by Nana Bellerud in honor of Ikebana Day. The demonstration will take place at the Cathy Rudd Cultural Corner\, located in the Jordan Schnitzer Japanese Arts Learning Center.
URL:https://explorewashingtonpark.org/event/cultural-demonstration-ikebana-7/
LOCATION:Portland Japanese Garden\, 611 SW Kingston Ave\, Portland\, OR\, 97205\, United States
ATTACH;FMTTYPE=image/png:https://explorewashingtonpark.org/wp-content/uploads/2022/05/PJG20Event-01-G1Hj2l.tmp_-e1654026090273.png
END:VEVENT
BEGIN:VEVENT
DTSTART;TZID=America/Los_Angeles:20230603T100000
DTEND;TZID=America/Los_Angeles:20230603T111500
DTSTAMP:20260421T202057
CREATED:20230601T205803Z
LAST-MODIFIED:20230601T210630Z
UID:10000772-1685786400-1685790900@explorewashingtonpark.org
SUMMARY:Tree Time! Preschool Walk
DESCRIPTION:Tree Time! preschool walks are a safe and fun way to get outside with your little one. Come join us for a story and guided walk on the trails at Hoyt Arboretum.
URL:https://explorewashingtonpark.org/event/tree-time-preschool-walk-77/
LOCATION:Hoyt Arboretum\, 4000 SW Fairview Blvd\, Portland\, OR\, 97221\, United States
CATEGORIES:Outdoors
ATTACH;FMTTYPE=image/png:https://explorewashingtonpark.org/wp-content/uploads/2022/05/Hoyt20Redwoods-zcnHbL.tmp_-e1654025836573.png
END:VEVENT
BEGIN:VEVENT
DTSTART;TZID=America/Los_Angeles:20230603T090000
DTEND;TZID=America/Los_Angeles:20230603T120000
DTSTAMP:20260421T202057
CREATED:20230601T205802Z
LAST-MODIFIED:20230601T210603Z
UID:10000771-1685782800-1685793600@explorewashingtonpark.org
SUMMARY:Saturday Crew (National Trails Day)
DESCRIPTION:Volunteer to care for Hoyt Arboretum’s trails for National Trails Day! With 189-acres and more than 6\,000 trees along 12 miles of trails\, volunteers are incredibly important to maintaining Hoyt Arboretum’s trail system.
URL:https://explorewashingtonpark.org/event/saturday-crew-national-trails-day-2/
LOCATION:Hoyt Arboretum\, 4000 SW Fairview Blvd\, Portland\, OR\, 97221\, United States
CATEGORIES:Outdoors
ATTACH;FMTTYPE=image/png:https://explorewashingtonpark.org/wp-content/uploads/2022/05/Hoyt20Event-02-Ip93xE.tmp_-e1654025941450.png
END:VEVENT
BEGIN:VEVENT
DTSTART;TZID=America/Los_Angeles:20230603T090000
DTEND;TZID=America/Los_Angeles:20230603T120000
DTSTAMP:20260421T202057
CREATED:20230601T205801Z
LAST-MODIFIED:20230601T210535Z
UID:10000770-1685782800-1685793600@explorewashingtonpark.org
SUMMARY:Forest Bathing Expanded
DESCRIPTION:Experience a three-hour guided forest bathing offering among Hoyt Arboretum’s unique tree collection and forested areas. Forest Bathing (also known as Forest Therapy) offers many health benefits from stress relief to immune system and mood support. This new program allows for additional guided invitations as forest partnership is extended for an additional hour.
URL:https://explorewashingtonpark.org/event/forest-bathing-expanded-2/
LOCATION:Hoyt Arboretum\, 4000 SW Fairview Blvd\, Portland\, OR\, 97221\, United States
CATEGORIES:Outdoors
ATTACH;FMTTYPE=image/png:https://explorewashingtonpark.org/wp-content/uploads/2022/05/Hoyt20Event-03-YlBjaZ.tmp_-e1654025797407.png
END:VEVENT
BEGIN:VEVENT
DTSTART;TZID=America/Los_Angeles:20230603T090000
DTEND;TZID=America/Los_Angeles:20230603T100000
DTSTAMP:20260421T202057
CREATED:20230424T211152Z
LAST-MODIFIED:20230424T211724Z
UID:10000733-1685782800-1685786400@explorewashingtonpark.org
SUMMARY:Member Garden Tour
DESCRIPTION:Join one of our volunteer guides on a Garden tour for members and their guests only\, during member hours. Our knowledgeable tour guides\, some of whom have been patrons of Portland Japanese Garden for decades\, will provide members with interesting and informative cultural\, historical\, and horticultural information about the Garden.
URL:https://explorewashingtonpark.org/event/member-garden-tour-6/
LOCATION:Portland Japanese Garden\, 611 SW Kingston Ave\, Portland\, OR\, 97205\, United States
CATEGORIES:Outdoors
ATTACH;FMTTYPE=image/png:https://explorewashingtonpark.org/wp-content/uploads/2022/05/PJG20Twilight-Cn9IbH.tmp_-e1654026057177.png
END:VEVENT
BEGIN:VEVENT
DTSTART;TZID=America/Los_Angeles:20230602T131500
DTEND;TZID=America/Los_Angeles:20230602T141500
DTSTAMP:20260421T202057
CREATED:20230601T205800Z
LAST-MODIFIED:20230601T210510Z
UID:10000769-1685711700-1685715300@explorewashingtonpark.org
SUMMARY:Cultural Performance: Koto Harp
DESCRIPTION:Enjoy a free koto harp performance by Mitsuki Dazai at 1:15pm at the Cathy Rudd Cultural Corner in the Jordan Schnitzer Japanese Arts Learning Center.
URL:https://explorewashingtonpark.org/event/cultural-performance-koto-harp-20/
LOCATION:Portland Japanese Garden\, 611 SW Kingston Ave\, Portland\, OR\, 97205\, United States
ATTACH;FMTTYPE=image/png:https://explorewashingtonpark.org/wp-content/uploads/2022/05/KotoHarp-e1654025675120.png
END:VEVENT
BEGIN:VEVENT
DTSTART;TZID=America/Los_Angeles:20230601T100000
DTEND;TZID=America/Los_Angeles:20230601T120000
DTSTAMP:20260421T202057
CREATED:20230601T205758Z
LAST-MODIFIED:20230601T210439Z
UID:10000768-1685613600-1685620800@explorewashingtonpark.org
SUMMARY:Nature Educator Volunteers - Summer Youth and Family Programs Training
DESCRIPTION:Do you have a love of the outdoors and an interest in youth and family environmental education? Become a volunteer Nature Educator at Hoyt Arboretum! Nature Educators support Pop-Up Nature!\, Family Forest Days\, and summer field trips to introduce participants to the wonders of nature and the science of trees through fun\, hands-on activities.
URL:https://explorewashingtonpark.org/event/nature-educator-volunteers-summer-youth-and-family-programs-training/
LOCATION:Hoyt Arboretum\, 4000 SW Fairview Blvd\, Portland\, OR\, 97221\, United States
ATTACH;FMTTYPE=image/png:https://explorewashingtonpark.org/wp-content/uploads/2022/05/Hoyt20Flowers-FeJCsa.tmp_-e1654025890281.png
END:VEVENT
BEGIN:VEVENT
DTSTART;TZID=America/Los_Angeles:20230531T190000
DTEND;TZID=America/Los_Angeles:20230531T203000
DTSTAMP:20260421T202057
CREATED:20230504T220037Z
LAST-MODIFIED:20230504T222908Z
UID:10000767-1685559600-1685565000@explorewashingtonpark.org
SUMMARY:Extended Member Hours
DESCRIPTION:Members are invited to experience the Garden’s tranquility in the golden light of sunset. Take advantage of the long summer evenings to enjoy the Garden\, without the crowds.
URL:https://explorewashingtonpark.org/event/extended-member-hours-9/
LOCATION:Portland Japanese Garden\, 611 SW Kingston Ave\, Portland\, OR\, 97205\, United States
ATTACH;FMTTYPE=image/png:https://explorewashingtonpark.org/wp-content/uploads/2022/05/PJG20Twilight-Cn9IbH.tmp_-e1654026057177.png
END:VEVENT
BEGIN:VEVENT
DTSTART;TZID=America/Los_Angeles:20230531T170000
DTEND;TZID=America/Los_Angeles:20230531T193000
DTSTAMP:20260421T202057
CREATED:20230504T220037Z
LAST-MODIFIED:20230504T222830Z
UID:10000765-1685552400-1685561400@explorewashingtonpark.org
SUMMARY:Knowing Trees
DESCRIPTION:Have you ever thought about diving deeper into what makes trees unique and how their characteristics help with their identification? If you’re curious about increasing your tree identification knowledge\, join arborist Casey Clapp of the podcast Completely Arbortrary\, to learn the basics and beyond of how trees grow.
URL:https://explorewashingtonpark.org/event/knowing-trees-4/
LOCATION:Hoyt Arboretum\, 4000 SW Fairview Blvd\, Portland\, OR\, 97221\, United States
ATTACH;FMTTYPE=image/png:https://explorewashingtonpark.org/wp-content/uploads/2022/05/Hoyt20Redwoods-zcnHbL.tmp_-e1654025836573.png
END:VEVENT
BEGIN:VEVENT
DTSTART;TZID=America/Los_Angeles:20230531T131500
DTEND;TZID=America/Los_Angeles:20230531T141500
DTSTAMP:20260421T202057
CREATED:20230504T220037Z
LAST-MODIFIED:20230504T222729Z
UID:10000766-1685538900-1685542500@explorewashingtonpark.org
SUMMARY:Cultural Demonstration: Discovering Geometry in Ikebana: Tenen Chihou
DESCRIPTION:Ikebana\, the Japanese art of flower arranging\, has been translated as “living flowers” or “the way of flowers.” Join us from 1:15-2:15pm for an ikebana presentation\,” Discovering Geometry in Ikebana: Tenen Chihou by Tomoko Okuyama\, Rumiko Fadden and David Komeiji of the Saga Goryu Ikebana North American Branch in the Jordan Schnitzer Japanese Arts Learning Center.
URL:https://explorewashingtonpark.org/event/cultural-demonstration-discovering-geometry-in-ikebana-tenen-chihou/
LOCATION:Portland Japanese Garden\, 611 SW Kingston Ave\, Portland\, OR\, 97205\, United States
ATTACH;FMTTYPE=image/png:https://explorewashingtonpark.org/wp-content/uploads/2022/05/PJG20Event-03-e1653684613846.png
END:VEVENT
BEGIN:VEVENT
DTSTART;TZID=America/Los_Angeles:20230531T120000
DTEND;TZID=America/Los_Angeles:20230531T133000
DTSTAMP:20260421T202057
CREATED:20230403T195313Z
LAST-MODIFIED:20230403T230017Z
UID:10000720-1685534400-1685539800@explorewashingtonpark.org
SUMMARY:Fraxinus and Emerald Ash Borer Tour
DESCRIPTION:The tree-killing insect emerald ash borer was discovered in Forest Grove last summer and now poses a serious threat to both native Oregon ash\, as well as the many introduced ash species planted in our urban forests. On this tour\, we’ll explore Hoyt Arboretum’s collection of trees in the genus Fraxinus\, learn about diversity within the genus\, and discuss likely scenarios for what urban foresters expect will happen to these trees and our urban canopy in coming years.
URL:https://explorewashingtonpark.org/event/fraxinus-and-emerald-ash-borer-tour/
LOCATION:Hoyt Arboretum\, 4000 SW Fairview Blvd\, Portland\, OR\, 97221\, United States
CATEGORIES:Outdoors
ATTACH;FMTTYPE=image/png:https://explorewashingtonpark.org/wp-content/uploads/2022/05/Hoyt20Event-01-nX2zBe.tmp_-e1654025358763.png
END:VEVENT
BEGIN:VEVENT
DTSTART;TZID=America/Los_Angeles:20230529T103000
DTEND;TZID=America/Los_Angeles:20230529T113000
DTSTAMP:20260421T202057
CREATED:20230403T195312Z
LAST-MODIFIED:20230403T225950Z
UID:10000719-1685356200-1685359800@explorewashingtonpark.org
SUMMARY:Tai Chi
DESCRIPTION:Many tai chi moves use images from nature—stable as a pine\, flowing like a river\, hands moving as clouds. Enjoying tai chi in the Arboretum allows us to connect deeply to that imagery. Each week we will explore movements which are relaxing\, help improve focus and balance\, and nurture rooted in the moment.
URL:https://explorewashingtonpark.org/event/tai-chi-5/
LOCATION:Hoyt Arboretum\, 4000 SW Fairview Blvd\, Portland\, OR\, 97221\, United States
CATEGORIES:Outdoors
ATTACH;FMTTYPE=image/png:https://explorewashingtonpark.org/wp-content/uploads/2022/05/Hoyt20Event-02-Ip93xE.tmp_-e1654025941450.png
END:VEVENT
BEGIN:VEVENT
DTSTART;TZID=America/Los_Angeles:20230529T100000
DTEND;TZID=America/Los_Angeles:20230529T111500
DTSTAMP:20260421T202057
CREATED:20230403T195312Z
LAST-MODIFIED:20230403T225907Z
UID:10000718-1685354400-1685358900@explorewashingtonpark.org
SUMMARY:Tree Time! Preschool Walk
DESCRIPTION:Tree Time! preschool walks are a safe and fun way to get outside with your little one. Come join us for a story and guided walk on the trails at Hoyt Arboretum.
URL:https://explorewashingtonpark.org/event/tree-time-preschool-walk-76/
LOCATION:Hoyt Arboretum\, 4000 SW Fairview Blvd\, Portland\, OR\, 97221\, United States
CATEGORIES:Outdoors
ATTACH;FMTTYPE=image/png:https://explorewashingtonpark.org/wp-content/uploads/2022/05/Hoyt20Event-03-YlBjaZ.tmp_-e1654025797407.png
END:VEVENT
BEGIN:VEVENT
DTSTART;TZID=America/Los_Angeles:20230528T130000
DTEND;TZID=America/Los_Angeles:20230528T140000
DTSTAMP:20260421T202057
CREATED:20230504T220035Z
LAST-MODIFIED:20230504T222358Z
UID:10000764-1685278800-1685282400@explorewashingtonpark.org
SUMMARY:Public Tour
DESCRIPTION:Do you want to know more about the global collection of trees that winds its way along 12 miles of hiking trails in Portland? Then join us for a free Public Tour!
URL:https://explorewashingtonpark.org/event/public-tour-4/
LOCATION:Hoyt Arboretum\, 4000 SW Fairview Blvd\, Portland\, OR\, 97221\, United States
ATTACH;FMTTYPE=image/png:https://explorewashingtonpark.org/wp-content/uploads/2022/05/Hoyt20Event-01-nX2zBe.tmp_-e1654025358763.png
END:VEVENT
BEGIN:VEVENT
DTSTART;TZID=America/Los_Angeles:20230527T131500
DTEND;TZID=America/Los_Angeles:20230527T141500
DTSTAMP:20260421T202057
CREATED:20230504T220035Z
LAST-MODIFIED:20230504T222309Z
UID:10000763-1685193300-1685196900@explorewashingtonpark.org
SUMMARY:Cultural Demonstration: Tea Ceremony
DESCRIPTION:Portland Japanese Garden will offer free public demonstrations of Chado\, the Way of Tea\, at the Cathy Rudd Cultural Corner in the Jordan Schnitzer Japanese Arts Learning Center from 1:15 – 2:15pm.
URL:https://explorewashingtonpark.org/event/cultural-demonstration-tea-ceremony-35/
LOCATION:Portland Japanese Garden\, 611 SW Kingston Ave\, Portland\, OR\, 97205\, United States
ATTACH;FMTTYPE=image/png:https://explorewashingtonpark.org/wp-content/uploads/2022/05/teaCeremony-e1653684537759.png
END:VEVENT
BEGIN:VEVENT
DTSTART;TZID=America/Los_Angeles:20230527T103000
DTEND;TZID=America/Los_Angeles:20230527T123000
DTSTAMP:20260421T202057
CREATED:20230403T195312Z
LAST-MODIFIED:20230403T225811Z
UID:10000717-1685183400-1685190600@explorewashingtonpark.org
SUMMARY:Healing Herbs of the Arboretum
DESCRIPTION:The plants that surround us are full of healing and nourishing properties\, if we know where to look! Join community herbalist Missy Rohs for a stroll around the Arboretum to explore the medicinal trees\, weeds\, and native plants we encounter. You will talk about which parts to use and which plants to avoid. You may even discover a new use for a plant you thought you knew well!
URL:https://explorewashingtonpark.org/event/healing-herbs-of-the-arboretum-6/
LOCATION:Hoyt Arboretum\, 4000 SW Fairview Blvd\, Portland\, OR\, 97221\, United States
CATEGORIES:Outdoors
ATTACH;FMTTYPE=image/png:https://explorewashingtonpark.org/wp-content/uploads/2022/05/Hoyt20Flowers-FeJCsa.tmp_-e1654025890281.png
END:VEVENT
BEGIN:VEVENT
DTSTART;TZID=America/Los_Angeles:20230527T100000
DTEND;TZID=America/Los_Angeles:20230527T111500
DTSTAMP:20260421T202057
CREATED:20230403T195311Z
LAST-MODIFIED:20230403T225637Z
UID:10000716-1685181600-1685186100@explorewashingtonpark.org
SUMMARY:Tree Time! Preschool Walk
DESCRIPTION:Tree Time! preschool walks are a safe and fun way to get outside with your little one. Come join us for a story and guided walk on the trails at Hoyt Arboretum.
URL:https://explorewashingtonpark.org/event/tree-time-preschool-walk-75/
LOCATION:Hoyt Arboretum\, 4000 SW Fairview Blvd\, Portland\, OR\, 97221\, United States
CATEGORIES:Outdoors
ATTACH;FMTTYPE=image/png:https://explorewashingtonpark.org/wp-content/uploads/2022/05/Hoyt20Redwoods-zcnHbL.tmp_-e1654025836573.png
END:VEVENT
BEGIN:VEVENT
DTSTART;TZID=America/Los_Angeles:20230527T093000
DTEND;TZID=America/Los_Angeles:20230527T110000
DTSTAMP:20260421T202057
CREATED:20230403T195308Z
LAST-MODIFIED:20230403T225548Z
UID:10000715-1685179800-1685185200@explorewashingtonpark.org
SUMMARY:Art of Flowers
DESCRIPTION:Explore the wonders of natural dye in this fun\, nature-inspired class. This beginner-friendly class will explore two techniques for creating unique wearable art. Participants will learn to create bundled dye silk scarves and eco-printed tote bags using flowers and plant dye.
URL:https://explorewashingtonpark.org/event/art-of-flowers/
LOCATION:Hoyt Arboretum\, 4000 SW Fairview Blvd\, Portland\, OR\, 97221\, United States
CATEGORIES:Indoors
ATTACH;FMTTYPE=image/png:https://explorewashingtonpark.org/wp-content/uploads/2022/05/Hoyt20Event-01-nX2zBe.tmp_-e1654025358763.png
END:VEVENT
BEGIN:VEVENT
DTSTART;TZID=America/Los_Angeles:20230526T131500
DTEND;TZID=America/Los_Angeles:20230526T141500
DTSTAMP:20260421T202057
CREATED:20230504T220034Z
LAST-MODIFIED:20230504T222217Z
UID:10000762-1685106900-1685110500@explorewashingtonpark.org
SUMMARY:Cultural Demonstration: Bonsai
DESCRIPTION:Join us for a live bonsai presentation at the Cathy Rudd Cultural Corner by Andrew Robson\, President of the Bonsai Society of Portland\, at the Jordan Schnitzer Japanese Arts Learning Center from 1:15 – 2:15pm.
URL:https://explorewashingtonpark.org/event/cultural-demonstration-bonsai-12/
LOCATION:Portland Japanese Garden\, 611 SW Kingston Ave\, Portland\, OR\, 97205\, United States
ATTACH;FMTTYPE=image/png:https://explorewashingtonpark.org/wp-content/uploads/2022/05/PJG20Event-01-G1Hj2l.tmp_-e1654026090273.png
END:VEVENT
BEGIN:VEVENT
DTSTART;TZID=America/Los_Angeles:20230525T123000
DTEND;TZID=America/Los_Angeles:20230525T140000
DTSTAMP:20260421T202057
CREATED:20230403T195307Z
LAST-MODIFIED:20230403T225507Z
UID:10000714-1685017800-1685023200@explorewashingtonpark.org
SUMMARY:Crochet Blossoms
DESCRIPTION:Spring and flowers are filling the Arboretum! If you want to explore a new craft inspired by spring blooms\, join instructor Ruth Williams to create delicate crochet flowers. This quick crochet project is approachable even for crochet novices\, using only basic crochet stitches. Ruth will demonstrate step-by-step how to create five-petaled flowers.
URL:https://explorewashingtonpark.org/event/crochet-blossoms/
LOCATION:Hoyt Arboretum\, 4000 SW Fairview Blvd\, Portland\, OR\, 97221\, United States
CATEGORIES:Indoors
ATTACH;FMTTYPE=image/png:https://explorewashingtonpark.org/wp-content/uploads/2022/05/Hoyt20Event-02-Ip93xE.tmp_-e1654025941450.png
END:VEVENT
BEGIN:VEVENT
DTSTART;TZID=America/Los_Angeles:20230524T131500
DTEND;TZID=America/Los_Angeles:20230524T141500
DTSTAMP:20260421T202057
CREATED:20230504T220034Z
LAST-MODIFIED:20230504T222137Z
UID:10000761-1684934100-1684937700@explorewashingtonpark.org
SUMMARY:Cultural Demonstration: Tea Ceremony
DESCRIPTION:Portland Japanese Garden will offer free public demonstrations of Chado\, the Way of Tea\, at the Cathy Rudd Cultural Corner in the Jordan Schnitzer Japanese Arts Learning Center from 1:15 – 2:15pm.
URL:https://explorewashingtonpark.org/event/cultural-demonstration-tea-ceremony-34/
LOCATION:Portland Japanese Garden\, 611 SW Kingston Ave\, Portland\, OR\, 97205\, United States
ATTACH;FMTTYPE=image/png:https://explorewashingtonpark.org/wp-content/uploads/2022/05/teaCeremony-e1653684537759.png
END:VEVENT
BEGIN:VEVENT
DTSTART;TZID=America/Los_Angeles:20230523T130000
DTEND;TZID=America/Los_Angeles:20230523T143000
DTSTAMP:20260421T202057
CREATED:20230403T195307Z
LAST-MODIFIED:20230403T225425Z
UID:10000713-1684846800-1684852200@explorewashingtonpark.org
SUMMARY:Journal the Arboretum Trees
DESCRIPTION:Hoyt Arboretum is home to a global collection of over 2\,200 species of trees from all around the world. Join Elizabeth Higgins on the trails each week to visit many of these species as you explore their unique textures and colors. Close examination of bark\, cones\, seeds\, fruit and leaves will bring new and exciting challenges to your art practice each week. Bring your love of learning and creativity; no previous nature drawing experience is required.
URL:https://explorewashingtonpark.org/event/journal-the-arboretum-trees-4/
LOCATION:Hoyt Arboretum\, 4000 SW Fairview Blvd\, Portland\, OR\, 97221\, United States
CATEGORIES:Outdoors
ATTACH;FMTTYPE=image/png:https://explorewashingtonpark.org/wp-content/uploads/2022/05/Hoyt20Flowers-FeJCsa.tmp_-e1654025890281.png
END:VEVENT
BEGIN:VEVENT
DTSTART;TZID=America/Los_Angeles:20230522T103000
DTEND;TZID=America/Los_Angeles:20230522T113000
DTSTAMP:20260421T202057
CREATED:20230403T195307Z
LAST-MODIFIED:20230403T225327Z
UID:10000712-1684751400-1684755000@explorewashingtonpark.org
SUMMARY:Tai Chi
DESCRIPTION:Many tai chi moves use images from nature—stable as a pine\, flowing like a river\, hands moving as clouds. Enjoying tai chi in the Arboretum allows us to connect deeply to that imagery. Each week we will explore movements which are relaxing\, help improve focus and balance\, and nurture rooted in the moment.
URL:https://explorewashingtonpark.org/event/tai-chi-4/
LOCATION:Hoyt Arboretum\, 4000 SW Fairview Blvd\, Portland\, OR\, 97221\, United States
CATEGORIES:Outdoors
ATTACH;FMTTYPE=image/png:https://explorewashingtonpark.org/wp-content/uploads/2022/05/Hoyt20Event-03-YlBjaZ.tmp_-e1654025797407.png
END:VEVENT
BEGIN:VEVENT
DTSTART;TZID=America/Los_Angeles:20230522T100000
DTEND;TZID=America/Los_Angeles:20230522T111500
DTSTAMP:20260421T202057
CREATED:20230403T195306Z
LAST-MODIFIED:20230403T225248Z
UID:10000711-1684749600-1684754100@explorewashingtonpark.org
SUMMARY:Tree Time! Preschool Walk
DESCRIPTION:Tree Time! preschool walks are a safe and fun way to get outside with your little one. Come join us for a story and guided walk on the trails at Hoyt Arboretum.
URL:https://explorewashingtonpark.org/event/tree-time-preschool-walk-74/
LOCATION:Hoyt Arboretum\, 4000 SW Fairview Blvd\, Portland\, OR\, 97221\, United States
CATEGORIES:Outdoors
ATTACH;FMTTYPE=image/png:https://explorewashingtonpark.org/wp-content/uploads/2022/05/Hoyt20Event-01-nX2zBe.tmp_-e1654025358763.png
END:VEVENT
BEGIN:VEVENT
DTSTART;TZID=America/Los_Angeles:20230521T131500
DTEND;TZID=America/Los_Angeles:20230521T141500
DTSTAMP:20260421T202057
CREATED:20230504T220032Z
LAST-MODIFIED:20230504T222020Z
UID:10000760-1684674900-1684678500@explorewashingtonpark.org
SUMMARY:Cultural Demonstration: Bonsai
DESCRIPTION:Join us for a live bonsai presentation at the Cathy Rudd Cultural Corner by Andrew Robson\, President of the Bonsai Society of Portland\, at the Jordan Schnitzer Japanese Arts Learning Center from 1:15 – 2:15pm.
URL:https://explorewashingtonpark.org/event/cultural-demonstration-bonsai-11/
LOCATION:Portland Japanese Garden\, 611 SW Kingston Ave\, Portland\, OR\, 97205\, United States
ATTACH;FMTTYPE=image/png:https://explorewashingtonpark.org/wp-content/uploads/2022/05/PJG20Event-03-e1653684613846.png
END:VEVENT
BEGIN:VEVENT
DTSTART;TZID=America/Los_Angeles:20230521T130000
DTEND;TZID=America/Los_Angeles:20230521T140000
DTSTAMP:20260421T202057
CREATED:20230504T220032Z
LAST-MODIFIED:20230504T221939Z
UID:10000758-1684674000-1684677600@explorewashingtonpark.org
SUMMARY:Public Tour
DESCRIPTION:Do you want to know more about the global collection of trees that winds its way along 12 miles of hiking trails in Portland? Then join us for a free Public Tour!
URL:https://explorewashingtonpark.org/event/public-tour-3/
LOCATION:Hoyt Arboretum\, 4000 SW Fairview Blvd\, Portland\, OR\, 97221\, United States
ATTACH;FMTTYPE=image/png:https://explorewashingtonpark.org/wp-content/uploads/2022/05/Hoyt20Flowers-FeJCsa.tmp_-e1654025890281.png
END:VEVENT
BEGIN:VEVENT
DTSTART;TZID=America/Los_Angeles:20230521T090000
DTEND;TZID=America/Los_Angeles:20230521T100000
DTSTAMP:20260421T202057
CREATED:20230504T220032Z
LAST-MODIFIED:20230504T221847Z
UID:10000759-1684659600-1684663200@explorewashingtonpark.org
SUMMARY:Mindfulness Tour
DESCRIPTION:This intimate tour focuses not on meditation\, but instead on learning to bring mindful awareness to oneself\, and the world around us\, through intentional observation and connections.
URL:https://explorewashingtonpark.org/event/mindfulness-tour/
LOCATION:Portland Japanese Garden\, 611 SW Kingston Ave\, Portland\, OR\, 97205\, United States
ATTACH;FMTTYPE=image/png:https://explorewashingtonpark.org/wp-content/uploads/2022/05/PJG20Iris-9UMS4k.tmp_-e1654026034196.png
END:VEVENT
BEGIN:VEVENT
DTSTART;TZID=America/Los_Angeles:20230520T131500
DTEND;TZID=America/Los_Angeles:20230520T141500
DTSTAMP:20260421T202057
CREATED:20230504T220031Z
LAST-MODIFIED:20230504T221601Z
UID:10000757-1684588500-1684592100@explorewashingtonpark.org
SUMMARY:Cultural Demonstration: Tea Ceremony
DESCRIPTION:Portland Japanese Garden will offer free public demonstrations of Chado\, the Way of Tea\, at the Cathy Rudd Cultural Corner in the Jordan Schnitzer Japanese Arts Learning Center from 1:15 – 2:15pm.
URL:https://explorewashingtonpark.org/event/cultural-demonstration-tea-ceremony-33/
LOCATION:Portland Japanese Garden\, 611 SW Kingston Ave\, Portland\, OR\, 97205\, United States
ATTACH;FMTTYPE=image/png:https://explorewashingtonpark.org/wp-content/uploads/2022/05/teaCeremony-e1653684537759.png
END:VEVENT
END:VCALENDAR