BEGIN:VCALENDAR
VERSION:2.0
PRODID:-//Explore Washington Park - ECPv6.15.18//NONSGML v1.0//EN
CALSCALE:GREGORIAN
METHOD:PUBLISH
X-ORIGINAL-URL:https://explorewashingtonpark.org
X-WR-CALDESC:Events for Explore Washington Park
REFRESH-INTERVAL;VALUE=DURATION:PT1H
X-Robots-Tag:noindex
X-PUBLISHED-TTL:PT1H
BEGIN:VTIMEZONE
TZID:America/Los_Angeles
BEGIN:DAYLIGHT
TZOFFSETFROM:-0800
TZOFFSETTO:-0700
TZNAME:PDT
DTSTART:20230312T100000
END:DAYLIGHT
BEGIN:STANDARD
TZOFFSETFROM:-0700
TZOFFSETTO:-0800
TZNAME:PST
DTSTART:20231105T090000
END:STANDARD
BEGIN:DAYLIGHT
TZOFFSETFROM:-0800
TZOFFSETTO:-0700
TZNAME:PDT
DTSTART:20240310T100000
END:DAYLIGHT
BEGIN:STANDARD
TZOFFSETFROM:-0700
TZOFFSETTO:-0800
TZNAME:PST
DTSTART:20241103T090000
END:STANDARD
BEGIN:DAYLIGHT
TZOFFSETFROM:-0800
TZOFFSETTO:-0700
TZNAME:PDT
DTSTART:20250309T100000
END:DAYLIGHT
BEGIN:STANDARD
TZOFFSETFROM:-0700
TZOFFSETTO:-0800
TZNAME:PST
DTSTART:20251102T090000
END:STANDARD
END:VTIMEZONE
BEGIN:VEVENT
DTSTART;TZID=America/Los_Angeles:20240728T090000
DTEND;TZID=America/Los_Angeles:20240728T090000
DTSTAMP:20260425T094530
CREATED:20240619T000343Z
LAST-MODIFIED:20240619T001806Z
UID:10001602-1722157200-1722157200@explorewashingtonpark.org
SUMMARY:Mindfulness Tour
DESCRIPTION:This intimate tour focuses not on meditation\, but instead on learning to bring mindful awareness to oneself\, and the world around us\, through intentional observation and connections. An experienced guide will provide a foundation for the art of contemplative exploration throughout various Garden spaces\, and gently guide awareness away from the busyness of everyday life\, back toward the connection to nature and experience of peace.
URL:https://explorewashingtonpark.org/event/mindfulness-tour-17/
LOCATION:Portland Japanese Garden\, 611 SW Kingston Ave\, Portland\, OR\, 97205\, United States
ATTACH;FMTTYPE=image/jpeg:https://explorewashingtonpark.org/wp-content/uploads/2024/05/OOO-07.jpg
END:VEVENT
BEGIN:VEVENT
DTSTART;TZID=America/Los_Angeles:20240728T100000
DTEND;TZID=America/Los_Angeles:20240728T100000
DTSTAMP:20260425T094530
CREATED:20240715T162242Z
LAST-MODIFIED:20240715T163215Z
UID:10001613-1722160800-1722160800@explorewashingtonpark.org
SUMMARY:Queer & Trans Community Forest Bathing
DESCRIPTION:Experience a two-hour guided forest bathing walk through Hoyt ArboretumÕs unique tree collection and forested areas. Forest Bathing (also known as Forest Therapy) offers many health benefits from stress relief to immune system and mood support. Note: Please only register for this workshop if you identify as queer or trans.
URL:https://explorewashingtonpark.org/event/queer-trans-community-forest-bathing/
LOCATION:Hoyt Arboretum\, 4000 SW Fairview Blvd\, Portland\, OR\, 97221\, United States
ATTACH;FMTTYPE=image/png:https://explorewashingtonpark.org/wp-content/uploads/2022/05/Hoyt20Event-03-YlBjaZ.tmp_-e1654025797407.png
END:VEVENT
BEGIN:VEVENT
DTSTART;TZID=America/Los_Angeles:20240728T110000
DTEND;TZID=America/Los_Angeles:20240728T110000
DTSTAMP:20260425T094530
CREATED:20240619T000341Z
LAST-MODIFIED:20240619T001748Z
UID:10001601-1722164400-1722164400@explorewashingtonpark.org
SUMMARY:Public Tour
DESCRIPTION:Explore one of Hoyt ArboretumÕs three nationally-accredited collections with a knowledgeable guide. Public Tours will follow routes to highlight the Magnolia Collection in the spring\, the Conifer Collection in the summer\, and the Maple Collection in the fall.
URL:https://explorewashingtonpark.org/event/public-tour-31/
LOCATION:Hoyt Arboretum\, 4000 SW Fairview Blvd\, Portland\, OR\, 97221\, United States
ATTACH;FMTTYPE=image/jpeg:https://explorewashingtonpark.org/wp-content/uploads/2021/05/Hoyt_Tree_Upshot_Web_banner.jpg
END:VEVENT
BEGIN:VEVENT
DTSTART;TZID=America/Los_Angeles:20240728T131500
DTEND;TZID=America/Los_Angeles:20240728T131500
DTSTAMP:20260425T094530
CREATED:20240715T162256Z
LAST-MODIFIED:20240715T162911Z
UID:10001614-1722172500-1722172500@explorewashingtonpark.org
SUMMARY:Cultural Demonstration: Tea Ceremony
DESCRIPTION:Portland Japanese Garden will offer free public demonstrations of Chad_\, the Way of Tea\, at the Cathy Rudd Cultural Corner in the Jordan Schnitzer Japanese Arts Learning Center from 1:15 Ð 2:15pm. The Way of Tea is intrinsically linked to Japanese gardens and understanding the kokoro (heart) of Japanese gardening.
URL:https://explorewashingtonpark.org/event/cultural-demonstration-tea-ceremony-84/
LOCATION:Portland Japanese Garden\, 611 SW Kingston Ave\, Portland\, OR\, 97205\, United States
ATTACH;FMTTYPE=image/png:https://explorewashingtonpark.org/wp-content/uploads/2022/05/teaCeremony-e1653684537759.png
END:VEVENT
BEGIN:VEVENT
DTSTART;TZID=America/Los_Angeles:20240728T140000
DTEND;TZID=America/Los_Angeles:20240728T140000
DTSTAMP:20260425T094530
CREATED:20240619T000340Z
LAST-MODIFIED:20240619T001722Z
UID:10001600-1722175200-1722175200@explorewashingtonpark.org
SUMMARY:Forest Talks
DESCRIPTION:OregonÕs forest education program\, Talk About Trees\, moves out of the classroom and into the Discovery Museum to share the complex world of forests with preschool-8th grade students. This interactive science-based program offers hands-on learning to increase studentsÕ knowledge and awareness of forestry-related issues.
URL:https://explorewashingtonpark.org/event/forest-talks-2/
LOCATION:Discovery Museum\, 4033 SW Canyon Rd\, Portland\, OR\, 97221\, United States
ATTACH;FMTTYPE=image/jpeg:https://explorewashingtonpark.org/wp-content/uploads/2024/05/XXX-04.jpg
END:VEVENT
BEGIN:VEVENT
DTSTART;TZID=America/Los_Angeles:20240729T100000
DTEND;TZID=America/Los_Angeles:20240729T100000
DTSTAMP:20260425T094530
CREATED:20240619T000344Z
LAST-MODIFIED:20240619T001659Z
UID:10001603-1722247200-1722247200@explorewashingtonpark.org
SUMMARY:Tree Time! Preschool Walk
DESCRIPTION:Tree Time! preschool walks are a safe and fun way to get outside with your little one. Come join us for a story and guided walk on the trails at Hoyt Arboretum. We will use all of our senses to explore the natural surroundings and maybe even get our hands dirty! Staff and trained Arboretum volunteers will introduce you and your family to the plants\, trees\, insects\, mushrooms\, and more found at Hoyt Arboretum.
URL:https://explorewashingtonpark.org/event/tree-time-preschool-walk-170/
LOCATION:Hoyt Arboretum\, 4000 SW Fairview Blvd\, Portland\, OR\, 97221\, United States
ATTACH;FMTTYPE=image/png:https://explorewashingtonpark.org/wp-content/uploads/2022/05/Hoyt20Event-01-nX2zBe.tmp_-e1654025358763.png
END:VEVENT
BEGIN:VEVENT
DTSTART;TZID=America/Los_Angeles:20240729T103000
DTEND;TZID=America/Los_Angeles:20240729T103000
DTSTAMP:20260425T094530
CREATED:20240619T000345Z
LAST-MODIFIED:20240620T222330Z
UID:10001604-1722249000-1722249000@explorewashingtonpark.org
SUMMARY:Tai Chi
DESCRIPTION:Many tai chi moves use images from natureÑstable as a pine\, flowing like a river\, hands moving as clouds. Enjoying tai chi in the Arboretum allows us to connect deeply to that imagery. Each week we will explore movements which are relaxing\, help improve focus and balance\, and nurture rooted in the moment.
URL:https://explorewashingtonpark.org/event/tai-chi-35/
LOCATION:Hoyt Arboretum\, 4000 SW Fairview Blvd\, Portland\, OR\, 97221\, United States
ATTACH;FMTTYPE=image/png:https://explorewashingtonpark.org/wp-content/uploads/2022/05/Hoyt20Event-03-YlBjaZ.tmp_-e1654025797407.png
END:VEVENT
BEGIN:VEVENT
DTSTART;TZID=America/Los_Angeles:20240731T100000
DTEND;TZID=America/Los_Angeles:20240731T100000
DTSTAMP:20260425T094530
CREATED:20240619T000345Z
LAST-MODIFIED:20240620T222149Z
UID:10001605-1722420000-1722420000@explorewashingtonpark.org
SUMMARY:Qigong
DESCRIPTION:Qigong\, pronounced Òchi gong\,Ó has both psychological and physical benefits. Individuals practice body movement\, breath\, and posture in order to optimize over all health and well-being. Qigong was developed thousands of years ago as a part of Chinese medicine. Instructor Thomas will guide participants through breathing patterns and gentle movement underneath the trees of the Arboretum.
URL:https://explorewashingtonpark.org/event/qigong-20/
LOCATION:Hoyt Arboretum\, 4000 SW Fairview Blvd\, Portland\, OR\, 97221\, United States
ATTACH;FMTTYPE=image/png:https://explorewashingtonpark.org/wp-content/uploads/2022/05/Hoyt20Event-01-nX2zBe.tmp_-e1654025358763.png
END:VEVENT
BEGIN:VEVENT
DTSTART;TZID=America/Los_Angeles:20240731T110000
DTEND;TZID=America/Los_Angeles:20240731T110000
DTSTAMP:20260425T094530
CREATED:20240619T000346Z
LAST-MODIFIED:20240619T001510Z
UID:10001606-1722423600-1722423600@explorewashingtonpark.org
SUMMARY:Hike with Hoyt
DESCRIPTION:Explore Hoyt ArboretumÕs trails on a guided hike! Learn the trails\, see the ArboretumÕs highlights\, and meet a new community of outdoor enthusiasts.
URL:https://explorewashingtonpark.org/event/hike-with-hoyt-33/
LOCATION:Hoyt Arboretum\, 4000 SW Fairview Blvd\, Portland\, OR\, 97221\, United States
ATTACH;FMTTYPE=image/jpeg:https://explorewashingtonpark.org/wp-content/uploads/2024/05/OOO-05.jpg
END:VEVENT
BEGIN:VEVENT
DTSTART;TZID=America/Los_Angeles:20240731T131500
DTEND;TZID=America/Los_Angeles:20240731T131500
DTSTAMP:20260425T094530
CREATED:20240715T162304Z
LAST-MODIFIED:20240715T163102Z
UID:10001615-1722431700-1722431700@explorewashingtonpark.org
SUMMARY:Cultural Demonstration: Tea Ceremony
DESCRIPTION:Portland Japanese Garden will offer free public demonstrations of Chad_\, the Way of Tea\, at the Cathy Rudd Cultural Corner in the Jordan Schnitzer Japanese Arts Learning Center from 1:15 Ð 2:15pm. The Way of Tea is intrinsically linked to Japanese gardens and understanding the kokoro (heart) of Japanese gardening.
URL:https://explorewashingtonpark.org/event/cultural-demonstration-tea-ceremony-85/
LOCATION:Portland Japanese Garden\, 611 SW Kingston Ave\, Portland\, OR\, 97205\, United States
ATTACH;FMTTYPE=image/png:https://explorewashingtonpark.org/wp-content/uploads/2022/05/teaCeremony-e1653684537759.png
END:VEVENT
BEGIN:VEVENT
DTSTART;TZID=America/Los_Angeles:20240801T100000
DTEND;TZID=America/Los_Angeles:20240801T100000
DTSTAMP:20260425T094530
CREATED:20240723T222532Z
LAST-MODIFIED:20240731T211654Z
UID:10001616-1722506400-1722506400@explorewashingtonpark.org
SUMMARY:Pop-Up Nature!
DESCRIPTION:Join us for our twice weekly Pop-Up Nature Stations in the Visitor Center Courtyard. WeÕll be sharing and discussing topics like cones\, ferns\, seeds\, berries\, leaves\, bark\, and more! Participants will receive Pop-Up Nature! Passports to collect stamps and to take notes about featured topics week after week. Collect 5 stamps and earn a prize!
URL:https://explorewashingtonpark.org/event/pop-up-nature-27/
LOCATION:Hoyt Arboretum\, 4000 SW Fairview Blvd\, Portland\, OR\, 97221\, United States
CATEGORIES:Outdoors
ATTACH;FMTTYPE=image/png:https://explorewashingtonpark.org/wp-content/uploads/2022/05/Hoyt20Flowers-FeJCsa.tmp_-e1654025890281.png
END:VEVENT
BEGIN:VEVENT
DTSTART;TZID=America/Los_Angeles:20240801T183000
DTEND;TZID=America/Los_Angeles:20240801T183000
DTSTAMP:20260425T094530
CREATED:20240723T222533Z
LAST-MODIFIED:20240731T211655Z
UID:10001617-1722537000-1722537000@explorewashingtonpark.org
SUMMARY:Summer Free for All: Ashleigh Flynn and The Riveters
DESCRIPTION:Ashleigh Flynn and The Riveters\, All-female rock\, country\, and folk band performs at Hoyt Arboretum Stevens Pavilion! Each summer\, Summer Free For All Cultural Events (SFFA) partners with community groups\, artists\, nonprofits\, culturally-specific groups\, and more to produce free concerts\, movies\, and cultural events throughout Portland. If you are looking to bring an amazing event to your community\, our team is ready to help!
URL:https://explorewashingtonpark.org/event/summer-free-for-all-ashleigh-flynn-and-the-riveters/
LOCATION:Hoyt Arboretum\, 4000 SW Fairview Blvd\, Portland\, OR\, 97221\, United States
CATEGORIES:Outdoors
ATTACH;FMTTYPE=image/png:https://explorewashingtonpark.org/wp-content/uploads/2024/05/Arboretum_Spring_Magnolia-Trail-Visitors_web.png
END:VEVENT
BEGIN:VEVENT
DTSTART;TZID=America/Los_Angeles:20240802T100000
DTEND;TZID=America/Los_Angeles:20240802T100000
DTSTAMP:20260425T094530
CREATED:20240723T222533Z
LAST-MODIFIED:20240731T211656Z
UID:10001618-1722592800-1722592800@explorewashingtonpark.org
SUMMARY:Pop-Up Nature!
DESCRIPTION:Join us for our twice weekly Pop-Up Nature Stations in the Visitor Center Courtyard. WeÕll be sharing and discussing topics like cones\, ferns\, seeds\, berries\, leaves\, bark\, and more! Participants will receive Pop-Up Nature! Passports to collect stamps and to take notes about featured topics week after week. Collect 5 stamps and earn a prize!
URL:https://explorewashingtonpark.org/event/pop-up-nature-28/
LOCATION:Hoyt Arboretum\, 4000 SW Fairview Blvd\, Portland\, OR\, 97221\, United States
CATEGORIES:Outdoors
ATTACH;FMTTYPE=image/png:https://explorewashingtonpark.org/wp-content/uploads/2022/05/Hoyt20Flowers-FeJCsa.tmp_-e1654025890281.png
END:VEVENT
BEGIN:VEVENT
DTSTART;TZID=America/Los_Angeles:20240802T131500
DTEND;TZID=America/Los_Angeles:20240802T131500
DTSTAMP:20260425T094530
CREATED:20240731T211657Z
LAST-MODIFIED:20240731T211657Z
UID:10001682-1722604500-1722604500@explorewashingtonpark.org
SUMMARY:Cultural Demonstration: Ikebana
DESCRIPTION:Ikebana\, the Japanese art of flower arranging\, has been translated as Òliving flowersÓ or Ògiving life to flowers.Ó Join us from 1:15-2:15pm for an Ikebana presentation by Jeffrey Robson from the Ikenobo School of Ikebana in the Jordan Schnitzer Japanese Arts Learning Center.
URL:https://explorewashingtonpark.org/event/cultural-demonstration-ikebana-16/
LOCATION:Portland Japanese Garden\, 611 SW Kingston Ave\, Portland\, OR\, 97205\, United States
END:VEVENT
BEGIN:VEVENT
DTSTART;TZID=America/Los_Angeles:20240802T170000
DTEND;TZID=America/Los_Angeles:20240802T170000
DTSTAMP:20260425T094530
CREATED:20240723T222534Z
LAST-MODIFIED:20240731T211657Z
UID:10001619-1722618000-1722618000@explorewashingtonpark.org
SUMMARY:Zoo Nights
DESCRIPTION:Nothing says summer in Portland like a warm evening outdoors with good food and live entertainment. Over the course of 10 Friday’s from June to August\, the Oregon Zoo hosts Zoo Nights: evenings filled with local music\, food carts\, activities for all ages\, and the chance to get to know some of the animals active during twilight hours.
URL:https://explorewashingtonpark.org/event/zoo-nights-20/
LOCATION:Oregon Zoo\, 4001 SW Canyon Rd\, Portland\, OR\, 97221\, United States
CATEGORIES:Outdoors
ATTACH;FMTTYPE=image/jpeg:https://explorewashingtonpark.org/wp-content/uploads/2024/06/20220812-Zoo-Night.587.jpg
END:VEVENT
BEGIN:VEVENT
DTSTART;TZID=America/Los_Angeles:20240803T090000
DTEND;TZID=America/Los_Angeles:20240803T090000
DTSTAMP:20260425T094530
CREATED:20240723T222539Z
LAST-MODIFIED:20240724T005140Z
UID:10001623-1722675600-1722675600@explorewashingtonpark.org
SUMMARY:Member Garden Tour
DESCRIPTION:Join one of our volunteer guides on a free Garden tour for members and their guests only\, during member hours. Our knowledgeable tour guides\, some of whom have been patrons of Portland Japanese Garden for decades\, will provide members with interesting and informative cultural\, historical\, and horticultural information about the Garden.
URL:https://explorewashingtonpark.org/event/member-garden-tour-18/
LOCATION:Portland Japanese Garden\, 611 SW Kingston Ave\, Portland\, OR\, 97205\, United States
CATEGORIES:Outdoors
ATTACH;FMTTYPE=image/jpeg:https://explorewashingtonpark.org/wp-content/uploads/2024/05/OOO-07.jpg
END:VEVENT
BEGIN:VEVENT
DTSTART;TZID=America/Los_Angeles:20240803T100000
DTEND;TZID=America/Los_Angeles:20240803T100000
DTSTAMP:20260425T094530
CREATED:20240723T222535Z
LAST-MODIFIED:20240724T004924Z
UID:10001620-1722679200-1722679200@explorewashingtonpark.org
SUMMARY:Art & Nature Creative Reatreat at Hoyt: Celebrating Summer's First Harvest
DESCRIPTION:Join us for a creative day retreat inspired by nature and the seasonÕs first harvest. This retreat will connect our bodies with nature\, expand our minds with ancestral practices\, and fill our souls with creativity in the beautiful setting of Hoyt Arboretum. LetÕs celebrate the season\, nurture our connection to nature\, and unleash our creativity. Whether through Qi Gong\, a peaceful hike\, or expressing ourselves through art\, this retreat offers a unique opportunity to be present in the moment\, celebrating ourselves and the season in the exquisite Hoyt Arboretum.
URL:https://explorewashingtonpark.org/event/art-nature-creative-reatreat-at-hoyt-celebrating-summers-first-harvest/
LOCATION:Hoyt Arboretum\, 4000 SW Fairview Blvd\, Portland\, OR\, 97221\, United States
ATTACH;FMTTYPE=image/png:https://explorewashingtonpark.org/wp-content/uploads/2022/05/Hoyt20Event-03-YlBjaZ.tmp_-e1654025797407.png
END:VEVENT
BEGIN:VEVENT
DTSTART;TZID=America/Los_Angeles:20240803T100000
DTEND;TZID=America/Los_Angeles:20240803T100000
DTSTAMP:20260425T094530
CREATED:20240731T211703Z
LAST-MODIFIED:20240731T212107Z
UID:10001683-1722679200-1722679200@explorewashingtonpark.org
SUMMARY:Tree Time! Preschool Walk
DESCRIPTION:Tree Time! preschool walks are a safe and fun way to get outside with your little one. Come join us for a story and guided walk on the trails at Hoyt Arboretum. We will use all of our senses to explore the natural surroundings and maybe even get our hands dirty! Staff and trained Arboretum volunteers will introduce you and your family to the plants\, trees\, insects\, mushrooms\, and more found at Hoyt Arboretum.
URL:https://explorewashingtonpark.org/event/tree-time-preschool-walk-171/
LOCATION:Hoyt Arboretum\, 4000 SW Fairview Blvd\, Portland\, OR\, 97221\, United States
ATTACH;FMTTYPE=image/png:https://explorewashingtonpark.org/wp-content/uploads/2022/05/Hoyt20Event-03-YlBjaZ.tmp_-e1654025797407.png
END:VEVENT
BEGIN:VEVENT
DTSTART;TZID=America/Los_Angeles:20240803T110000
DTEND;TZID=America/Los_Angeles:20240803T110000
DTSTAMP:20260425T094530
CREATED:20240723T222538Z
LAST-MODIFIED:20240724T004845Z
UID:10001621-1722682800-1722682800@explorewashingtonpark.org
SUMMARY:Hike with Hoyt
DESCRIPTION:Explore Hoyt ArboretumÕs trails on a guided hike! Learn the trails\, see the ArboretumÕs highlights\, and meet a new community of outdoor enthusiasts.
URL:https://explorewashingtonpark.org/event/hike-with-hoyt-34/
LOCATION:Hoyt Arboretum\, 4000 SW Fairview Blvd\, Portland\, OR\, 97221\, United States
CATEGORIES:Outdoors
ATTACH;FMTTYPE=image/jpeg:https://explorewashingtonpark.org/wp-content/uploads/2024/05/OOO-05.jpg
END:VEVENT
BEGIN:VEVENT
DTSTART;TZID=America/Los_Angeles:20240803T131500
DTEND;TZID=America/Los_Angeles:20240803T131500
DTSTAMP:20260425T094530
CREATED:20240723T222540Z
LAST-MODIFIED:20240724T004819Z
UID:10001624-1722690900-1722690900@explorewashingtonpark.org
SUMMARY:Cultural Demonstration: Tea Ceremony
DESCRIPTION:Portland Japanese Garden will offer free public demonstrations of Chad_\, the Way of Tea\, at the Cathy Rudd Cultural Corner in the Jordan Schnitzer Japanese Arts Learning Center from 1:15 Ð 2:15pm. The Way of Tea is intrinsically linked to Japanese gardens and understanding the kokoro (heart) of Japanese gardening.
URL:https://explorewashingtonpark.org/event/cultural-demonstration-tea-ceremony-86/
LOCATION:Portland Japanese Garden\, 611 SW Kingston Ave\, Portland\, OR\, 97205\, United States
ATTACH;FMTTYPE=image/png:https://explorewashingtonpark.org/wp-content/uploads/2022/05/teaCeremony-e1653684537759.png
END:VEVENT
BEGIN:VEVENT
DTSTART;TZID=America/Los_Angeles:20240803T190000
DTEND;TZID=America/Los_Angeles:20240803T190000
DTSTAMP:20260425T094530
CREATED:20240723T222538Z
LAST-MODIFIED:20240724T004657Z
UID:10001622-1722711600-1722711600@explorewashingtonpark.org
SUMMARY:Sound Galleries: Music& Poetry Series
DESCRIPTION:On the first Saturday of July\, August\, and September\, ÒSound GalleriesÓ will be held in the early evening mingling poetry\, music\, and the sounds of nature into a dusky\, summer symphony. A diverse showcase of accomplished local artists will perform under a cathedral of towering trees on the Redwood Deck. August 3rd: Smithsonian Folkways recording artist No-No Boy will perform an intimate set of songs from their history-meets-folk-music repertoire that illuminates unknown histories from Oregon\, the American West\, and further reaches of the American Empire.
URL:https://explorewashingtonpark.org/event/sound-galleries-music-poetry-series-2/
LOCATION:Hoyt Arboretum\, 4000 SW Fairview Blvd\, Portland\, OR\, 97221\, United States
CATEGORIES:Outdoors
ATTACH;FMTTYPE=image/png:https://explorewashingtonpark.org/wp-content/uploads/2024/07/unnamed-1.png
END:VEVENT
BEGIN:VEVENT
DTSTART;TZID=America/Los_Angeles:20240804T080000
DTEND;TZID=America/Los_Angeles:20240804T080000
DTSTAMP:20260425T094530
CREATED:20240723T222544Z
LAST-MODIFIED:20240724T004634Z
UID:10001627-1722758400-1722758400@explorewashingtonpark.org
SUMMARY:Early Member Mornings
DESCRIPTION:Delight in the sights and sounds of the animal kingdom an hour before the zoo opens to the public. This members-only opportunity is available on select Sundays this summer between 8 and 8:45 a.m.
URL:https://explorewashingtonpark.org/event/early-member-mornings-5/
LOCATION:Oregon Zoo\, 4001 SW Canyon Rd\, Portland\, OR\, 97221\, United States
ATTACH;FMTTYPE=image/jpeg:https://explorewashingtonpark.org/wp-content/uploads/2024/05/OOO-04.jpg
END:VEVENT
BEGIN:VEVENT
DTSTART;TZID=America/Los_Angeles:20240804T110000
DTEND;TZID=America/Los_Angeles:20240804T110000
DTSTAMP:20260425T094530
CREATED:20240723T222543Z
LAST-MODIFIED:20240724T004613Z
UID:10001626-1722769200-1722769200@explorewashingtonpark.org
SUMMARY:Trees For All Public Tour
DESCRIPTION:This guided tour will be 1/2 mile along the paved trails around the Visitor Center and to the Viewpoint off Overlook Trail featuring angiosperms\, gymnosperms\, and native plants along the way.
URL:https://explorewashingtonpark.org/event/trees-for-all-public-tour-3/
LOCATION:Hoyt Arboretum\, 4000 SW Fairview Blvd\, Portland\, OR\, 97221\, United States
CATEGORIES:Outdoors
ATTACH;FMTTYPE=image/jpeg:https://explorewashingtonpark.org/wp-content/uploads/2024/07/Arboretum_Winter_Redwood-Trail-2-scaled.jpg
END:VEVENT
BEGIN:VEVENT
DTSTART;TZID=America/Los_Angeles:20240804T130000
DTEND;TZID=America/Los_Angeles:20240804T130000
DTSTAMP:20260425T094530
CREATED:20240723T222541Z
LAST-MODIFIED:20240723T222618Z
UID:10001625-1722776400-1722776400@explorewashingtonpark.org
SUMMARY:Fika in the Gallery
DESCRIPTION:Also known as a Finnish coffee hour\, join our partners from Nordic Northwest for a cup of coffee (or tea!) and conversation in the art gallery at the Discovery Museum. Learn about the active Nordic community in Portland and dive deeper into our featured art exhibit\, Tree People.
URL:https://explorewashingtonpark.org/event/fika-in-the-gallery/
LOCATION:Discovery Museum\, 4033 SW Canyon Rd\, Portland\, OR\, 97221\, United States
ATTACH;FMTTYPE=image/jpeg:https://explorewashingtonpark.org/wp-content/uploads/2024/05/OOO-08.jpg
END:VEVENT
BEGIN:VEVENT
DTSTART;TZID=America/Los_Angeles:20240804T131500
DTEND;TZID=America/Los_Angeles:20240804T131500
DTSTAMP:20260425T094530
CREATED:20240723T222545Z
LAST-MODIFIED:20240724T004553Z
UID:10001628-1722777300-1722777300@explorewashingtonpark.org
SUMMARY:Cultural Demonstration: Tea Ceremony
DESCRIPTION:Portland Japanese Garden will offer free public demonstrations of Chad_\, the Way of Tea\, at the Cathy Rudd Cultural Corner in the Jordan Schnitzer Japanese Arts Learning Center from 1:15 Ð 2:15pm. The Way of Tea is intrinsically linked to Japanese gardens and understanding the kokoro (heart) of Japanese gardening.
URL:https://explorewashingtonpark.org/event/cultural-demonstration-tea-ceremony-87/
LOCATION:Portland Japanese Garden\, 611 SW Kingston Ave\, Portland\, OR\, 97205\, United States
ATTACH;FMTTYPE=image/png:https://explorewashingtonpark.org/wp-content/uploads/2022/05/teaCeremony-e1653684537759.png
END:VEVENT
BEGIN:VEVENT
DTSTART;TZID=America/Los_Angeles:20240805T100000
DTEND;TZID=America/Los_Angeles:20240805T100000
DTSTAMP:20260425T094530
CREATED:20240731T211721Z
LAST-MODIFIED:20240731T212648Z
UID:10001685-1722852000-1722852000@explorewashingtonpark.org
SUMMARY:Tree Time! Preschool Walk
DESCRIPTION:Tree Time! preschool walks are a safe and fun way to get outside with your little one. Come join us for a story and guided walk on the trails at Hoyt Arboretum. We will use all of our senses to explore the natural surroundings and maybe even get our hands dirty! Staff and trained Arboretum volunteers will introduce you and your family to the plants\, trees\, insects\, mushrooms\, and more found at Hoyt Arboretum.
URL:https://explorewashingtonpark.org/event/tree-time-preschool-walk-172/
LOCATION:Hoyt Arboretum\, 4000 SW Fairview Blvd\, Portland\, OR\, 97221\, United States
ATTACH;FMTTYPE=image/png:https://explorewashingtonpark.org/wp-content/uploads/2022/05/Hoyt20Flowers-FeJCsa.tmp_-e1654025890281.png
END:VEVENT
BEGIN:VEVENT
DTSTART;TZID=America/Los_Angeles:20240805T103000
DTEND;TZID=America/Los_Angeles:20240805T103000
DTSTAMP:20260425T094530
CREATED:20240731T211722Z
LAST-MODIFIED:20240731T212737Z
UID:10001686-1722853800-1722853800@explorewashingtonpark.org
SUMMARY:Tai Chi
DESCRIPTION:Many tai chi moves use images from natureÑstable as a pine\, flowing like a river\, hands moving as clouds. Enjoying tai chi in the Arboretum allows us to connect deeply to that imagery. Each week we will explore movements which are relaxing\, help improve focus and balance\, and nurture rooted in the moment.
URL:https://explorewashingtonpark.org/event/tai-chi-36/
LOCATION:Hoyt Arboretum\, 4000 SW Fairview Blvd\, Portland\, OR\, 97221\, United States
ATTACH;FMTTYPE=image/jpeg:https://explorewashingtonpark.org/wp-content/uploads/2021/05/Hoyt_Tree_Upshot_Web_banner.jpg
END:VEVENT
BEGIN:VEVENT
DTSTART;TZID=America/Los_Angeles:20240805T190000
DTEND;TZID=America/Los_Angeles:20240805T190000
DTSTAMP:20260425T094530
CREATED:20240723T222545Z
LAST-MODIFIED:20240724T004525Z
UID:10001629-1722884400-1722884400@explorewashingtonpark.org
SUMMARY:Photographer Member Hours
DESCRIPTION:Photographer Members are given extended evening access to the Garden. These Ògolden hoursÓ are an ideal time to capture the Garden without the crowds\, while the extended light of the summer sun illuminates the landscapes.
URL:https://explorewashingtonpark.org/event/photographer-member-hours-12/
LOCATION:Portland Japanese Garden\, 611 SW Kingston Ave\, Portland\, OR\, 97205\, United States
ATTACH;FMTTYPE=image/jpeg:https://explorewashingtonpark.org/wp-content/uploads/2024/06/PJG_Spring_Pond_Photographer_web.jpg
END:VEVENT
BEGIN:VEVENT
DTSTART;TZID=America/Los_Angeles:20240806T180000
DTEND;TZID=America/Los_Angeles:20240806T180000
DTSTAMP:20260425T094530
CREATED:20240723T222546Z
LAST-MODIFIED:20240724T004504Z
UID:10001630-1722967200-1722967200@explorewashingtonpark.org
SUMMARY:Healing Herbs of the Arboretum
DESCRIPTION:The plants that surround us are full of healing and nourishing properties\, if we know where to look! Join community herbalist Missy Rohs for a stroll around the Arboretum to explore the medicinal trees\, weeds\, and native plants we encounter. You will talk about which parts to use and which plants to avoid. You may even discover a new use for a plant you thought you knew well!
URL:https://explorewashingtonpark.org/event/healing-herbs-of-the-arboretum-17/
LOCATION:Hoyt Arboretum\, 4000 SW Fairview Blvd\, Portland\, OR\, 97221\, United States
ATTACH;FMTTYPE=image/jpeg:https://explorewashingtonpark.org/wp-content/uploads/2021/05/Hoyt-Redwood-Grove-Trail-scaled.jpg
END:VEVENT
BEGIN:VEVENT
DTSTART;TZID=America/Los_Angeles:20240807T100000
DTEND;TZID=America/Los_Angeles:20240807T100000
DTSTAMP:20260425T094530
CREATED:20240731T211729Z
LAST-MODIFIED:20240731T212525Z
UID:10001687-1723024800-1723024800@explorewashingtonpark.org
SUMMARY:Qigong
DESCRIPTION:Qigong\, pronounced Òchi gong\,Ó has both psychological and physical benefits. Individuals practice body movement\, breath\, and posture in order to optimize over all health and well-being. Qigong was developed thousands of years ago as a part of Chinese medicine. Instructor Thomas will guide participants through breathing patterns and gentle movement underneath the trees of the Arboretum.
URL:https://explorewashingtonpark.org/event/qigong-21/
LOCATION:Hoyt Arboretum\, 4000 SW Fairview Blvd\, Portland\, OR\, 97221\, United States
ATTACH;FMTTYPE=image/png:https://explorewashingtonpark.org/wp-content/uploads/2024/05/Arboretum_Spring_Magnolia-Trail-Visitors_web.png
END:VEVENT
END:VCALENDAR