BEGIN:VCALENDAR
VERSION:2.0
PRODID:-//Explore Washington Park - ECPv6.15.18//NONSGML v1.0//EN
CALSCALE:GREGORIAN
METHOD:PUBLISH
X-WR-CALNAME:Explore Washington Park
X-ORIGINAL-URL:https://explorewashingtonpark.org
X-WR-CALDESC:Events for Explore Washington Park
REFRESH-INTERVAL;VALUE=DURATION:PT1H
X-Robots-Tag:noindex
X-PUBLISHED-TTL:PT1H
BEGIN:VTIMEZONE
TZID:America/Los_Angeles
BEGIN:DAYLIGHT
TZOFFSETFROM:-0800
TZOFFSETTO:-0700
TZNAME:PDT
DTSTART:20230312T100000
END:DAYLIGHT
BEGIN:STANDARD
TZOFFSETFROM:-0700
TZOFFSETTO:-0800
TZNAME:PST
DTSTART:20231105T090000
END:STANDARD
BEGIN:DAYLIGHT
TZOFFSETFROM:-0800
TZOFFSETTO:-0700
TZNAME:PDT
DTSTART:20240310T100000
END:DAYLIGHT
BEGIN:STANDARD
TZOFFSETFROM:-0700
TZOFFSETTO:-0800
TZNAME:PST
DTSTART:20241103T090000
END:STANDARD
BEGIN:DAYLIGHT
TZOFFSETFROM:-0800
TZOFFSETTO:-0700
TZNAME:PDT
DTSTART:20250309T100000
END:DAYLIGHT
BEGIN:STANDARD
TZOFFSETFROM:-0700
TZOFFSETTO:-0800
TZNAME:PST
DTSTART:20251102T090000
END:STANDARD
END:VTIMEZONE
BEGIN:VEVENT
DTSTART;TZID=America/Los_Angeles:20240809T130000
DTEND;TZID=America/Los_Angeles:20240809T130000
DTSTAMP:20260425T200401
CREATED:20240723T223156Z
LAST-MODIFIED:20240724T004100Z
UID:10001636-1723208400-1723208400@explorewashingtonpark.org
SUMMARY:Forest Field Day: Berry-Awesome Berries
DESCRIPTION:Join us in August to learn about berry-awesome berries! Learn how to identify different types of common berries you see at the Arboretum\, and all over the Pacific Northwest! Understand their importance to our ecosystem and learn about how berries form. Students will practice their expanded knowledge through games\, journaling\, stories\, and more.
URL:https://explorewashingtonpark.org/event/forest-field-day-berry-awesome-berries-2/
LOCATION:Hoyt Arboretum\, 4000 SW Fairview Blvd\, Portland\, OR\, 97221\, United States
CATEGORIES:For Children
ATTACH;FMTTYPE=image/png:https://explorewashingtonpark.org/wp-content/uploads/2022/05/Hoyt20Redwoods-zcnHbL.tmp_-e1654025836573.png
END:VEVENT
BEGIN:VEVENT
DTSTART;TZID=America/Los_Angeles:20240809T131500
DTEND;TZID=America/Los_Angeles:20240809T131500
DTSTAMP:20260425T200401
CREATED:20240723T223157Z
LAST-MODIFIED:20240724T004013Z
UID:10001638-1723209300-1723209300@explorewashingtonpark.org
SUMMARY:Cultural Demonstration: Tea Ceremony
DESCRIPTION:Portland Japanese Garden will offer free public demonstrations of Chad_\, the Way of Tea\, at the Cathy Rudd Cultural Corner in the Jordan Schnitzer Japanese Arts Learning Center from 1:15 Ð 2:15pm. The Way of Tea is intrinsically linked to Japanese gardens and understanding the kokoro (heart) of Japanese gardening.
URL:https://explorewashingtonpark.org/event/cultural-demonstration-tea-ceremony-88/
LOCATION:Portland Japanese Garden\, 611 SW Kingston Ave\, Portland\, OR\, 97205\, United States
ATTACH;FMTTYPE=image/png:https://explorewashingtonpark.org/wp-content/uploads/2022/05/teaCeremony-e1653684537759.png
END:VEVENT
BEGIN:VEVENT
DTSTART;TZID=America/Los_Angeles:20240809T170000
DTEND;TZID=America/Los_Angeles:20240809T170000
DTSTAMP:20260425T200401
CREATED:20240723T223157Z
LAST-MODIFIED:20240724T003915Z
UID:10001637-1723222800-1723222800@explorewashingtonpark.org
SUMMARY:Zoo Nights
DESCRIPTION:Nothing says summer in Portland like a warm evening outdoors with good food and live entertainment. Over the course of 10 Friday’s from June to August\, the Oregon Zoo hosts Zoo Nights: evenings filled with local music\, food carts\, activities for all ages\, and the chance to get to know some of the animals active during twilight hours.
URL:https://explorewashingtonpark.org/event/zoo-nights-21/
LOCATION:Oregon Zoo\, 4001 SW Canyon Rd\, Portland\, OR\, 97221\, United States
CATEGORIES:Outdoors
ATTACH;FMTTYPE=image/jpeg:https://explorewashingtonpark.org/wp-content/uploads/2024/06/20220812-Zoo-Night.587.jpg
END:VEVENT
BEGIN:VEVENT
DTSTART;TZID=America/Los_Angeles:20240809T190000
DTEND;TZID=America/Los_Angeles:20240809T190000
DTSTAMP:20260425T200401
CREATED:20240723T223158Z
LAST-MODIFIED:20240724T003848Z
UID:10001639-1723230000-1723230000@explorewashingtonpark.org
SUMMARY:Twilight Hours for Patron and Steward Members
DESCRIPTION:Exclusive to our Patron and Steward Members\, Twilight Hours is a series of three special evenings throughout the peak summer months when the days are longest. These special evenings allow Patron and Steward Members to experience the Garden at its most serene\, illuminated by the golden light of dusk\, and accompanied by delightful music. Refreshments and light appetizers will also be provided.
URL:https://explorewashingtonpark.org/event/twilight-hours-for-patron-and-steward-members-9/
LOCATION:Portland Japanese Garden\, 611 SW Kingston Ave\, Portland\, OR\, 97205\, United States
CATEGORIES:Outdoors
ATTACH;FMTTYPE=image/jpeg:https://explorewashingtonpark.org/wp-content/uploads/2024/06/PJG_Spring_Pond_Photographer_web.jpg
END:VEVENT
BEGIN:VEVENT
DTSTART;TZID=America/Los_Angeles:20240810T100000
DTEND;TZID=America/Los_Angeles:20240810T100000
DTSTAMP:20260425T200401
CREATED:20240731T211740Z
LAST-MODIFIED:20240731T212829Z
UID:10001689-1723284000-1723284000@explorewashingtonpark.org
SUMMARY:Tree Time! Preschool Walk
DESCRIPTION:Tree Time! preschool walks are a safe and fun way to get outside with your little one. Come join us for a story and guided walk on the trails at Hoyt Arboretum. We will use all of our senses to explore the natural surroundings and maybe even get our hands dirty! Staff and trained Arboretum volunteers will introduce you and your family to the plants\, trees\, insects\, mushrooms\, and more found at Hoyt Arboretum.
URL:https://explorewashingtonpark.org/event/tree-time-preschool-walk-173/
LOCATION:Hoyt Arboretum\, 4000 SW Fairview Blvd\, Portland\, OR\, 97221\, United States
ATTACH;FMTTYPE=image/png:https://explorewashingtonpark.org/wp-content/uploads/2022/05/Hoyt20Redwoods-zcnHbL.tmp_-e1654025836573.png
END:VEVENT
BEGIN:VEVENT
DTSTART;TZID=America/Los_Angeles:20240810T110000
DTEND;TZID=America/Los_Angeles:20240810T110000
DTSTAMP:20260425T200401
CREATED:20240723T223159Z
LAST-MODIFIED:20240724T003827Z
UID:10001640-1723287600-1723287600@explorewashingtonpark.org
SUMMARY:Hike with Hoyt
DESCRIPTION:Explore Hoyt ArboretumÕs trails on a guided hike! Learn the trails\, see the ArboretumÕs highlights\, and meet a new community of outdoor enthusiasts.
URL:https://explorewashingtonpark.org/event/hike-with-hoyt-36/
LOCATION:Hoyt Arboretum\, 4000 SW Fairview Blvd\, Portland\, OR\, 97221\, United States
CATEGORIES:Outdoors
ATTACH;FMTTYPE=image/png:https://explorewashingtonpark.org/wp-content/uploads/2024/05/Arboretum_Spring_Magnolia-Trail-Visitors_web.png
END:VEVENT
BEGIN:VEVENT
DTSTART;TZID=America/Los_Angeles:20240810T180000
DTEND;TZID=America/Los_Angeles:20240810T180000
DTSTAMP:20260425T200401
CREATED:20240723T223211Z
LAST-MODIFIED:20240724T003759Z
UID:10001641-1723312800-1723312800@explorewashingtonpark.org
SUMMARY:Washington Park Summer Festival: Rejoice Diaspora Dance
DESCRIPTION:An evening of dance from Afrobeats to Second Line\, with original music performed by Darrell Grant and an amazing lineup of musicians. Each summer\, Summer Free For All Cultural Events (SFFA) partners with community groups\, artists\, nonprofits\, culturally-specific groups\, and more to produce free concerts\, movies\, and cultural events throughout Portland. If you are looking to bring an amazing event to your community\, our team is ready to help!
URL:https://explorewashingtonpark.org/event/washington-park-summer-festival-rejoice-diaspora-dance/
LOCATION:Washington Park\, 4033 SW Canyon Rd\, Portland\, OR\, 97221\, United States
CATEGORIES:Outdoors
ATTACH;FMTTYPE=image/png:https://explorewashingtonpark.org/wp-content/uploads/2022/05/Hoyt20Flowers-FeJCsa.tmp_-e1654025890281.png
END:VEVENT
BEGIN:VEVENT
DTSTART;TZID=America/Los_Angeles:20240811T090000
DTEND;TZID=America/Los_Angeles:20240811T090000
DTSTAMP:20260425T200401
CREATED:20240723T223212Z
LAST-MODIFIED:20240724T001952Z
UID:10001643-1723366800-1723366800@explorewashingtonpark.org
SUMMARY:Mindfulness Tour
DESCRIPTION:This intimate tour focuses not on meditation\, but instead on learning to bring mindful awareness to oneself\, and the world around us\, through intentional observation and connections. An experienced guide will provide a foundation for the art of contemplative exploration throughout various Garden spaces\, and gently guide awareness away from the busyness of everyday life\, back toward the connection to nature and experience of peace.
URL:https://explorewashingtonpark.org/event/mindfulness-tour-18/
LOCATION:Portland Japanese Garden\, 611 SW Kingston Ave\, Portland\, OR\, 97205\, United States
CATEGORIES:Outdoors
ATTACH;FMTTYPE=image/jpeg:https://explorewashingtonpark.org/wp-content/uploads/2024/06/images-01.-jpg.jpg
END:VEVENT
BEGIN:VEVENT
DTSTART;TZID=America/Los_Angeles:20240811T110000
DTEND;TZID=America/Los_Angeles:20240811T110000
DTSTAMP:20260425T200401
CREATED:20240723T223212Z
LAST-MODIFIED:20240724T002148Z
UID:10001642-1723374000-1723374000@explorewashingtonpark.org
SUMMARY:Public Tour
DESCRIPTION:Explore one of Hoyt ArboretumÕs three nationally-accredited collections with a knowledgeable guide. Public Tours will follow routes to highlight the Magnolia Collection in the spring\, the Conifer Collection in the summer\, and the Maple Collection in the fall.
URL:https://explorewashingtonpark.org/event/public-tour-32/
LOCATION:Hoyt Arboretum\, 4000 SW Fairview Blvd\, Portland\, OR\, 97221\, United States
CATEGORIES:Outdoors
ATTACH;FMTTYPE=image/jpeg:https://explorewashingtonpark.org/wp-content/uploads/2024/07/Arboretum_Winter_Redwood-Trail-2-scaled.jpg
END:VEVENT
BEGIN:VEVENT
DTSTART;TZID=America/Los_Angeles:20240811T131500
DTEND;TZID=America/Los_Angeles:20240811T131500
DTSTAMP:20260425T200401
CREATED:20240731T211745Z
LAST-MODIFIED:20240731T212854Z
UID:10001690-1723382100-1723382100@explorewashingtonpark.org
SUMMARY:Cultural Performance: Koto and Shakuhachi
DESCRIPTION:Enjoy a free koto and piano performance by Masumi Timson and Dan Bosshardt at 1:15pm at the Cathy Rudd Cultural Corner in the Jordan Schnitzer Japanese Arts Learning Center.
URL:https://explorewashingtonpark.org/event/cultural-performance-koto-and-shakuhachi/
LOCATION:Portland Japanese Garden\, 611 SW Kingston Ave\, Portland\, OR\, 97205\, United States
ATTACH;FMTTYPE=image/png:https://explorewashingtonpark.org/wp-content/uploads/2024/05/Spring_Archery-Range-A-04.png
END:VEVENT
BEGIN:VEVENT
DTSTART;TZID=America/Los_Angeles:20240811T180000
DTEND;TZID=America/Los_Angeles:20240811T180000
DTSTAMP:20260425T200401
CREATED:20240723T223214Z
LAST-MODIFIED:20240724T002538Z
UID:10001645-1723399200-1723399200@explorewashingtonpark.org
SUMMARY:Washington Park Summer Festival: Edna Vazquez with Mariachi Portland
DESCRIPTION:A family-friendly evening of traditional Mexican Folk Music. Each summer\, Summer Free For All Cultural Events (SFFA) partners with community groups\, artists\, nonprofits\, culturally-specific groups\, and more to produce free concerts\, movies\, and cultural events throughout Portland. If you are looking to bring an amazing event to your community\, our team is ready to help!
URL:https://explorewashingtonpark.org/event/washington-park-summer-festival-edna-vazquez-with-mariachi-portland/
LOCATION:Washington Park\, 4033 SW Canyon Rd\, Portland\, OR\, 97221\, United States
CATEGORIES:Outdoors
ATTACH;FMTTYPE=image/png:https://explorewashingtonpark.org/wp-content/uploads/2022/05/Hoyt20Flowers-FeJCsa.tmp_-e1654025890281.png
END:VEVENT
BEGIN:VEVENT
DTSTART;TZID=America/Los_Angeles:20240811T190000
DTEND;TZID=America/Los_Angeles:20240811T190000
DTSTAMP:20260425T200401
CREATED:20240723T223213Z
LAST-MODIFIED:20240724T002655Z
UID:10001644-1723402800-1723402800@explorewashingtonpark.org
SUMMARY:Extended Member Hours
DESCRIPTION:Members are invited to experience the GardenÕs tranquility in the golden light of sunset. Take advantage of the long summer evenings to enjoy the Garden\, without the crowds.
URL:https://explorewashingtonpark.org/event/extended-member-hours-18/
LOCATION:Portland Japanese Garden\, 611 SW Kingston Ave\, Portland\, OR\, 97205\, United States
ATTACH;FMTTYPE=image/jpeg:https://explorewashingtonpark.org/wp-content/uploads/2024/06/PJG_Spring_Pond_Photographer_web.jpg
END:VEVENT
BEGIN:VEVENT
DTSTART;TZID=America/Los_Angeles:20240812T100000
DTEND;TZID=America/Los_Angeles:20240812T100000
DTSTAMP:20260425T200401
CREATED:20240731T211747Z
LAST-MODIFIED:20240731T212919Z
UID:10001691-1723456800-1723456800@explorewashingtonpark.org
SUMMARY:Tree Time! Preschool Walk
DESCRIPTION:Tree Time! preschool walks are a safe and fun way to get outside with your little one. Come join us for a story and guided walk on the trails at Hoyt Arboretum. We will use all of our senses to explore the natural surroundings and maybe even get our hands dirty! Staff and trained Arboretum volunteers will introduce you and your family to the plants\, trees\, insects\, mushrooms\, and more found at Hoyt Arboretum.
URL:https://explorewashingtonpark.org/event/tree-time-preschool-walk-174/
LOCATION:Hoyt Arboretum\, 4000 SW Fairview Blvd\, Portland\, OR\, 97221\, United States
ATTACH;FMTTYPE=image/jpeg:https://explorewashingtonpark.org/wp-content/uploads/2024/05/OOO-05.jpg
END:VEVENT
BEGIN:VEVENT
DTSTART;TZID=America/Los_Angeles:20240812T103000
DTEND;TZID=America/Los_Angeles:20240812T103000
DTSTAMP:20260425T200401
CREATED:20240731T211748Z
LAST-MODIFIED:20240731T212943Z
UID:10001692-1723458600-1723458600@explorewashingtonpark.org
SUMMARY:Tai Chi
DESCRIPTION:Many tai chi moves use images from natureÑstable as a pine\, flowing like a river\, hands moving as clouds. Enjoying tai chi in the Arboretum allows us to connect deeply to that imagery. Each week we will explore movements which are relaxing\, help improve focus and balance\, and nurture rooted in the moment.
URL:https://explorewashingtonpark.org/event/tai-chi-37/
LOCATION:Hoyt Arboretum\, 4000 SW Fairview Blvd\, Portland\, OR\, 97221\, United States
ATTACH;FMTTYPE=image/jpeg:https://explorewashingtonpark.org/wp-content/uploads/2021/05/Hoyt_Tree_Upshot_Web_banner.jpg
END:VEVENT
BEGIN:VEVENT
DTSTART;TZID=America/Los_Angeles:20240814T100000
DTEND;TZID=America/Los_Angeles:20240814T100000
DTSTAMP:20260425T200401
CREATED:20240731T211751Z
LAST-MODIFIED:20240731T213033Z
UID:10001693-1723629600-1723629600@explorewashingtonpark.org
SUMMARY:Qigong
DESCRIPTION:Qigong\, pronounced Òchi gong\,Ó has both psychological and physical benefits. Individuals practice body movement\, breath\, and posture in order to optimize over all health and well-being. Qigong was developed thousands of years ago as a part of Chinese medicine. Instructor Thomas will guide participants through breathing patterns and gentle movement underneath the trees of the Arboretum.
URL:https://explorewashingtonpark.org/event/qigong-22/
LOCATION:Hoyt Arboretum\, 4000 SW Fairview Blvd\, Portland\, OR\, 97221\, United States
CATEGORIES:Outdoors
ATTACH;FMTTYPE=image/png:https://explorewashingtonpark.org/wp-content/uploads/2022/05/Hoyt20Event-03-YlBjaZ.tmp_-e1654025797407.png
END:VEVENT
BEGIN:VEVENT
DTSTART;TZID=America/Los_Angeles:20240814T110000
DTEND;TZID=America/Los_Angeles:20240814T110000
DTSTAMP:20260425T200401
CREATED:20240723T223226Z
LAST-MODIFIED:20240724T003716Z
UID:10001646-1723633200-1723633200@explorewashingtonpark.org
SUMMARY:Hike with Hoyt
DESCRIPTION:Explore Hoyt ArboretumÕs trails on a guided hike! Learn the trails\, see the ArboretumÕs highlights\, and meet a new community of outdoor enthusiasts.
URL:https://explorewashingtonpark.org/event/hike-with-hoyt-37/
LOCATION:Hoyt Arboretum\, 4000 SW Fairview Blvd\, Portland\, OR\, 97221\, United States
CATEGORIES:Outdoors
ATTACH;FMTTYPE=image/png:https://explorewashingtonpark.org/wp-content/uploads/2024/05/Arboretum_Spring_Magnolia-Trail-Visitors_web.png
END:VEVENT
BEGIN:VEVENT
DTSTART;TZID=America/Los_Angeles:20240814T131500
DTEND;TZID=America/Los_Angeles:20240814T131500
DTSTAMP:20260425T200401
CREATED:20240723T223227Z
LAST-MODIFIED:20240724T003626Z
UID:10001647-1723641300-1723641300@explorewashingtonpark.org
SUMMARY:Cultural Performance: Koto by Mitsuki Dazai
DESCRIPTION:Enjoy a free koto performance by Mitsuki Dazai at 1:15pm at the Cathy Rudd Cultural Corner in the Jordan Schnitzer Japanese Arts Learning Center.
URL:https://explorewashingtonpark.org/event/cultural-performance-koto-by-mitsuki-dazai-6/
LOCATION:Portland Japanese Garden\, 611 SW Kingston Ave\, Portland\, OR\, 97205\, United States
ATTACH;FMTTYPE=image/jpeg:https://explorewashingtonpark.org/wp-content/uploads/2024/05/OOO-07.jpg
END:VEVENT
BEGIN:VEVENT
DTSTART;TZID=America/Los_Angeles:20240815T100000
DTEND;TZID=America/Los_Angeles:20240815T100000
DTSTAMP:20260425T200401
CREATED:20240723T223227Z
LAST-MODIFIED:20240724T003607Z
UID:10001648-1723716000-1723716000@explorewashingtonpark.org
SUMMARY:Pop-Up Nature!
DESCRIPTION:Join us for our twice weekly Pop-Up Nature Stations in the Visitor Center Courtyard. WeÕll be sharing and discussing topics like cones\, ferns\, seeds\, berries\, leaves\, bark\, and more! Participants will receive Pop-Up Nature! Passports to collect stamps and to take notes about featured topics week after week. Collect 5 stamps and earn a prize!
URL:https://explorewashingtonpark.org/event/pop-up-nature-31/
LOCATION:Hoyt Arboretum\, 4000 SW Fairview Blvd\, Portland\, OR\, 97221\, United States
CATEGORIES:Outdoors
ATTACH;FMTTYPE=image/png:https://explorewashingtonpark.org/wp-content/uploads/2024/05/Spring_Cloud-Forest_Trail.png
END:VEVENT
BEGIN:VEVENT
DTSTART;TZID=America/Los_Angeles:20240816T100000
DTEND;TZID=America/Los_Angeles:20240816T100000
DTSTAMP:20260425T200401
CREATED:20240723T223228Z
LAST-MODIFIED:20240724T003502Z
UID:10001649-1723802400-1723802400@explorewashingtonpark.org
SUMMARY:Pop-Up Nature!
DESCRIPTION:Join us for our twice weekly Pop-Up Nature Stations in the Visitor Center Courtyard. WeÕll be sharing and discussing topics like cones\, ferns\, seeds\, berries\, leaves\, bark\, and more! Participants will receive Pop-Up Nature! Passports to collect stamps and to take notes about featured topics week after week. Collect 5 stamps and earn a prize!
URL:https://explorewashingtonpark.org/event/pop-up-nature-32/
LOCATION:Hoyt Arboretum\, 4000 SW Fairview Blvd\, Portland\, OR\, 97221\, United States
CATEGORIES:Outdoors
ATTACH;FMTTYPE=image/jpeg:https://explorewashingtonpark.org/wp-content/uploads/2024/05/OOO-05.jpg
END:VEVENT
BEGIN:VEVENT
DTSTART;TZID=America/Los_Angeles:20240816T170000
DTEND;TZID=America/Los_Angeles:20240816T170000
DTSTAMP:20260425T200401
CREATED:20240723T223229Z
LAST-MODIFIED:20240724T003438Z
UID:10001650-1723827600-1723827600@explorewashingtonpark.org
SUMMARY:Zoo Nights
DESCRIPTION:Nothing says summer in Portland like a warm evening outdoors with good food and live entertainment. Over the course of 10 Friday’s from June to August\, the Oregon Zoo hosts Zoo Nights: evenings filled with local music\, food carts\, activities for all ages\, and the chance to get to know some of the animals active during twilight hours.
URL:https://explorewashingtonpark.org/event/zoo-nights-22/
LOCATION:Oregon Zoo\, 4001 SW Canyon Rd\, Portland\, OR\, 97221\, United States
CATEGORIES:Outdoors
ATTACH;FMTTYPE=image/jpeg:https://explorewashingtonpark.org/wp-content/uploads/2024/06/20220812-Zoo-Night.587.jpg
END:VEVENT
BEGIN:VEVENT
DTSTART;TZID=America/Los_Angeles:20240816T170000
DTEND;TZID=America/Los_Angeles:20240816T170000
DTSTAMP:20260425T200401
CREATED:20240723T223242Z
LAST-MODIFIED:20240724T003345Z
UID:10001652-1723827600-1723827600@explorewashingtonpark.org
SUMMARY:Original Practice Shakespeare Fest Summer 2024
DESCRIPTION:
URL:https://explorewashingtonpark.org/event/original-practice-shakespeare-fest-summer-2024/
LOCATION:Washington Park\, 4033 SW Canyon Rd\, Portland\, OR\, 97221\, United States
ATTACH;FMTTYPE=image/png:https://explorewashingtonpark.org/wp-content/uploads/2022/05/Hoyt20Flowers-FeJCsa.tmp_-e1654025890281.png
END:VEVENT
BEGIN:VEVENT
DTSTART;TZID=America/Los_Angeles:20240816T190000
DTEND;TZID=America/Los_Angeles:20240816T190000
DTSTAMP:20260425T200401
CREATED:20240723T223241Z
LAST-MODIFIED:20240724T003254Z
UID:10001651-1723834800-1723834800@explorewashingtonpark.org
SUMMARY:O-Bon\, The Spirit Festival
DESCRIPTION:Portland Japanese Garden members are invited to take part in O-Bon\, the Spirit Festival\, an important Buddhist festival to honor ancestors and pray for the souls of the departed.
URL:https://explorewashingtonpark.org/event/o-bon-the-spirit-festival-5/
LOCATION:Portland Japanese Garden\, 611 SW Kingston Ave\, Portland\, OR\, 97205\, United States
ATTACH;FMTTYPE=image/jpeg:https://explorewashingtonpark.org/wp-content/uploads/2024/06/images-01.-jpg.jpg
END:VEVENT
BEGIN:VEVENT
DTSTART;TZID=America/Los_Angeles:20240817T090000
DTEND;TZID=America/Los_Angeles:20240817T090000
DTSTAMP:20260425T200401
CREATED:20240723T223243Z
LAST-MODIFIED:20240731T213435Z
UID:10001654-1723885200-1723885200@explorewashingtonpark.org
SUMMARY:Family Forest Days: Best Trees Forever!
DESCRIPTION:Join us for our final Family Forest Day celebration of the 2024 season to celebrate native trees at Hoyt Arboretum. Thousands of Portland-area students who have visited Hoyt Arboretum on a Field Trip left the park with a Best Tree Forever (BTF!). And now\, you can have one too!
URL:https://explorewashingtonpark.org/event/family-forest-days-best-trees-forever/
LOCATION:Hoyt Arboretum\, 4000 SW Fairview Blvd\, Portland\, OR\, 97221\, United States
CATEGORIES:Outdoors
ATTACH;FMTTYPE=image/jpeg:https://explorewashingtonpark.org/wp-content/uploads/2024/05/OOO-05.jpg
END:VEVENT
BEGIN:VEVENT
DTSTART;TZID=America/Los_Angeles:20240817T100000
DTEND;TZID=America/Los_Angeles:20240817T100000
DTSTAMP:20260425T200401
CREATED:20240731T211807Z
LAST-MODIFIED:20240731T213546Z
UID:10001694-1723888800-1723888800@explorewashingtonpark.org
SUMMARY:Tree Time! Preschool Walk
DESCRIPTION:Tree Time! preschool walks are a safe and fun way to get outside with your little one. Come join us for a story and guided walk on the trails at Hoyt Arboretum. We will use all of our senses to explore the natural surroundings and maybe even get our hands dirty! Staff and trained Arboretum volunteers will introduce you and your family to the plants\, trees\, insects\, mushrooms\, and more found at Hoyt Arboretum.
URL:https://explorewashingtonpark.org/event/tree-time-preschool-walk-175/
LOCATION:Hoyt Arboretum\, 4000 SW Fairview Blvd\, Portland\, OR\, 97221\, United States
ATTACH;FMTTYPE=image/jpeg:https://explorewashingtonpark.org/wp-content/uploads/2021/05/Hoyt_Tree_Upshot_Web_banner.jpg
END:VEVENT
BEGIN:VEVENT
DTSTART;TZID=America/Los_Angeles:20240817T110000
DTEND;TZID=America/Los_Angeles:20240817T110000
DTSTAMP:20260425T200401
CREATED:20240723T223244Z
LAST-MODIFIED:20240724T003102Z
UID:10001655-1723892400-1723892400@explorewashingtonpark.org
SUMMARY:Hike with Hoyt
DESCRIPTION:Explore Hoyt ArboretumÕs trails on a guided hike! Learn the trails\, see the ArboretumÕs highlights\, and meet a new community of outdoor enthusiasts.
URL:https://explorewashingtonpark.org/event/hike-with-hoyt-38/
LOCATION:Hoyt Arboretum\, 4000 SW Fairview Blvd\, Portland\, OR\, 97221\, United States
CATEGORIES:Outdoors
ATTACH;FMTTYPE=image/jpeg:https://explorewashingtonpark.org/wp-content/uploads/2024/05/OOO-05.jpg
END:VEVENT
BEGIN:VEVENT
DTSTART;TZID=America/Los_Angeles:20240817T130000
DTEND;TZID=America/Los_Angeles:20240817T130000
DTSTAMP:20260425T200401
CREATED:20240723T223242Z
LAST-MODIFIED:20240724T003038Z
UID:10001653-1723899600-1723899600@explorewashingtonpark.org
SUMMARY:Forest Crafts
DESCRIPTION:We have partnered with Portland-based childrenÕs art coordinator RAD Creative to provide all-ages crafts at the Discovery Museum once a month. Each month features a different forest-centric craft: June 15 Ð forest bracelets; July 20 Ð forest in a bottle; August 17 Ð tree people. Work on the craft as a family and bring the forest home with you.
URL:https://explorewashingtonpark.org/event/forest-crafts-3/
LOCATION:Discovery Museum\, 4033 SW Canyon Rd\, Portland\, OR\, 97221\, United States
CATEGORIES:Indoors
ATTACH;FMTTYPE=image/jpeg:https://explorewashingtonpark.org/wp-content/uploads/2024/07/WFC_Spring_Discovery-Museum-Exterior_web.jpg
END:VEVENT
BEGIN:VEVENT
DTSTART;TZID=America/Los_Angeles:20240817T130000
DTEND;TZID=America/Los_Angeles:20240817T130000
DTSTAMP:20260425T200401
CREATED:20240723T223256Z
LAST-MODIFIED:20240724T002958Z
UID:10001656-1723899600-1723899600@explorewashingtonpark.org
SUMMARY:American Sign Language (ASL) Interpreted Walking Tour
DESCRIPTION:Explore Portland Japanese GardenÕs history\, landscape architecture\, and culture with a free docent-led tour with American Sign Language interpretation. These tours are for individuals who are D/deaf and hard of hearing and their family and friends only. Attendance is limited to 10 people and registration is required prior to the tour. If you are interested in a public tour of the Garden with no interpretation\, see Portland Japanese Garden’s public tour page.
URL:https://explorewashingtonpark.org/event/american-sign-language-asl-interpreted-walking-tour-5/
LOCATION:Portland Japanese Garden\, 611 SW Kingston Ave\, Portland\, OR\, 97205\, United States
CATEGORIES:Outdoors
ATTACH;FMTTYPE=image/jpeg:https://explorewashingtonpark.org/wp-content/uploads/2024/05/OOO-07.jpg
END:VEVENT
BEGIN:VEVENT
DTSTART;TZID=America/Los_Angeles:20240817T131500
DTEND;TZID=America/Los_Angeles:20240817T131500
DTSTAMP:20260425T200401
CREATED:20240723T223257Z
LAST-MODIFIED:20240724T002924Z
UID:10001657-1723900500-1723900500@explorewashingtonpark.org
SUMMARY:Cultural Demonstration: Tea Ceremony
DESCRIPTION:Portland Japanese Garden will offer a free public demonstration of Chado\, the Way of Tea\, in the Kashintei Tea House (in the Tea Garden) from 1:15 Ð 2:15pm. The Way of Tea is intrinsically linked to Japanese gardens and understanding the kokoro (heart) of Japanese gardening.
URL:https://explorewashingtonpark.org/event/cultural-demonstration-tea-ceremony-89/
LOCATION:Portland Japanese Garden\, 611 SW Kingston Ave\, Portland\, OR\, 97205\, United States
ATTACH;FMTTYPE=image/png:https://explorewashingtonpark.org/wp-content/uploads/2022/05/teaCeremony-e1653684537759.png
END:VEVENT
BEGIN:VEVENT
DTSTART;TZID=America/Los_Angeles:20240817T170000
DTEND;TZID=America/Los_Angeles:20240817T170000
DTSTAMP:20260425T200401
CREATED:20240723T223258Z
LAST-MODIFIED:20240731T211740Z
UID:10001659-1723914000-1723914000@explorewashingtonpark.org
SUMMARY:Original Practice Shakespeare Fest Summer 2024
DESCRIPTION:
URL:https://explorewashingtonpark.org/event/original-practice-shakespeare-fest-summer-2024-2/
LOCATION:Washington Park\, 4033 SW Canyon Rd\, Portland\, OR\, 97221\, United States
ATTACH;FMTTYPE=image/png:https://explorewashingtonpark.org/wp-content/uploads/2022/05/Hoyt20Flowers-FeJCsa.tmp_-e1654025890281.png
END:VEVENT
BEGIN:VEVENT
DTSTART;TZID=America/Los_Angeles:20240817T173000
DTEND;TZID=America/Los_Angeles:20240817T173000
DTSTAMP:20260425T200401
CREATED:20240731T211808Z
LAST-MODIFIED:20240731T213635Z
UID:10001695-1723915800-1723915800@explorewashingtonpark.org
SUMMARY:Unique Broadleaf Trees
DESCRIPTION:Being the land of fabulous conifers\, broadleaf trees are often overlooked here in the Great Pacific Northwest. Not so here at Hoyt Arboretum! This walk will explore some of the more unique and often overlooked broadleaf species in our collection. You will hear stories of botanical intrigue and floral wonder\, and see just how strange some of these broad leaves can be.
URL:https://explorewashingtonpark.org/event/unique-broadleaf-trees/
LOCATION:Hoyt Arboretum\, 4000 SW Fairview Blvd\, Portland\, OR\, 97221\, United States
ATTACH;FMTTYPE=image/png:https://explorewashingtonpark.org/wp-content/uploads/2022/05/Hoyt20Flowers-FeJCsa.tmp_-e1654025890281.png
END:VEVENT
END:VCALENDAR