BEGIN:VCALENDAR
VERSION:2.0
PRODID:-//Explore Washington Park - ECPv6.15.18//NONSGML v1.0//EN
CALSCALE:GREGORIAN
METHOD:PUBLISH
X-WR-CALNAME:Explore Washington Park
X-ORIGINAL-URL:https://explorewashingtonpark.org
X-WR-CALDESC:Events for Explore Washington Park
REFRESH-INTERVAL;VALUE=DURATION:PT1H
X-Robots-Tag:noindex
X-PUBLISHED-TTL:PT1H
BEGIN:VTIMEZONE
TZID:America/Los_Angeles
BEGIN:DAYLIGHT
TZOFFSETFROM:-0800
TZOFFSETTO:-0700
TZNAME:PDT
DTSTART:20220313T100000
END:DAYLIGHT
BEGIN:STANDARD
TZOFFSETFROM:-0700
TZOFFSETTO:-0800
TZNAME:PST
DTSTART:20221106T090000
END:STANDARD
BEGIN:DAYLIGHT
TZOFFSETFROM:-0800
TZOFFSETTO:-0700
TZNAME:PDT
DTSTART:20230312T100000
END:DAYLIGHT
BEGIN:STANDARD
TZOFFSETFROM:-0700
TZOFFSETTO:-0800
TZNAME:PST
DTSTART:20231105T090000
END:STANDARD
BEGIN:DAYLIGHT
TZOFFSETFROM:-0800
TZOFFSETTO:-0700
TZNAME:PDT
DTSTART:20240310T100000
END:DAYLIGHT
BEGIN:STANDARD
TZOFFSETFROM:-0700
TZOFFSETTO:-0800
TZNAME:PST
DTSTART:20241103T090000
END:STANDARD
BEGIN:DAYLIGHT
TZOFFSETFROM:-0800
TZOFFSETTO:-0700
TZNAME:PDT
DTSTART:20250309T100000
END:DAYLIGHT
BEGIN:STANDARD
TZOFFSETFROM:-0700
TZOFFSETTO:-0800
TZNAME:PST
DTSTART:20251102T090000
END:STANDARD
END:VTIMEZONE
BEGIN:VEVENT
DTSTART;TZID=America/Los_Angeles:20240802T170000
DTEND;TZID=America/Los_Angeles:20240802T170000
DTSTAMP:20260422T060707
CREATED:20240723T222534Z
LAST-MODIFIED:20240731T211657Z
UID:10001619-1722618000-1722618000@explorewashingtonpark.org
SUMMARY:Zoo Nights
DESCRIPTION:Nothing says summer in Portland like a warm evening outdoors with good food and live entertainment. Over the course of 10 Friday’s from June to August\, the Oregon Zoo hosts Zoo Nights: evenings filled with local music\, food carts\, activities for all ages\, and the chance to get to know some of the animals active during twilight hours.
URL:https://explorewashingtonpark.org/event/zoo-nights-20/
LOCATION:Oregon Zoo\, 4001 SW Canyon Rd\, Portland\, OR\, 97221\, United States
CATEGORIES:Outdoors
ATTACH;FMTTYPE=image/jpeg:https://explorewashingtonpark.org/wp-content/uploads/2024/06/20220812-Zoo-Night.587.jpg
END:VEVENT
BEGIN:VEVENT
DTSTART;TZID=America/Los_Angeles:20240726T170000
DTEND;TZID=America/Los_Angeles:20240726T170000
DTSTAMP:20260422T060707
CREATED:20240619T000202Z
LAST-MODIFIED:20240619T002216Z
UID:10001594-1722013200-1722013200@explorewashingtonpark.org
SUMMARY:Zoo Nights
DESCRIPTION:Nothing says summer in Portland like a warm evening outdoors with good food and live entertainment. Over the course of 10 Friday’s from June to August\, the Oregon Zoo hosts Zoo Nights: evenings filled with local music\, food carts\, activities for all ages\, and the chance to get to know some of the animals active during twilight hours.
URL:https://explorewashingtonpark.org/event/zoo-nights-19/
LOCATION:Oregon Zoo\, 4001 SW Canyon Rd\, Portland\, OR\, 97221\, United States
CATEGORIES:Outdoors
ATTACH;FMTTYPE=image/jpeg:https://explorewashingtonpark.org/wp-content/uploads/2024/06/20220812-Zoo-Night.587.jpg
END:VEVENT
BEGIN:VEVENT
DTSTART;TZID=America/Los_Angeles:20240721T080000
DTEND;TZID=America/Los_Angeles:20240721T080000
DTSTAMP:20260422T060708
CREATED:20240619T000130Z
LAST-MODIFIED:20240620T222015Z
UID:10001587-1721548800-1721548800@explorewashingtonpark.org
SUMMARY:Early Member Mornings
DESCRIPTION:Delight in the sights and sounds of the animal kingdom an hour before the zoo opens to the public. This members-only opportunity is available on select Sundays this summer between 8 and 8:45 a.m.
URL:https://explorewashingtonpark.org/event/early-member-mornings-4/
LOCATION:Oregon Zoo\, 4001 SW Canyon Rd\, Portland\, OR\, 97221\, United States
ATTACH;FMTTYPE=image/jpeg:https://explorewashingtonpark.org/wp-content/uploads/2024/06/PJG_Spring_Pond_Photographer_web.jpg
END:VEVENT
BEGIN:VEVENT
DTSTART;TZID=America/Los_Angeles:20240719T170000
DTEND;TZID=America/Los_Angeles:20240719T170000
DTSTAMP:20260422T060708
CREATED:20240619T000021Z
LAST-MODIFIED:20240620T204257Z
UID:10001580-1721408400-1721408400@explorewashingtonpark.org
SUMMARY:Zoo Nights
DESCRIPTION:Nothing says summer in Portland like a warm evening outdoors with good food and live entertainment. Over the course of 10 Friday’s from June to August\, the Oregon Zoo hosts Zoo Nights: evenings filled with local music\, food carts\, activities for all ages\, and the chance to get to know some of the animals active during twilight hours.
URL:https://explorewashingtonpark.org/event/zoo-nights-18/
LOCATION:Oregon Zoo\, 4001 SW Canyon Rd\, Portland\, OR\, 97221\, United States
ATTACH;FMTTYPE=image/jpeg:https://explorewashingtonpark.org/wp-content/uploads/2024/06/20220812-Zoo-Night.587.jpg
END:VEVENT
BEGIN:VEVENT
DTSTART;TZID=America/Los_Angeles:20240712T170000
DTEND;TZID=America/Los_Angeles:20240712T170000
DTSTAMP:20260422T060708
CREATED:20240618T235838Z
LAST-MODIFIED:20240620T212804Z
UID:10001557-1720803600-1720803600@explorewashingtonpark.org
SUMMARY:Zoo Nights
DESCRIPTION:Nothing says summer in Portland like a warm evening outdoors with good food and live entertainment. Over the course of 10 Friday’s from June to August\, the Oregon Zoo hosts Zoo Nights: evenings filled with local music\, food carts\, activities for all ages\, and the chance to get to know some of the animals active during twilight hours.
URL:https://explorewashingtonpark.org/event/zoo-nights-17/
LOCATION:Oregon Zoo\, 4001 SW Canyon Rd\, Portland\, OR\, 97221\, United States
ATTACH;FMTTYPE=image/jpeg:https://explorewashingtonpark.org/wp-content/uploads/2024/06/20220812-Zoo-Night.587.jpg
END:VEVENT
BEGIN:VEVENT
DTSTART;TZID=America/Los_Angeles:20240707T080000
DTEND;TZID=America/Los_Angeles:20240707T080000
DTSTAMP:20260422T060708
CREATED:20240618T235800Z
LAST-MODIFIED:20240620T214931Z
UID:10001549-1720339200-1720339200@explorewashingtonpark.org
SUMMARY:Early Member Mornings
DESCRIPTION:Delight in the sights and sounds of the animal kingdom an hour before the zoo opens to the public. This members-only opportunity is available on select Sundays this summer between 8 and 8:45 a.m.
URL:https://explorewashingtonpark.org/event/early-member-mornings-3/
LOCATION:Oregon Zoo\, 4001 SW Canyon Rd\, Portland\, OR\, 97221\, United States
ATTACH;FMTTYPE=image/jpeg:https://explorewashingtonpark.org/wp-content/uploads/2024/06/PJG_Spring_Pond_Photographer_web.jpg
END:VEVENT
BEGIN:VEVENT
DTSTART;TZID=America/Los_Angeles:20240705T170000
DTEND;TZID=America/Los_Angeles:20240705T170000
DTSTAMP:20260422T060708
CREATED:20240618T235743Z
LAST-MODIFIED:20240620T215545Z
UID:10001543-1720198800-1720198800@explorewashingtonpark.org
SUMMARY:Zoo Nights
DESCRIPTION:Nothing says summer in Portland like a warm evening outdoors with good food and live entertainment. Over the course of 10 Friday’s from June to August\, the Oregon Zoo hosts Zoo Nights: evenings filled with local music\, food carts\, activities for all ages\, and the chance to get to know some of the animals active during twilight hours.
URL:https://explorewashingtonpark.org/event/zoo-nights-16/
LOCATION:Oregon Zoo\, 4001 SW Canyon Rd\, Portland\, OR\, 97221\, United States
CATEGORIES:Outdoors
ATTACH;FMTTYPE=image/jpeg:https://explorewashingtonpark.org/wp-content/uploads/2024/06/20220812-Zoo-Night.587.jpg
END:VEVENT
BEGIN:VEVENT
DTSTART;TZID=America/Los_Angeles:20240628T170000
DTEND;TZID=America/Los_Angeles:20240628T170000
DTSTAMP:20260422T060708
CREATED:20240522T235837Z
LAST-MODIFIED:20240523T002824Z
UID:10001508-1719594000-1719594000@explorewashingtonpark.org
SUMMARY:Zoo Nights
DESCRIPTION:Nothing says summer in Portland like a warm evening outdoors with good food and live entertainment. Over the course of 10 Friday’s from June to August\, the Oregon Zoo hosts Zoo Nights: evenings filled with local music\, food carts\, activities for all ages\, and the chance to get to know some of the animals active during twilight hours.
URL:https://explorewashingtonpark.org/event/zoo-nights-15/
LOCATION:Oregon Zoo\, 4001 SW Canyon Rd\, Portland\, OR\, 97221\, United States
CATEGORIES:Outdoors
ATTACH;FMTTYPE=image/png:https://explorewashingtonpark.org/wp-content/uploads/2022/05/Zoo20Summer-KJRXg7.tmp_-e1654026007924.png
END:VEVENT
BEGIN:VEVENT
DTSTART;TZID=America/Los_Angeles:20240622T070000
DTEND;TZID=America/Los_Angeles:20240622T070000
DTSTAMP:20260422T060708
CREATED:20240613T212344Z
LAST-MODIFIED:20240613T221256Z
UID:10001528-1719039600-1719039600@explorewashingtonpark.org
SUMMARY:Ovarian Cancer Alliance Walk
DESCRIPTION:This 1.5 mile walk around the Oregon Zoo is an opportunity for families\, survivors\, friends\, and supporters to come together for a common cause: raising awareness about ovarian cancer!
URL:https://explorewashingtonpark.org/event/ovarian-cancer-alliance-walk/
LOCATION:Oregon Zoo\, 4001 SW Canyon Rd\, Portland\, OR\, 97221\, United States
ATTACH;FMTTYPE=image/jpeg:https://explorewashingtonpark.org/wp-content/uploads/2024/05/1-16-19jh-275-scaled.jpg
END:VEVENT
BEGIN:VEVENT
DTSTART;TZID=America/Los_Angeles:20240621T170000
DTEND;TZID=America/Los_Angeles:20240621T170000
DTSTAMP:20260422T060708
CREATED:20240522T235807Z
LAST-MODIFIED:20240523T003556Z
UID:10001499-1718989200-1718989200@explorewashingtonpark.org
SUMMARY:Zoo Nights
DESCRIPTION:Nothing says summer in Portland like a warm evening outdoors with good food and live entertainment. Over the course of 10 Friday’s from June to August\, the Oregon Zoo hosts Zoo Nights: evenings filled with local music\, food carts\, activities for all ages\, and the chance to get to know some of the animals active during twilight hours.
URL:https://explorewashingtonpark.org/event/zoo-nights-14/
LOCATION:Oregon Zoo\, 4001 SW Canyon Rd\, Portland\, OR\, 97221\, United States
CATEGORIES:Outdoors
ATTACH;FMTTYPE=image/jpeg:https://explorewashingtonpark.org/wp-content/uploads/2022/11/6-18-2018el-103-2.jpg
END:VEVENT
BEGIN:VEVENT
DTSTART;TZID=America/Los_Angeles:20240616T080000
DTEND;TZID=America/Los_Angeles:20240616T080000
DTSTAMP:20260422T060708
CREATED:20240522T235800Z
LAST-MODIFIED:20240523T003918Z
UID:10001494-1718524800-1718524800@explorewashingtonpark.org
SUMMARY:Early Member Mornings
DESCRIPTION:Delight in the sights and sounds of the animal kingdom an hour before the zoo opens to the public. This members-only opportunity is available on select Sundays this summer between 8 and 8:45 a.m.
URL:https://explorewashingtonpark.org/event/early-member-mornings-2/
LOCATION:Oregon Zoo\, 4001 SW Canyon Rd\, Portland\, OR\, 97221\, United States
ATTACH;FMTTYPE=image/jpeg:https://explorewashingtonpark.org/wp-content/uploads/2022/11/1-16-19jh-275.jpg
END:VEVENT
BEGIN:VEVENT
DTSTART;TZID=America/Los_Angeles:20240608T180000
DTEND;TZID=America/Los_Angeles:20240608T180000
DTSTAMP:20260422T060708
CREATED:20240522T235722Z
LAST-MODIFIED:20240523T004539Z
UID:10001479-1717869600-1717869600@explorewashingtonpark.org
SUMMARY:Zoo Brew
DESCRIPTION:Zoo Brew\, presented by Alaska Airlines\, is back! Kick off summer with more than 50 of the best breweries and cideries the Northwest has to offer on June 7 and 8. Enjoy live music from Too Loose Cajun Band\, keeper chats\, lawn games and more!
URL:https://explorewashingtonpark.org/event/zoo-brew-4/
LOCATION:Oregon Zoo\, 4001 SW Canyon Rd\, Portland\, OR\, 97221\, United States
CATEGORIES:Outdoors
ATTACH;FMTTYPE=image/png:https://explorewashingtonpark.org/wp-content/uploads/2022/05/Zoo20Summer-KJRXg7.tmp_-e1654026007924.png
END:VEVENT
BEGIN:VEVENT
DTSTART;TZID=America/Los_Angeles:20240607T180000
DTEND;TZID=America/Los_Angeles:20240607T180000
DTSTAMP:20260422T060708
CREATED:20240522T235705Z
LAST-MODIFIED:20240523T004653Z
UID:10001476-1717783200-1717783200@explorewashingtonpark.org
SUMMARY:Zoo Brew
DESCRIPTION:Zoo Brew\, presented by Alaska Airlines\, is back! Kick off summer with more than 50 of the best breweries and cideries the Northwest has to offer on June 7 and 8. Enjoy live music from Too Loose Cajun Band\, keeper chats\, lawn games and more!
URL:https://explorewashingtonpark.org/event/zoo-brew-3/
LOCATION:Oregon Zoo\, 4001 SW Canyon Rd\, Portland\, OR\, 97221\, United States
CATEGORIES:Outdoors
ATTACH;FMTTYPE=image/png:https://explorewashingtonpark.org/wp-content/uploads/2022/05/Zoo20Summer-KJRXg7.tmp_-e1654026007924.png
END:VEVENT
BEGIN:VEVENT
DTSTART;TZID=America/Los_Angeles:20240602T080000
DTEND;TZID=America/Los_Angeles:20240602T080000
DTSTAMP:20260422T060708
CREATED:20240522T235631Z
LAST-MODIFIED:20240523T005155Z
UID:10001471-1717315200-1717315200@explorewashingtonpark.org
SUMMARY:Early Member Mornings
DESCRIPTION:Delight in the sights and sounds of the animal kingdom an hour before the zoo opens to the public. This members-only opportunity is available on select Sundays this summer between 8 and 8:45 a.m.
URL:https://explorewashingtonpark.org/event/early-member-mornings/
LOCATION:Oregon Zoo\, 4001 SW Canyon Rd\, Portland\, OR\, 97221\, United States
ATTACH;FMTTYPE=image/jpeg:https://explorewashingtonpark.org/wp-content/uploads/2022/11/3613Flm-913.jpg
END:VEVENT
BEGIN:VEVENT
DTSTART;TZID=America/Los_Angeles:20240421T093000
DTEND;TZID=America/Los_Angeles:20240421T093000
DTSTAMP:20260422T060708
CREATED:20240326T195016Z
LAST-MODIFIED:20240326T212206Z
UID:10001428-1713691800-1713691800@explorewashingtonpark.org
SUMMARY:Members Weekend
DESCRIPTION:
URL:https://explorewashingtonpark.org/event/members-weekend-2/
LOCATION:Oregon Zoo\, 4001 SW Canyon Rd\, Portland\, OR\, 97221\, United States
ATTACH;FMTTYPE=image/jpeg:https://explorewashingtonpark.org/wp-content/uploads/2022/11/62915g-272.jpg
END:VEVENT
BEGIN:VEVENT
DTSTART;TZID=America/Los_Angeles:20240420T093000
DTEND;TZID=America/Los_Angeles:20240420T093000
DTSTAMP:20260422T060708
CREATED:20240326T195016Z
LAST-MODIFIED:20240326T212718Z
UID:10001427-1713605400-1713605400@explorewashingtonpark.org
SUMMARY:Members Weekend
DESCRIPTION:
URL:https://explorewashingtonpark.org/event/members-weekend/
LOCATION:Oregon Zoo\, 4001 SW Canyon Rd\, Portland\, OR\, 97221\, United States
ATTACH;FMTTYPE=image/jpeg:https://explorewashingtonpark.org/wp-content/uploads/2022/11/1-16-19jh-275.jpg
END:VEVENT
BEGIN:VEVENT
DTSTART;TZID=America/Los_Angeles:20240330T093000
DTEND;TZID=America/Los_Angeles:20240330T093000
DTSTAMP:20260422T060708
CREATED:20240226T232617Z
LAST-MODIFIED:20240304T184034Z
UID:10001379-1711791000-1711791000@explorewashingtonpark.org
SUMMARY:Hop Into Spring
DESCRIPTION:Welcome spring with outdoor lawn games\, magic shows\, animal encounters\, and more at Hop into Spring! This is a celebration of the spring season geared toward the 10-and-under crowd. Activities will take place from 9:30 a.m. to 5 p.m. on Saturday\, March 30. Free with zoo admission.
URL:https://explorewashingtonpark.org/event/hop-into-spring-2/
LOCATION:Oregon Zoo\, 4001 SW Canyon Rd\, Portland\, OR\, 97221\, United States
ATTACH;FMTTYPE=image/jpeg:https://explorewashingtonpark.org/wp-content/uploads/2022/11/3613Flm-913.jpg
END:VEVENT
BEGIN:VEVENT
DTSTART;TZID=America/Los_Angeles:20240224T093000
DTEND;TZID=America/Los_Angeles:20240301T000000
DTSTAMP:20260422T060708
CREATED:20240212T191855Z
LAST-MODIFIED:20240212T194233Z
UID:10001337-1708767000-1709251200@explorewashingtonpark.org
SUMMARY:Winter Discount Days
DESCRIPTION:We invite you to connect with nature from Saturday\, Feb. 24 through Friday\, Mar. 1\, with $12 zoo admission.
URL:https://explorewashingtonpark.org/event/winter-discount-days/
LOCATION:Oregon Zoo\, 4001 SW Canyon Rd\, Portland\, OR\, 97221\, United States
CATEGORIES:Outdoors
ATTACH;FMTTYPE=image/jpeg:https://explorewashingtonpark.org/wp-content/uploads/2022/11/1-16-19jh-275.jpg
END:VEVENT
BEGIN:VEVENT
DTSTART;TZID=America/Los_Angeles:20240201T073000
DTEND;TZID=America/Los_Angeles:20240201T073000
DTSTAMP:20260422T060708
CREATED:20240212T191556Z
LAST-MODIFIED:20240215T002610Z
UID:10001305-1706772600-1706772600@explorewashingtonpark.org
SUMMARY:Metro Council Event
DESCRIPTION:Private Event
URL:https://explorewashingtonpark.org/event/metro-council-event-2/
LOCATION:Oregon Zoo\, 4001 SW Canyon Rd\, Portland\, OR\, 97221\, United States
END:VEVENT
BEGIN:VEVENT
DTSTART;TZID=America/Los_Angeles:20240107T163000
DTEND;TZID=America/Los_Angeles:20240107T163000
DTSTAMP:20260422T060708
CREATED:20231222T230351Z
LAST-MODIFIED:20240424T172406Z
UID:10001238-1704645000-1704645000@explorewashingtonpark.org
SUMMARY:Zoo Lights
DESCRIPTION:Kids and adults agree: it wouldn’t be the holidays in Portland without a visit to Zoo Lights. Enjoy an immersive and dazzling display of millions of lights!
URL:https://explorewashingtonpark.org/event/zoo-lights-62/
LOCATION:Oregon Zoo\, 4001 SW Canyon Rd\, Portland\, OR\, 97221\, United States
CATEGORIES:Outdoors
ATTACH;FMTTYPE=image/jpeg:https://explorewashingtonpark.org/wp-content/uploads/2022/10/12914zl-319-scaled.jpg
END:VEVENT
BEGIN:VEVENT
DTSTART;TZID=America/Los_Angeles:20240106T163000
DTEND;TZID=America/Los_Angeles:20240106T163000
DTSTAMP:20260422T060708
CREATED:20231222T230350Z
LAST-MODIFIED:20240424T172406Z
UID:10001237-1704558600-1704558600@explorewashingtonpark.org
SUMMARY:Zoo Lights
DESCRIPTION:Kids and adults agree: it wouldn’t be the holidays in Portland without a visit to Zoo Lights. Enjoy an immersive and dazzling display of millions of lights!
URL:https://explorewashingtonpark.org/event/zoo-lights-61/
LOCATION:Oregon Zoo\, 4001 SW Canyon Rd\, Portland\, OR\, 97221\, United States
CATEGORIES:Outdoors
ATTACH;FMTTYPE=image/jpeg:https://explorewashingtonpark.org/wp-content/uploads/2023/10/h-beavers-zoo-lights.jpg
END:VEVENT
BEGIN:VEVENT
DTSTART;TZID=America/Los_Angeles:20240105T163000
DTEND;TZID=America/Los_Angeles:20240105T163000
DTSTAMP:20260422T060708
CREATED:20231222T230349Z
LAST-MODIFIED:20240424T172405Z
UID:10001236-1704472200-1704472200@explorewashingtonpark.org
SUMMARY:Zoo Lights
DESCRIPTION:Kids and adults agree: it wouldn’t be the holidays in Portland without a visit to Zoo Lights. Enjoy an immersive and dazzling display of millions of lights!
URL:https://explorewashingtonpark.org/event/zoo-lights-60/
LOCATION:Oregon Zoo\, 4001 SW Canyon Rd\, Portland\, OR\, 97221\, United States
CATEGORIES:Outdoors
ATTACH;FMTTYPE=image/jpeg:https://explorewashingtonpark.org/wp-content/uploads/2023/10/h-family-selfie-zoo-lights.jpg
END:VEVENT
BEGIN:VEVENT
DTSTART;TZID=America/Los_Angeles:20240101T163000
DTEND;TZID=America/Los_Angeles:20240101T163000
DTSTAMP:20260422T060708
CREATED:20231222T230347Z
LAST-MODIFIED:20240424T172404Z
UID:10001235-1704126600-1704126600@explorewashingtonpark.org
SUMMARY:Zoo Lights
DESCRIPTION:Kids and adults agree: it wouldn’t be the holidays in Portland without a visit to Zoo Lights. Enjoy an immersive and dazzling display of millions of lights!
URL:https://explorewashingtonpark.org/event/zoo-lights-59/
LOCATION:Oregon Zoo\, 4001 SW Canyon Rd\, Portland\, OR\, 97221\, United States
CATEGORIES:Outdoors
ATTACH;FMTTYPE=image/jpeg:https://explorewashingtonpark.org/wp-content/uploads/2023/10/h-boy-hippo-zoo-lights.jpg
END:VEVENT
BEGIN:VEVENT
DTSTART;TZID=America/Los_Angeles:20231231T163000
DTEND;TZID=America/Los_Angeles:20231231T210000
DTSTAMP:20260422T060708
CREATED:20231018T164742Z
LAST-MODIFIED:20231018T194339Z
UID:10001172-1704040200-1704056400@explorewashingtonpark.org
SUMMARY:Zoo Lights
DESCRIPTION:Kids and adults agree: it wouldn’t be the holidays in Portland without a visit to Zoo Lights. Enjoy an immersive and dazzling display of millions of lights!
URL:https://explorewashingtonpark.org/event/zoo-lights-34/
LOCATION:Oregon Zoo\, 4001 SW Canyon Rd\, Portland\, OR\, 97221\, United States
CATEGORIES:Outdoors
ATTACH;FMTTYPE=image/jpeg:https://explorewashingtonpark.org/wp-content/uploads/2022/10/ZooLights-Family1.jpeg
END:VEVENT
BEGIN:VEVENT
DTSTART;TZID=America/Los_Angeles:20231230T163000
DTEND;TZID=America/Los_Angeles:20231230T210000
DTSTAMP:20260422T060708
CREATED:20231018T164742Z
LAST-MODIFIED:20231018T194315Z
UID:10001171-1703953800-1703970000@explorewashingtonpark.org
SUMMARY:Zoo Lights
DESCRIPTION:Kids and adults agree: it wouldn’t be the holidays in Portland without a visit to Zoo Lights. Enjoy an immersive and dazzling display of millions of lights!
URL:https://explorewashingtonpark.org/event/zoo-lights-33/
LOCATION:Oregon Zoo\, 4001 SW Canyon Rd\, Portland\, OR\, 97221\, United States
CATEGORIES:Outdoors
ATTACH;FMTTYPE=image/jpeg:https://explorewashingtonpark.org/wp-content/uploads/2022/10/ZooLights-Family1.jpeg
END:VEVENT
BEGIN:VEVENT
DTSTART;TZID=America/Los_Angeles:20231229T163000
DTEND;TZID=America/Los_Angeles:20231229T210000
DTSTAMP:20260422T060708
CREATED:20231018T164742Z
LAST-MODIFIED:20231018T194232Z
UID:10001170-1703867400-1703883600@explorewashingtonpark.org
SUMMARY:Zoo Lights
DESCRIPTION:Kids and adults agree: it wouldn’t be the holidays in Portland without a visit to Zoo Lights. Enjoy an immersive and dazzling display of millions of lights!
URL:https://explorewashingtonpark.org/event/zoo-lights-32/
LOCATION:Oregon Zoo\, 4001 SW Canyon Rd\, Portland\, OR\, 97221\, United States
CATEGORIES:Outdoors
ATTACH;FMTTYPE=image/jpeg:https://explorewashingtonpark.org/wp-content/uploads/2022/10/ZooLights-Train2.jpeg
END:VEVENT
BEGIN:VEVENT
DTSTART;TZID=America/Los_Angeles:20231228T163000
DTEND;TZID=America/Los_Angeles:20231228T210000
DTSTAMP:20260422T060708
CREATED:20231018T164742Z
LAST-MODIFIED:20231018T194159Z
UID:10001169-1703781000-1703797200@explorewashingtonpark.org
SUMMARY:Zoo Lights
DESCRIPTION:Kids and adults agree: it wouldn’t be the holidays in Portland without a visit to Zoo Lights. Enjoy an immersive and dazzling display of millions of lights!
URL:https://explorewashingtonpark.org/event/zoo-lights-31/
LOCATION:Oregon Zoo\, 4001 SW Canyon Rd\, Portland\, OR\, 97221\, United States
CATEGORIES:Outdoors
ATTACH;FMTTYPE=image/jpeg:https://explorewashingtonpark.org/wp-content/uploads/2022/10/11-12-2020zL-216.jpg
END:VEVENT
BEGIN:VEVENT
DTSTART;TZID=America/Los_Angeles:20231227T163000
DTEND;TZID=America/Los_Angeles:20231227T210000
DTSTAMP:20260422T060708
CREATED:20231018T164742Z
LAST-MODIFIED:20231018T194131Z
UID:10001168-1703694600-1703710800@explorewashingtonpark.org
SUMMARY:Zoo Lights
DESCRIPTION:Kids and adults agree: it wouldn’t be the holidays in Portland without a visit to Zoo Lights. Enjoy an immersive and dazzling display of millions of lights!
URL:https://explorewashingtonpark.org/event/zoo-lights-30/
LOCATION:Oregon Zoo\, 4001 SW Canyon Rd\, Portland\, OR\, 97221\, United States
CATEGORIES:Outdoors
ATTACH;FMTTYPE=image/jpeg:https://explorewashingtonpark.org/wp-content/uploads/2023/10/h-family-selfie-zoo-lights.jpg
END:VEVENT
BEGIN:VEVENT
DTSTART;TZID=America/Los_Angeles:20231226T163000
DTEND;TZID=America/Los_Angeles:20231226T210000
DTSTAMP:20260422T060708
CREATED:20231018T164541Z
LAST-MODIFIED:20231018T194114Z
UID:10001167-1703608200-1703624400@explorewashingtonpark.org
SUMMARY:Zoo Lights
DESCRIPTION:Kids and adults agree: it wouldn’t be the holidays in Portland without a visit to Zoo Lights. Enjoy an immersive and dazzling display of millions of lights!
URL:https://explorewashingtonpark.org/event/zoo-lights-29/
LOCATION:Oregon Zoo\, 4001 SW Canyon Rd\, Portland\, OR\, 97221\, United States
CATEGORIES:Outdoors
ATTACH;FMTTYPE=image/jpeg:https://explorewashingtonpark.org/wp-content/uploads/2023/10/h-boy-hippo-zoo-lights.jpg
END:VEVENT
BEGIN:VEVENT
DTSTART;TZID=America/Los_Angeles:20231224T163000
DTEND;TZID=America/Los_Angeles:20231224T220000
DTSTAMP:20260422T060708
CREATED:20231018T164541Z
LAST-MODIFIED:20231018T194053Z
UID:10001166-1703435400-1703455200@explorewashingtonpark.org
SUMMARY:Zoo Lights
DESCRIPTION:Kids and adults agree: it wouldn’t be the holidays in Portland without a visit to Zoo Lights. Enjoy an immersive and dazzling display of millions of lights!
URL:https://explorewashingtonpark.org/event/zoo-lights-28/
LOCATION:Oregon Zoo\, 4001 SW Canyon Rd\, Portland\, OR\, 97221\, United States
CATEGORIES:Outdoors
ATTACH;FMTTYPE=image/jpeg:https://explorewashingtonpark.org/wp-content/uploads/2022/10/H_Oregon-Zoo-ZooLight.jpg
END:VEVENT
END:VCALENDAR